| Back to Multiple platform build/check report for BioC 3.13 |
|
This page was generated on 2021-10-15 15:06:24 -0400 (Fri, 15 Oct 2021).
|
To the developers/maintainers of the SwimR package: - Please allow up to 24 hours (and sometimes 48 hours) for your latest push to git@git.bioconductor.org:packages/SwimR.git to reflect on this report. See How and When does the builder pull? When will my changes propagate? here for more information. - Make sure to use the following settings in order to reproduce any error or warning you see on this page. |
| Package 1880/2041 | Hostname | OS / Arch | INSTALL | BUILD | CHECK | BUILD BIN | ||||||||
| SwimR 1.30.0 (landing page) Randy Blakely
| nebbiolo1 | Linux (Ubuntu 20.04.2 LTS) / x86_64 | ERROR | ERROR | skipped | |||||||||
| tokay2 | Windows Server 2012 R2 Standard / x64 | ERROR | ERROR | skipped | skipped | |||||||||
| machv2 | macOS 10.14.6 Mojave / x86_64 | ERROR | ERROR | skipped | skipped | |||||||||
| Package: SwimR |
| Version: 1.30.0 |
| Command: C:\cygwin\bin\curl.exe -O http://155.52.207.165/BBS/3.13/bioc/src/contrib/SwimR_1.30.0.tar.gz && rm -rf SwimR.buildbin-libdir && mkdir SwimR.buildbin-libdir && C:\Users\biocbuild\bbs-3.13-bioc\R\bin\R.exe CMD INSTALL --merge-multiarch --build --library=SwimR.buildbin-libdir SwimR_1.30.0.tar.gz && C:\Users\biocbuild\bbs-3.13-bioc\R\bin\R.exe CMD INSTALL SwimR_1.30.0.zip && rm SwimR_1.30.0.tar.gz SwimR_1.30.0.zip |
| StartedAt: 2021-10-14 11:29:31 -0400 (Thu, 14 Oct 2021) |
| EndedAt: 2021-10-14 11:29:33 -0400 (Thu, 14 Oct 2021) |
| EllapsedTime: 2.1 seconds |
| RetCode: 1 |
| Status: ERROR |
##############################################################################
##############################################################################
###
### Running command:
###
### C:\cygwin\bin\curl.exe -O http://155.52.207.165/BBS/3.13/bioc/src/contrib/SwimR_1.30.0.tar.gz && rm -rf SwimR.buildbin-libdir && mkdir SwimR.buildbin-libdir && C:\Users\biocbuild\bbs-3.13-bioc\R\bin\R.exe CMD INSTALL --merge-multiarch --build --library=SwimR.buildbin-libdir SwimR_1.30.0.tar.gz && C:\Users\biocbuild\bbs-3.13-bioc\R\bin\R.exe CMD INSTALL SwimR_1.30.0.zip && rm SwimR_1.30.0.tar.gz SwimR_1.30.0.zip
###
##############################################################################
##############################################################################
% Total % Received % Xferd Average Speed Time Time Time Current
Dload Upload Total Spent Left Speed
0 0 0 0 0 0 0 0 --:--:-- --:--:-- --:--:-- 0
49 1637k 49 805k 0 0 1931k 0 --:--:-- --:--:-- --:--:-- 1931k
100 1637k 100 1637k 0 0 2528k 0 --:--:-- --:--:-- --:--:-- 2527k
install for i386
ERROR: dependency 'heatmap.plus' is not available for package 'SwimR'
* removing 'C:/Users/biocbuild/bbs-3.13-bioc/meat/SwimR.buildbin-libdir/SwimR'