| Back to Multiple platform build/check report for BioC 3.13 |
|
This page was generated on 2021-10-15 15:06:24 -0400 (Fri, 15 Oct 2021).
|
To the developers/maintainers of the SummarizedBenchmark package: - Please allow up to 24 hours (and sometimes 48 hours) for your latest push to git@git.bioconductor.org:packages/SummarizedBenchmark.git to reflect on this report. See How and When does the builder pull? When will my changes propagate? here for more information. - Make sure to use the following settings in order to reproduce any error or warning you see on this page. |
| Package 1868/2041 | Hostname | OS / Arch | INSTALL | BUILD | CHECK | BUILD BIN | ||||||||
| SummarizedBenchmark 2.10.0 (landing page) Patrick Kimes
| nebbiolo1 | Linux (Ubuntu 20.04.2 LTS) / x86_64 | OK | OK | WARNINGS | |||||||||
| tokay2 | Windows Server 2012 R2 Standard / x64 | OK | ERROR | skipped | skipped | |||||||||
| machv2 | macOS 10.14.6 Mojave / x86_64 | OK | ERROR | skipped | skipped | |||||||||
| Package: SummarizedBenchmark |
| Version: 2.10.0 |
| Command: C:\cygwin\bin\curl.exe -O http://155.52.207.165/BBS/3.13/bioc/src/contrib/SummarizedBenchmark_2.10.0.tar.gz && rm -rf SummarizedBenchmark.buildbin-libdir && mkdir SummarizedBenchmark.buildbin-libdir && C:\Users\biocbuild\bbs-3.13-bioc\R\bin\R.exe CMD INSTALL --merge-multiarch --build --library=SummarizedBenchmark.buildbin-libdir SummarizedBenchmark_2.10.0.tar.gz && C:\Users\biocbuild\bbs-3.13-bioc\R\bin\R.exe CMD INSTALL SummarizedBenchmark_2.10.0.zip && rm SummarizedBenchmark_2.10.0.tar.gz SummarizedBenchmark_2.10.0.zip |
| StartedAt: 2021-10-14 09:48:14 -0400 (Thu, 14 Oct 2021) |
| EndedAt: 2021-10-14 09:50:31 -0400 (Thu, 14 Oct 2021) |
| EllapsedTime: 136.4 seconds |
| RetCode: 0 |
| Status: OK |
##############################################################################
##############################################################################
###
### Running command:
###
### C:\cygwin\bin\curl.exe -O http://155.52.207.165/BBS/3.13/bioc/src/contrib/SummarizedBenchmark_2.10.0.tar.gz && rm -rf SummarizedBenchmark.buildbin-libdir && mkdir SummarizedBenchmark.buildbin-libdir && C:\Users\biocbuild\bbs-3.13-bioc\R\bin\R.exe CMD INSTALL --merge-multiarch --build --library=SummarizedBenchmark.buildbin-libdir SummarizedBenchmark_2.10.0.tar.gz && C:\Users\biocbuild\bbs-3.13-bioc\R\bin\R.exe CMD INSTALL SummarizedBenchmark_2.10.0.zip && rm SummarizedBenchmark_2.10.0.tar.gz SummarizedBenchmark_2.10.0.zip
###
##############################################################################
##############################################################################
% Total % Received % Xferd Average Speed Time Time Time Current
Dload Upload Total Spent Left Speed
0 0 0 0 0 0 0 0 --:--:-- --:--:-- --:--:-- 0
25 5647k 25 1431k 0 0 2530k 0 0:00:02 --:--:-- 0:00:02 2529k
100 5647k 100 5647k 0 0 3953k 0 0:00:01 0:00:01 --:--:-- 3957k
install for i386
* installing *source* package 'SummarizedBenchmark' ...
** using staged installation
** R
** data
*** moving datasets to lazyload DB
** inst
** byte-compile and prepare package for lazy loading
** help
*** installing help indices
converting help for package 'SummarizedBenchmark'
finding HTML links ... done
BDData-class html
BDData-setter html
BDData-show html
BDData html
BDMethod-class html
BDMethod-setter html
BDMethod-show html
BDMethod html
BDMethodList-class html
BDMethodList-setter html
BDMethodList-show html
BDMethodList html
BenchDesign-class html
BenchDesign-show html
BenchDesign html
SummarizedBenchmark-class html
finding level-2 HTML links ... done
SummarizedBenchmark html
addMethod html
addPerformanceMetric html
allSB html
assayNames-setter html
availableMetrics html
buildBench html
compareBDData html
compareBDMethod html
compareBenchDesigns html
dropMethod html
estimateMetrics html
expandMethod html
groundTruths-setter html
groundTruths html
hashBDData html
mcols-setter html
modifyMethod html
modmethod html
performanceMetrics-setter html
performanceMetrics html
plotMethodsOverlap html
plotROC html
printMethod html
sb html
tdat html
tidyBDMethod html
tidyUpMetrics html
updateBench html
*** copying figures
** building package indices
** installing vignettes
** testing if installed package can be loaded from temporary location
** testing if installed package can be loaded from final location
** testing if installed package keeps a record of temporary installation path
install for x64
* installing *source* package 'SummarizedBenchmark' ...
** testing if installed package can be loaded
* MD5 sums
packaged installation of 'SummarizedBenchmark' as SummarizedBenchmark_2.10.0.zip
* DONE (SummarizedBenchmark)
* installing to library 'C:/Users/biocbuild/bbs-3.13-bioc/R/library'
package 'SummarizedBenchmark' successfully unpacked and MD5 sums checked