| Back to Multiple platform build/check report for BioC 3.13 |
|
This page was generated on 2021-10-15 15:06:23 -0400 (Fri, 15 Oct 2021).
|
To the developers/maintainers of the SpectralTAD package: - Please allow up to 24 hours (and sometimes 48 hours) for your latest push to git@git.bioconductor.org:packages/SpectralTAD.git to reflect on this report. See How and When does the builder pull? When will my changes propagate? here for more information. - Make sure to use the following settings in order to reproduce any error or warning you see on this page. |
| Package 1821/2041 | Hostname | OS / Arch | INSTALL | BUILD | CHECK | BUILD BIN | ||||||||
| SpectralTAD 1.8.0 (landing page) Kellen Cresswell
| nebbiolo1 | Linux (Ubuntu 20.04.2 LTS) / x86_64 | OK | OK | OK | |||||||||
| tokay2 | Windows Server 2012 R2 Standard / x64 | OK | OK | OK | OK | |||||||||
| machv2 | macOS 10.14.6 Mojave / x86_64 | OK | OK | OK | OK | |||||||||
| Package: SpectralTAD |
| Version: 1.8.0 |
| Command: C:\Users\biocbuild\bbs-3.13-bioc\R\bin\R.exe CMD check --force-multiarch --install=check:SpectralTAD.install-out.txt --library=C:\Users\biocbuild\bbs-3.13-bioc\R\library --no-vignettes --timings SpectralTAD_1.8.0.tar.gz |
| StartedAt: 2021-10-15 06:03:17 -0400 (Fri, 15 Oct 2021) |
| EndedAt: 2021-10-15 06:07:03 -0400 (Fri, 15 Oct 2021) |
| EllapsedTime: 226.5 seconds |
| RetCode: 0 |
| Status: OK |
| CheckDir: SpectralTAD.Rcheck |
| Warnings: 0 |
##############################################################################
##############################################################################
###
### Running command:
###
### C:\Users\biocbuild\bbs-3.13-bioc\R\bin\R.exe CMD check --force-multiarch --install=check:SpectralTAD.install-out.txt --library=C:\Users\biocbuild\bbs-3.13-bioc\R\library --no-vignettes --timings SpectralTAD_1.8.0.tar.gz
###
##############################################################################
##############################################################################
* using log directory 'C:/Users/biocbuild/bbs-3.13-bioc/meat/SpectralTAD.Rcheck'
* using R version 4.1.1 (2021-08-10)
* using platform: x86_64-w64-mingw32 (64-bit)
* using session charset: ISO8859-1
* using option '--no-vignettes'
* checking for file 'SpectralTAD/DESCRIPTION' ... OK
* this is package 'SpectralTAD' version '1.8.0'
* package encoding: UTF-8
* checking package namespace information ... OK
* checking package dependencies ... OK
* checking if this is a source package ... OK
* checking if there is a namespace ... OK
* checking for hidden files and directories ... NOTE
Found the following hidden files and directories:
.travis.yml
These were most likely included in error. See section 'Package
structure' in the 'Writing R Extensions' manual.
* checking for portable file names ... OK
* checking whether package 'SpectralTAD' can be installed ... OK
* checking installed package size ... OK
* checking package directory ... OK
* checking 'build' directory ... OK
* checking DESCRIPTION meta-information ... OK
* checking top-level files ... OK
* checking for left-over files ... OK
* checking index information ... OK
* checking package subdirectories ... OK
* checking R files for non-ASCII characters ... OK
* checking R files for syntax errors ... OK
* loading checks for arch 'i386'
** checking whether the package can be loaded ... OK
** checking whether the package can be loaded with stated dependencies ... OK
** checking whether the package can be unloaded cleanly ... OK
** checking whether the namespace can be loaded with stated dependencies ... OK
** checking whether the namespace can be unloaded cleanly ... OK
* loading checks for arch 'x64'
** checking whether the package can be loaded ... OK
** checking whether the package can be loaded with stated dependencies ... OK
** checking whether the package can be unloaded cleanly ... OK
** checking whether the namespace can be loaded with stated dependencies ... OK
** checking whether the namespace can be unloaded cleanly ... OK
* checking dependencies in R code ... OK
* checking S3 generic/method consistency ... OK
* checking replacement functions ... OK
* checking foreign function calls ... OK
* checking R code for possible problems ... NOTE
.windowedSpec: no visible binding for global variable 'Group'
.windowedSpec: no visible binding for global variable 'group_place'
.windowedSpec: no visible binding for global variable 'ID'
.windowedSpec: no visible binding for global variable 'Sil_Score'
SpectralTAD: no visible binding for global variable 'end'
Undefined global functions or variables:
Group ID Sil_Score end group_place
Consider adding
importFrom("stats", "end")
to your NAMESPACE file.
* checking Rd files ... OK
* checking Rd metadata ... OK
* checking Rd cross-references ... OK
* checking for missing documentation entries ... OK
* checking for code/documentation mismatches ... OK
* checking Rd \usage sections ... OK
* checking Rd contents ... OK
* checking for unstated dependencies in examples ... OK
* checking contents of 'data' directory ... OK
* checking data for non-ASCII characters ... OK
* checking data for ASCII and uncompressed saves ... OK
* checking files in 'vignettes' ... OK
* checking examples ...
** running examples for arch 'i386' ... OK
Examples with CPU (user + system) or elapsed time > 5s
user system elapsed
SpectralTAD 11.32 0.95 12.81
SpectralTAD_Par 2.54 0.60 23.50
** running examples for arch 'x64' ... OK
Examples with CPU (user + system) or elapsed time > 5s
user system elapsed
SpectralTAD 11.19 0.58 16.30
SpectralTAD_Par 3.04 0.47 22.22
* checking for unstated dependencies in 'tests' ... OK
* checking tests ...
** running tests for arch 'i386' ...
Running 'testthat.R'
OK
** running tests for arch 'x64' ...
Running 'testthat.R'
OK
* checking for unstated dependencies in vignettes ... OK
* checking package vignettes in 'inst/doc' ... OK
* checking running R code from vignettes ... SKIPPED
* checking re-building of vignette outputs ... SKIPPED
* checking PDF version of manual ... OK
* DONE
Status: 2 NOTEs
See
'C:/Users/biocbuild/bbs-3.13-bioc/meat/SpectralTAD.Rcheck/00check.log'
for details.
SpectralTAD.Rcheck/00install.out
##############################################################################
##############################################################################
###
### Running command:
###
### C:\cygwin\bin\curl.exe -O http://155.52.207.165/BBS/3.13/bioc/src/contrib/SpectralTAD_1.8.0.tar.gz && rm -rf SpectralTAD.buildbin-libdir && mkdir SpectralTAD.buildbin-libdir && C:\Users\biocbuild\bbs-3.13-bioc\R\bin\R.exe CMD INSTALL --merge-multiarch --build --library=SpectralTAD.buildbin-libdir SpectralTAD_1.8.0.tar.gz && C:\Users\biocbuild\bbs-3.13-bioc\R\bin\R.exe CMD INSTALL SpectralTAD_1.8.0.zip && rm SpectralTAD_1.8.0.tar.gz SpectralTAD_1.8.0.zip
###
##############################################################################
##############################################################################
% Total % Received % Xferd Average Speed Time Time Time Current
Dload Upload Total Spent Left Speed
0 0 0 0 0 0 0 0 --:--:-- --:--:-- --:--:-- 0
3 1297k 3 49885 0 0 316k 0 0:00:04 --:--:-- 0:00:04 316k
100 1297k 100 1297k 0 0 2046k 0 --:--:-- --:--:-- --:--:-- 2046k
install for i386
* installing *source* package 'SpectralTAD' ...
** using staged installation
** R
** data
** inst
** byte-compile and prepare package for lazy loading
** help
*** installing help indices
converting help for package 'SpectralTAD'
finding HTML links ... done
SpectralTAD html
SpectralTAD_Par html
rao_chr20_25_rep html
** building package indices
** installing vignettes
** testing if installed package can be loaded from temporary location
** testing if installed package can be loaded from final location
** testing if installed package keeps a record of temporary installation path
install for x64
* installing *source* package 'SpectralTAD' ...
** testing if installed package can be loaded
* MD5 sums
packaged installation of 'SpectralTAD' as SpectralTAD_1.8.0.zip
* DONE (SpectralTAD)
* installing to library 'C:/Users/biocbuild/bbs-3.13-bioc/R/library'
package 'SpectralTAD' successfully unpacked and MD5 sums checked
|
SpectralTAD.Rcheck/tests_i386/testthat.Rout
R version 4.1.1 (2021-08-10) -- "Kick Things"
Copyright (C) 2021 The R Foundation for Statistical Computing
Platform: i386-w64-mingw32/i386 (32-bit)
R is free software and comes with ABSOLUTELY NO WARRANTY.
You are welcome to redistribute it under certain conditions.
Type 'license()' or 'licence()' for distribution details.
R is a collaborative project with many contributors.
Type 'contributors()' for more information and
'citation()' on how to cite R or R packages in publications.
Type 'demo()' for some demos, 'help()' for on-line help, or
'help.start()' for an HTML browser interface to help.
Type 'q()' to quit R.
> library(testthat)
> library(SpectralTAD)
>
> test_check("SpectralTAD")
[ FAIL 0 | WARN 12 | SKIP 0 | PASS 1 ]
>
> proc.time()
user system elapsed
12.98 1.34 14.31
|
SpectralTAD.Rcheck/tests_x64/testthat.Rout
R version 4.1.1 (2021-08-10) -- "Kick Things"
Copyright (C) 2021 The R Foundation for Statistical Computing
Platform: x86_64-w64-mingw32/x64 (64-bit)
R is free software and comes with ABSOLUTELY NO WARRANTY.
You are welcome to redistribute it under certain conditions.
Type 'license()' or 'licence()' for distribution details.
R is a collaborative project with many contributors.
Type 'contributors()' for more information and
'citation()' on how to cite R or R packages in publications.
Type 'demo()' for some demos, 'help()' for on-line help, or
'help.start()' for an HTML browser interface to help.
Type 'q()' to quit R.
> library(testthat)
> library(SpectralTAD)
>
> test_check("SpectralTAD")
[ FAIL 0 | WARN 12 | SKIP 0 | PASS 1 ]
>
> proc.time()
user system elapsed
13.95 0.70 14.64
|
|
SpectralTAD.Rcheck/examples_i386/SpectralTAD-Ex.timings
|
SpectralTAD.Rcheck/examples_x64/SpectralTAD-Ex.timings
|