| Back to Multiple platform build/check report for BioC 3.13 |
|
This page was generated on 2021-10-15 15:06:23 -0400 (Fri, 15 Oct 2021).
|
To the developers/maintainers of the SingleMoleculeFootprinting package: - Please allow up to 24 hours (and sometimes 48 hours) for your latest push to git@git.bioconductor.org:packages/SingleMoleculeFootprinting.git to reflect on this report. See How and When does the builder pull? When will my changes propagate? here for more information. - Make sure to use the following settings in order to reproduce any error or warning you see on this page. |
| Package 1779/2041 | Hostname | OS / Arch | INSTALL | BUILD | CHECK | BUILD BIN | ||||||||
| SingleMoleculeFootprinting 1.0.0 (landing page) Guido Barzaghi
| nebbiolo1 | Linux (Ubuntu 20.04.2 LTS) / x86_64 | OK | OK | OK | |||||||||
| tokay2 | Windows Server 2012 R2 Standard / x64 | OK | OK | OK | OK | |||||||||
| machv2 | macOS 10.14.6 Mojave / x86_64 | OK | OK | OK | OK | |||||||||
| Package: SingleMoleculeFootprinting |
| Version: 1.0.0 |
| Command: rm -rf SingleMoleculeFootprinting.buildbin-libdir && mkdir SingleMoleculeFootprinting.buildbin-libdir && C:\Users\biocbuild\bbs-3.13-bioc\R\bin\R.exe --arch x64 CMD INSTALL --no-multiarch --build --library=SingleMoleculeFootprinting.buildbin-libdir SingleMoleculeFootprinting_1.0.0.tar.gz |
| StartedAt: 2021-10-15 11:50:56 -0400 (Fri, 15 Oct 2021) |
| EndedAt: 2021-10-15 11:52:51 -0400 (Fri, 15 Oct 2021) |
| EllapsedTime: 114.8 seconds |
| RetCode: 0 |
| Status: OK |
| PackageFile: SingleMoleculeFootprinting_1.0.0.zip |
| PackageFileSize: 672.7 KiB |
##############################################################################
##############################################################################
###
### Running command:
###
### rm -rf SingleMoleculeFootprinting.buildbin-libdir && mkdir SingleMoleculeFootprinting.buildbin-libdir && C:\Users\biocbuild\bbs-3.13-bioc\R\bin\R.exe --arch x64 CMD INSTALL --no-multiarch --build --library=SingleMoleculeFootprinting.buildbin-libdir SingleMoleculeFootprinting_1.0.0.tar.gz
###
##############################################################################
##############################################################################
* installing *source* package 'SingleMoleculeFootprinting' ...
** using staged installation
** R
** inst
** byte-compile and prepare package for lazy loading
** help
*** installing help indices
converting help for package 'SingleMoleculeFootprinting'
finding HTML links ... done
BaitCapture html
BinMethylation html
CallContextMethylation html
CollapseStrands html
CollapseStrandsSM html
ConversionRate html
CoverageFilter html
DetectExperimentType html
FilterByConversionRate html
FilterContextCytosines html
FixOverhang html
GetQuasRprj html
GetSingleMolMethMat html
HierarchicalClustering html
OneTFstates html
PlotAvgSMF html
PlotSM html
PlotSingleMoleculeStack html
PlotSingleSiteSMF html
SampleCorrelation html
SingleTFStateQuantificationPlot html
SortReads html
SortReadsBySingleTF html
SortReadsByTFCluster html
StateQuantificationPlot html
TFPairStateQuantificationPlot html
TFpairStates html
** building package indices
** installing vignettes
** testing if installed package can be loaded from temporary location
** testing if installed package can be loaded from final location
** testing if installed package keeps a record of temporary installation path
* MD5 sums
packaged installation of 'SingleMoleculeFootprinting' as SingleMoleculeFootprinting_1.0.0.zip
* DONE (SingleMoleculeFootprinting)