Back to Multiple platform build/check report for BioC 3.13 |
|
This page was generated on 2021-10-15 15:06:22 -0400 (Fri, 15 Oct 2021).
To the developers/maintainers of the SeqVarTools package: - Please allow up to 24 hours (and sometimes 48 hours) for your latest push to git@git.bioconductor.org:packages/SeqVarTools.git to reflect on this report. See How and When does the builder pull? When will my changes propagate? here for more information. - Make sure to use the following settings in order to reproduce any error or warning you see on this page. |
Package 1744/2041 | Hostname | OS / Arch | INSTALL | BUILD | CHECK | BUILD BIN | ||||||||
SeqVarTools 1.30.0 (landing page) Stephanie M. Gogarten
| nebbiolo1 | Linux (Ubuntu 20.04.2 LTS) / x86_64 | OK | OK | OK | ![]() | ||||||||
tokay2 | Windows Server 2012 R2 Standard / x64 | OK | OK | OK | OK | ![]() | ||||||||
machv2 | macOS 10.14.6 Mojave / x86_64 | OK | OK | OK | OK | ![]() | ||||||||
Package: SeqVarTools |
Version: 1.30.0 |
Command: C:\Users\biocbuild\bbs-3.13-bioc\R\bin\R.exe CMD check --force-multiarch --install=check:SeqVarTools.install-out.txt --library=C:\Users\biocbuild\bbs-3.13-bioc\R\library --no-vignettes --timings SeqVarTools_1.30.0.tar.gz |
StartedAt: 2021-10-15 05:33:14 -0400 (Fri, 15 Oct 2021) |
EndedAt: 2021-10-15 05:41:50 -0400 (Fri, 15 Oct 2021) |
EllapsedTime: 516.4 seconds |
RetCode: 0 |
Status: OK |
CheckDir: SeqVarTools.Rcheck |
Warnings: 0 |
############################################################################## ############################################################################## ### ### Running command: ### ### C:\Users\biocbuild\bbs-3.13-bioc\R\bin\R.exe CMD check --force-multiarch --install=check:SeqVarTools.install-out.txt --library=C:\Users\biocbuild\bbs-3.13-bioc\R\library --no-vignettes --timings SeqVarTools_1.30.0.tar.gz ### ############################################################################## ############################################################################## * using log directory 'C:/Users/biocbuild/bbs-3.13-bioc/meat/SeqVarTools.Rcheck' * using R version 4.1.1 (2021-08-10) * using platform: x86_64-w64-mingw32 (64-bit) * using session charset: ISO8859-1 * using option '--no-vignettes' * checking for file 'SeqVarTools/DESCRIPTION' ... OK * checking extension type ... Package * this is package 'SeqVarTools' version '1.30.0' * checking package namespace information ... OK * checking package dependencies ... OK * checking if this is a source package ... OK * checking if there is a namespace ... OK * checking for hidden files and directories ... OK * checking for portable file names ... OK * checking whether package 'SeqVarTools' can be installed ... OK * checking installed package size ... OK * checking package directory ... OK * checking 'build' directory ... OK * checking DESCRIPTION meta-information ... OK * checking top-level files ... OK * checking for left-over files ... OK * checking index information ... OK * checking package subdirectories ... OK * checking R files for non-ASCII characters ... OK * checking R files for syntax errors ... OK * loading checks for arch 'i386' ** checking whether the package can be loaded ... OK ** checking whether the package can be loaded with stated dependencies ... OK ** checking whether the package can be unloaded cleanly ... OK ** checking whether the namespace can be loaded with stated dependencies ... OK ** checking whether the namespace can be unloaded cleanly ... OK * loading checks for arch 'x64' ** checking whether the package can be loaded ... OK ** checking whether the package can be loaded with stated dependencies ... OK ** checking whether the package can be unloaded cleanly ... OK ** checking whether the namespace can be loaded with stated dependencies ... OK ** checking whether the namespace can be unloaded cleanly ... OK * checking dependencies in R code ... OK * checking S3 generic/method consistency ... OK * checking replacement functions ... OK * checking foreign function calls ... OK * checking R code for possible problems ... OK * checking Rd files ... OK * checking Rd metadata ... OK * checking Rd cross-references ... OK * checking for missing documentation entries ... OK * checking for code/documentation mismatches ... OK * checking Rd \usage sections ... OK * checking Rd contents ... OK * checking for unstated dependencies in examples ... OK * checking contents of 'data' directory ... OK * checking data for non-ASCII characters ... OK * checking LazyData ... OK * checking data for ASCII and uncompressed saves ... OK * checking files in 'vignettes' ... OK * checking examples ... ** running examples for arch 'i386' ... OK Examples with CPU (user + system) or elapsed time > 5s user system elapsed imputedDosage 0.14 0.06 18.03 refFrac 0.08 0.00 27.18 ** running examples for arch 'x64' ... OK * checking for unstated dependencies in 'tests' ... OK * checking tests ... ** running tests for arch 'i386' ... Running 'test.R' OK ** running tests for arch 'x64' ... Running 'test.R' OK * checking for unstated dependencies in vignettes ... OK * checking package vignettes in 'inst/doc' ... OK * checking running R code from vignettes ... SKIPPED * checking re-building of vignette outputs ... SKIPPED * checking PDF version of manual ... OK * DONE Status: OK
SeqVarTools.Rcheck/00install.out
############################################################################## ############################################################################## ### ### Running command: ### ### C:\cygwin\bin\curl.exe -O http://155.52.207.165/BBS/3.13/bioc/src/contrib/SeqVarTools_1.30.0.tar.gz && rm -rf SeqVarTools.buildbin-libdir && mkdir SeqVarTools.buildbin-libdir && C:\Users\biocbuild\bbs-3.13-bioc\R\bin\R.exe CMD INSTALL --merge-multiarch --build --library=SeqVarTools.buildbin-libdir SeqVarTools_1.30.0.tar.gz && C:\Users\biocbuild\bbs-3.13-bioc\R\bin\R.exe CMD INSTALL SeqVarTools_1.30.0.zip && rm SeqVarTools_1.30.0.tar.gz SeqVarTools_1.30.0.zip ### ############################################################################## ############################################################################## % Total % Received % Xferd Average Speed Time Time Time Current Dload Upload Total Spent Left Speed 0 0 0 0 0 0 0 0 --:--:-- --:--:-- --:--:-- 0 100 529k 100 529k 0 0 1751k 0 --:--:-- --:--:-- --:--:-- 1758k install for i386 * installing *source* package 'SeqVarTools' ... ** using staged installation ** R ** data *** moving datasets to lazyload DB ** inst ** byte-compile and prepare package for lazy loading ** help *** installing help indices converting help for package 'SeqVarTools' finding HTML links ... done Iterator-class html finding level-2 HTML links ... done SeqVarData-class html SeqVarTools-package html allele-methods html alleleFrequency html alternateAlleleDetection html applyMethod html chromWithPAR html countSingletons html duplicateDiscordance html getGenotype html getVariableLengthData html heterozygosity html hwe html imputedDosage html inbreedCoeff html isSNV html isVariant html meanBySample html mendelErr html missingGenotypeRate html pca html pedigree html refFrac html regression html setVariantID html titv html variantInfo html ** building package indices ** installing vignettes ** testing if installed package can be loaded from temporary location ** testing if installed package can be loaded from final location ** testing if installed package keeps a record of temporary installation path install for x64 * installing *source* package 'SeqVarTools' ... ** testing if installed package can be loaded * MD5 sums packaged installation of 'SeqVarTools' as SeqVarTools_1.30.0.zip * DONE (SeqVarTools) * installing to library 'C:/Users/biocbuild/bbs-3.13-bioc/R/library' package 'SeqVarTools' successfully unpacked and MD5 sums checked
SeqVarTools.Rcheck/tests_i386/test.Rout R version 4.1.1 (2021-08-10) -- "Kick Things" Copyright (C) 2021 The R Foundation for Statistical Computing Platform: i386-w64-mingw32/i386 (32-bit) R is free software and comes with ABSOLUTELY NO WARRANTY. You are welcome to redistribute it under certain conditions. Type 'license()' or 'licence()' for distribution details. R is a collaborative project with many contributors. Type 'contributors()' for more information and 'citation()' on how to cite R or R packages in publications. Type 'demo()' for some demos, 'help()' for on-line help, or 'help.start()' for an HTML browser interface to help. Type 'q()' to quit R. > library(GenomicRanges) Loading required package: stats4 Loading required package: BiocGenerics Loading required package: parallel Attaching package: 'BiocGenerics' The following objects are masked from 'package:parallel': clusterApply, clusterApplyLB, clusterCall, clusterEvalQ, clusterExport, clusterMap, parApply, parCapply, parLapply, parLapplyLB, parRapply, parSapply, parSapplyLB The following objects are masked from 'package:stats': IQR, mad, sd, var, xtabs The following objects are masked from 'package:base': Filter, Find, Map, Position, Reduce, anyDuplicated, append, as.data.frame, basename, cbind, colnames, dirname, do.call, duplicated, eval, evalq, get, grep, grepl, intersect, is.unsorted, lapply, mapply, match, mget, order, paste, pmax, pmax.int, pmin, pmin.int, rank, rbind, rownames, sapply, setdiff, sort, table, tapply, union, unique, unsplit, which.max, which.min Loading required package: S4Vectors Attaching package: 'S4Vectors' The following objects are masked from 'package:base': I, expand.grid, unname Loading required package: IRanges Attaching package: 'IRanges' The following object is masked from 'package:grDevices': windows Loading required package: GenomeInfoDb > BiocGenerics:::testPackage("SeqVarTools") Loading required package: Biobase Welcome to Bioconductor Vignettes contain introductory material; view with 'browseVignettes()'. To cite Bioconductor, see 'citation("Biobase")', and for packages 'citation("pkgname")'. # of selected samples: 5 # of selected variants: 5 # of selected samples: 5 # of selected variants: 10 # of selected samples: 90 # of selected variants: 1,348 # of selected samples: 90 # of selected variants: 1,348 # of selected samples: 3 # of selected samples: 3 matching samples... 2 pairs identified! matching variants... 1346 non-overlapping variant matches identified! # of selected samples: 2 # of selected variants: 1,346 # of selected samples: 90 # of selected variants: 1,348 # of selected samples: 90 # of selected variants: 1,348 # of selected samples: 2 # of selected variants: 50 # of selected samples: 2 # of selected variants: 51 matching samples... 2 pairs identified! matching variants... 26 non-overlapping variant matches identified! # of selected variants: 26 # of selected samples: 90 # of selected variants: 1,348 # of selected samples: 5 # of selected variants: 10 # of selected samples: 5 # of selected variants: 10 File: C:\Users\biocbuild\bbs-3.13-bioc\R\library\SeqArray\extdata\CEU_Exon.gds (287.6K) + [ ] * |--+ description [ ] * |--+ sample.id { Str8 90 LZMA_ra(34.7%), 257B } * |--+ variant.id { Int32 1348 LZMA_ra(16.7%), 905B } * |--+ position { Int32 1348 LZMA_ra(64.4%), 3.4K } * |--+ chromosome { Str8 1348 LZMA_ra(4.39%), 157B } * |--+ allele { Str8 1348 LZMA_ra(16.6%), 901B } * |--+ genotype [ ] * | |--+ data { Bit2 2x90x1348 LZMA_ra(26.3%), 15.6K } * | |--+ ~data { Bit2 2x1348x90 LZMA_ra(29.2%), 17.3K } * | |--+ extra.index { Int32 3x0 LZMA_ra, 18B } * | \--+ extra { Int16 0 LZMA_ra, 18B } |--+ phase [ ] | |--+ data { Bit1 90x1348 LZMA_ra(0.86%), 137B } * | |--+ ~data { Bit1 1348x90 LZMA_ra(0.86%), 137B } * | |--+ extra.index { Int32 3x0 LZMA_ra, 18B } * | \--+ extra { Bit1 0 LZMA_ra, 18B } |--+ annotation [ ] | |--+ id { Str8 1348 LZMA_ra(38.3%), 5.5K } * | |--+ qual { Float32 1348 LZMA_ra(2.11%), 121B } * | |--+ filter { Int32,factor 1348 LZMA_ra(2.11%), 121B } * | |--+ info [ ] | | |--+ AA { Str8 1328 LZMA_ra(22.1%), 593B } * | | |--+ AC { Int32 1348 LZMA_ra(24.1%), 1.3K } * | | |--+ AN { Int32 1348 LZMA_ra(19.6%), 1.0K } * | | |--+ DP { Int32 1348 LZMA_ra(47.7%), 2.5K } * | | |--+ HM2 { Bit1 1348 LZMA_ra(145.6%), 253B } * | | |--+ HM3 { Bit1 1348 LZMA_ra(145.6%), 253B } * | | |--+ OR { Str8 1348 LZMA_ra(19.6%), 341B } * | | |--+ GP { Str8 1348 LZMA_ra(24.3%), 3.8K } * | | \--+ BN { Int32 1348 LZMA_ra(20.7%), 1.1K } * | \--+ format [ ] | \--+ DP [ ] * | |--+ data { VL_Int 90x1348 LZMA_ra(70.8%), 115.2K } * | \--+ ~data { VL_Int 1348x90 LZMA_ra(65.1%), 105.9K } * \--+ sample.annotation [ ] \--+ family { Str8 90 LZMA_ra(55.0%), 221B } * # of selected variants: 142 # of selected samples: 90 # of selected variants: 1,348 # of selected variants: 5 # of selected samples: 90 # of selected variants: 1,348 # of selected samples: 5 # of selected variants: 5 # of selected samples: 90 # of selected variants: 1,348 # of selected samples: 90 # of selected variants: 1,348 # of selected samples: 3 # of selected samples: 3 matching samples... 2 pairs identified! matching variants... 1346 variant matches identified! matching samples... 2 pairs identified! matching variants... 1346 variant matches identified! # of selected samples: 90 # of selected variants: 1,348 # of selected samples: 90 # of selected variants: 1,348 # of selected samples: 2 # of selected variants: 50 # of selected samples: 2 # of selected variants: 51 matching samples... 2 pairs identified! matching variants... 26 variant matches identified! matching samples... 2 pairs identified! matching variants... 26 variant matches identified! # of selected variants: 26 # of selected samples: 90 # of selected variants: 1,348 # of selected samples: 90 # of selected variants: 1,348 # of selected samples: 3 # of selected samples: 3 matching samples... 2 pairs identified! matching variants... 1346 variant matches identified! matching samples... 2 pairs identified! matching variants... 1346 variant matches identified! matching samples... 2 pairs identified! matching variants... 1346 variant matches identified! matching samples... 2 pairs identified! matching variants... 1346 variant matches identified! # of selected samples: 90 # of selected variants: 1,348 # of selected samples: 90 # of selected variants: 1,348 # of selected samples: 2 # of selected variants: 50 # of selected samples: 2 # of selected variants: 51 matching samples... 2 pairs identified! matching variants... 26 variant matches identified! matching samples... 2 pairs identified! matching variants... 26 variant matches identified! # of selected variants: 26 Warning in SeqVarTools:::.samplePairs1(samples) : More than two samples for subject 4 Selecting first two samples: samp7, samp8 # of selected samples: 5 # of selected variants: 10 # of selected samples: 5 # of selected variants: 10 # of selected samples: 5 # of selected variants: 10 # of selected samples: 5 # of selected variants: 10 # of selected samples: 5 # of selected variants: 10 # of selected samples: 90 # of selected variants: 1,348 # of selected samples: 5 # of selected variants: 10 # of selected samples: 5 # of selected variants: 10 # of selected samples: 5 # of selected variants: 10 # of selected samples: 90 # of selected variants: 1,348 # of selected samples: 5 # of selected variants: 10 # of selected samples: 5 # of selected variants: 10 # of selected variants: 1,346 # of selected variants: 1,330 # of selected samples: 5 # of selected variants: 10 # of selected samples: 90 # of selected variants: 1,348 # of selected samples: 5 # of selected variants: 10 # of selected samples: 5 # of selected variants: 10 # of selected samples: 5 # of selected variants: 10 # of selected samples: 90 # of selected variants: 1,348 # of selected samples: 5 # of selected variants: 10 # of selected samples: 3 # of selected variants: 10 # of selected samples: 3 # of selected samples: 90 # of selected variants: 1,348 # of selected variants: 10 # of selected samples: 3 # of selected samples: 5 # of selected variants: 10 # of selected samples: 90 # of selected variants: 1,348 # of selected samples: 5 # of selected variants: 10 # of selected samples: 5 # of selected variants: 10 starting worker pid=46872 on localhost:11583 at 05:37:27.356 starting worker pid=932 on localhost:11583 at 05:37:27.372 starting worker pid=13288 on localhost:11583 at 05:37:27.372 starting worker pid=12824 on localhost:11583 at 05:37:27.388 starting worker pid=16752 on localhost:11583 at 05:37:27.388 starting worker pid=12584 on localhost:11583 at 05:37:27.388 starting worker pid=42028 on localhost:11583 at 05:37:27.419 starting worker pid=37188 on localhost:11583 at 05:37:27.435 starting worker pid=14608 on localhost:11583 at 05:37:27.435 starting worker pid=13280 on localhost:11583 at 05:37:27.435 starting worker pid=12392 on localhost:11583 at 05:37:27.435 starting worker pid=27060 on localhost:11583 at 05:37:27.435 starting worker pid=34644 on localhost:11583 at 05:37:27.435 starting worker pid=26940 on localhost:11583 at 05:37:27.435 starting worker pid=40408 on localhost:11583 at 05:37:27.450 starting worker pid=28240 on localhost:11583 at 05:37:27.450 starting worker pid=40440 on localhost:11583 at 05:37:27.450 starting worker pid=42164 on localhost:11583 at 05:37:27.450 starting worker pid=49068 on localhost:11583 at 05:37:27.481 starting worker pid=35084 on localhost:11583 at 05:37:27.481 starting worker pid=14304 on localhost:11583 at 05:37:27.497 starting worker pid=41048 on localhost:11583 at 05:37:27.497 starting worker pid=31772 on localhost:11583 at 05:37:27.497 starting worker pid=7760 on localhost:11583 at 05:37:27.497 starting worker pid=37968 on localhost:11583 at 05:37:27.497 starting worker pid=4180 on localhost:11583 at 05:37:27.497 starting worker pid=19764 on localhost:11583 at 05:37:27.497 starting worker pid=3924 on localhost:11583 at 05:37:27.513 starting worker pid=53648 on localhost:11583 at 05:37:27.528 starting worker pid=46860 on localhost:11583 at 05:37:27.528 starting worker pid=37748 on localhost:11583 at 05:37:27.544 starting worker pid=35020 on localhost:11583 at 05:37:27.544 starting worker pid=41244 on localhost:11583 at 05:37:27.560 starting worker pid=30084 on localhost:11583 at 05:37:27.575 starting worker pid=43388 on localhost:11583 at 05:37:27.591 starting worker pid=37984 on localhost:11583 at 05:37:27.591 starting worker pid=25400 on localhost:11583 at 05:37:27.606 starting worker pid=42116 on localhost:11583 at 05:37:27.622 starting worker pid=29120 on localhost:11583 at 05:37:27.622 starting worker pid=33304 on localhost:11583 at 05:37:36.419 starting worker pid=4284 on localhost:11583 at 05:37:36.435 starting worker pid=26412 on localhost:11583 at 05:37:36.482 starting worker pid=25100 on localhost:11583 at 05:37:36.513 starting worker pid=34092 on localhost:11583 at 05:37:36.513 starting worker pid=27284 on localhost:11583 at 05:37:36.528 starting worker pid=44544 on localhost:11583 at 05:37:36.528 starting worker pid=39592 on localhost:11583 at 05:37:36.528 starting worker pid=36932 on localhost:11583 at 05:37:36.544 starting worker pid=48172 on localhost:11583 at 05:37:36.544 starting worker pid=39524 on localhost:11583 at 05:37:36.575 starting worker pid=26516 on localhost:11583 at 05:37:36.575 starting worker pid=13824 on localhost:11583 at 05:37:36.575 starting worker pid=11192 on localhost:11583 at 05:37:36.575 starting worker pid=41648 on localhost:11583 at 05:37:36.575 starting worker pid=35932 on localhost:11583 at 05:37:36.591 starting worker pid=31016 on localhost:11583 at 05:37:36.591 starting worker pid=39948 on localhost:11583 at 05:37:36.591 starting worker pid=25988 on localhost:11583 at 05:37:36.591 starting worker pid=46832 on localhost:11583 at 05:37:36.607 starting worker pid=43428 on localhost:11583 at 05:37:36.607 starting worker pid=10400 on localhost:11583 at 05:37:36.607 starting worker pid=23056 on localhost:11583 at 05:37:36.622 starting worker pid=43928 on localhost:11583 at 05:37:36.622 starting worker pid=19512 on localhost:11583 at 05:37:36.622 starting worker pid=12820 on localhost:11583 at 05:37:36.638 starting worker pid=20036 on localhost:11583 at 05:37:36.638 starting worker pid=30648 on localhost:11583 at 05:37:36.638 starting worker pid=25320 on localhost:11583 at 05:37:36.638 starting worker pid=52960 on localhost:11583 at 05:37:36.638 starting worker pid=40184 on localhost:11583 at 05:37:36.653 starting worker pid=22224 on localhost:11583 at 05:37:36.653 starting worker pid=42500 on localhost:11583 at 05:37:36.653 starting worker pid=34532 on localhost:11583 at 05:37:36.669 starting worker pid=44248 on localhost:11583 at 05:37:36.669 starting worker pid=44036 on localhost:11583 at 05:37:36.669 starting worker pid=20360 on localhost:11583 at 05:37:36.685 starting worker pid=22748 on localhost:11583 at 05:37:36.685 starting worker pid=31420 on localhost:11583 at 05:37:36.685 starting worker pid=16988 on localhost:11583 at 05:37:51.591 starting worker pid=38340 on localhost:11583 at 05:37:51.607 starting worker pid=53948 on localhost:11583 at 05:37:51.653 starting worker pid=41420 on localhost:11583 at 05:37:51.669 starting worker pid=15608 on localhost:11583 at 05:37:51.700 starting worker pid=34056 on localhost:11583 at 05:37:51.716 starting worker pid=29172 on localhost:11583 at 05:37:51.716 starting worker pid=14872 on localhost:11583 at 05:37:51.716 starting worker pid=40584 on localhost:11583 at 05:37:51.716 starting worker pid=35088 on localhost:11583 at 05:37:51.732 starting worker pid=44908 on localhost:11583 at 05:37:51.732 starting worker pid=42024 on localhost:11583 at 05:37:51.732 starting worker pid=40696 on localhost:11583 at 05:37:51.732 starting worker pid=14448 on localhost:11583 at 05:37:51.732 starting worker pid=22396 on localhost:11583 at 05:37:51.747 starting worker pid=37652 on localhost:11583 at 05:37:51.747 starting worker pid=25860 on localhost:11583 at 05:37:51.747 starting worker pid=43780 on localhost:11583 at 05:37:51.747 starting worker pid=38228 on localhost:11583 at 05:37:51.747 starting worker pid=48776 on localhost:11583 at 05:37:51.747 starting worker pid=52924 on localhost:11583 at 05:37:51.747 starting worker pid=33728 on localhost:11583 at 05:37:51.763 starting worker pid=41200 on localhost:11583 at 05:37:51.763 starting worker pid=43324 on localhost:11583 at 05:37:51.763 starting worker pid=46768 on localhost:11583 at 05:37:51.763 starting worker pid=36844 on localhost:11583 at 05:37:51.763 starting worker pid=31264 on localhost:11583 at 05:37:51.778 starting worker pid=37244 on localhost:11583 at 05:37:51.778 starting worker pid=40072 on localhost:11583 at 05:37:51.778 starting worker pid=50056 on localhost:11583 at 05:37:51.778 starting worker pid=49384 on localhost:11583 at 05:37:51.794 starting worker pid=49852 on localhost:11583 at 05:37:51.794 starting worker pid=45932 on localhost:11583 at 05:37:51.794 starting worker pid=15820 on localhost:11583 at 05:37:51.810 starting worker pid=44136 on localhost:11583 at 05:37:51.810 starting worker pid=27972 on localhost:11583 at 05:37:51.810 starting worker pid=11152 on localhost:11583 at 05:37:51.810 starting worker pid=42828 on localhost:11583 at 05:37:51.825 starting worker pid=44236 on localhost:11583 at 05:37:51.825 starting worker pid=31532 on localhost:11583 at 05:38:00.997 starting worker pid=25516 on localhost:11583 at 05:38:00.997 starting worker pid=15952 on localhost:11583 at 05:38:01.029 starting worker pid=14740 on localhost:11583 at 05:38:01.044 starting worker pid=40396 on localhost:11583 at 05:38:01.044 starting worker pid=15160 on localhost:11583 at 05:38:01.044 starting worker pid=42960 on localhost:11583 at 05:38:01.044 starting worker pid=15332 on localhost:11583 at 05:38:01.044 starting worker pid=47736 on localhost:11583 at 05:38:01.044 starting worker pid=36512 on localhost:11583 at 05:38:01.044 starting worker pid=38184 on localhost:11583 at 05:38:01.060 starting worker pid=49952 on localhost:11583 at 05:38:01.060 starting worker pid=50632 on localhost:11583 at 05:38:01.060 starting worker pid=38188 on localhost:11583 at 05:38:01.060 starting worker pid=36216 on localhost:11583 at 05:38:01.060 starting worker pid=38564 on localhost:11583 at 05:38:01.060 starting worker pid=52612 on localhost:11583 at 05:38:01.075 starting worker pid=35016 on localhost:11583 at 05:38:01.075 starting worker pid=30300 on localhost:11583 at 05:38:01.075 starting worker pid=27916 on localhost:11583 at 05:38:01.075 starting worker pid=43400 on localhost:11583 at 05:38:01.075 starting worker pid=42844 on localhost:11583 at 05:38:01.075 starting worker pid=28532 on localhost:11583 at 05:38:01.091 starting worker pid=43624 on localhost:11583 at 05:38:01.091 starting worker pid=29952 on localhost:11583 at 05:38:01.091 starting worker pid=16872 on localhost:11583 at 05:38:01.091 starting worker pid=22588 on localhost:11583 at 05:38:01.107 starting worker pid=17016 on localhost:11583 at 05:38:01.107 starting worker pid=42660 on localhost:11583 at 05:38:01.107 starting worker pid=42644 on localhost:11583 at 05:38:01.122 starting worker pid=39652 on localhost:11583 at 05:38:01.122 starting worker pid=20632 on localhost:11583 at 05:38:01.122 starting worker pid=27528 on localhost:11583 at 05:38:01.122 starting worker pid=21612 on localhost:11583 at 05:38:01.122 starting worker pid=41888 on localhost:11583 at 05:38:01.154 starting worker pid=24908 on localhost:11583 at 05:38:01.169 starting worker pid=48984 on localhost:11583 at 05:38:01.169 starting worker pid=8592 on localhost:11583 at 05:38:01.169 starting worker pid=29356 on localhost:11583 at 05:38:01.216 starting worker pid=18252 on localhost:11583 at 05:38:15.451 starting worker pid=34376 on localhost:11583 at 05:38:15.466 starting worker pid=17548 on localhost:11583 at 05:38:15.497 starting worker pid=23000 on localhost:11583 at 05:38:15.513 starting worker pid=12376 on localhost:11583 at 05:38:15.513 starting worker pid=18120 on localhost:11583 at 05:38:15.513 starting worker pid=39340 on localhost:11583 at 05:38:15.513 starting worker pid=47340 on localhost:11583 at 05:38:15.529 starting worker pid=26808 on localhost:11583 at 05:38:15.544 starting worker pid=18948 on localhost:11583 at 05:38:15.544 starting worker pid=26968 on localhost:11583 at 05:38:15.544 starting worker pid=30608 on localhost:11583 at 05:38:15.560 starting worker pid=16756 on localhost:11583 at 05:38:15.560 starting worker pid=27216 on localhost:11583 at 05:38:15.560 starting worker pid=43504 on localhost:11583 at 05:38:15.576 starting worker pid=41424 on localhost:11583 at 05:38:15.576 starting worker pid=11368 on localhost:11583 at 05:38:15.576 starting worker pid=33088 on localhost:11583 at 05:38:15.576 starting worker pid=40704 on localhost:11583 at 05:38:15.576 starting worker pid=30896 on localhost:11583 at 05:38:15.591 starting worker pid=23696 on localhost:11583 at 05:38:15.591 starting worker pid=41712 on localhost:11583 at 05:38:15.607 starting worker pid=46824 on localhost:11583 at 05:38:15.607 starting worker pid=43456 on localhost:11583 at 05:38:15.607 starting worker pid=34636 on localhost:11583 at 05:38:15.607 starting worker pid=34668 on localhost:11583 at 05:38:15.607 starting worker pid=52432 on localhost:11583 at 05:38:15.607 starting worker pid=37884 on localhost:11583 at 05:38:15.607 starting worker pid=39636 on localhost:11583 at 05:38:15.607 starting worker pid=12876 on localhost:11583 at 05:38:15.607 starting worker pid=39532 on localhost:11583 at 05:38:15.622 starting worker pid=53924 on localhost:11583 at 05:38:15.622 starting worker pid=40096 on localhost:11583 at 05:38:15.622 starting worker pid=26224 on localhost:11583 at 05:38:15.638 starting worker pid=33212 on localhost:11583 at 05:38:15.638 starting worker pid=38524 on localhost:11583 at 05:38:15.654 starting worker pid=15452 on localhost:11583 at 05:38:15.654 starting worker pid=8996 on localhost:11583 at 05:38:15.669 starting worker pid=38148 on localhost:11583 at 05:38:15.701 # of selected samples: 5 # of selected variants: 10 # of selected samples: 90 # of selected variants: 1,348 # of selected samples: 5 # of selected variants: 10 # of selected variants: 903 # of selected samples: 59 # of selected samples: 58 # of selected samples: 32 # of selected samples: 5 # of selected variants: 10 # of selected samples: 90 # of selected variants: 1,348 # of selected samples: 5 # of selected variants: 10 # of selected samples: 5 # of selected variants: 10 # of selected samples: 90 # of selected variants: 1,348 # of selected samples: 5 # of selected variants: 10 # of selected samples: 10 # of selected samples: 10 # of selected variants: 10 # of selected samples: 10 RUNIT TEST PROTOCOL -- Fri Oct 15 05:38:35 2021 *********************************************** Number of test functions: 152 Number of errors: 0 Number of failures: 0 1 Test Suite : SeqVarTools RUnit Tests - 152 test functions, 0 errors, 0 failures Number of test functions: 152 Number of errors: 0 Number of failures: 0 > > proc.time() user system elapsed 26.98 1.90 90.60 |
SeqVarTools.Rcheck/tests_x64/test.Rout R version 4.1.1 (2021-08-10) -- "Kick Things" Copyright (C) 2021 The R Foundation for Statistical Computing Platform: x86_64-w64-mingw32/x64 (64-bit) R is free software and comes with ABSOLUTELY NO WARRANTY. You are welcome to redistribute it under certain conditions. Type 'license()' or 'licence()' for distribution details. R is a collaborative project with many contributors. Type 'contributors()' for more information and 'citation()' on how to cite R or R packages in publications. Type 'demo()' for some demos, 'help()' for on-line help, or 'help.start()' for an HTML browser interface to help. Type 'q()' to quit R. > library(GenomicRanges) Loading required package: stats4 Loading required package: BiocGenerics Loading required package: parallel Attaching package: 'BiocGenerics' The following objects are masked from 'package:parallel': clusterApply, clusterApplyLB, clusterCall, clusterEvalQ, clusterExport, clusterMap, parApply, parCapply, parLapply, parLapplyLB, parRapply, parSapply, parSapplyLB The following objects are masked from 'package:stats': IQR, mad, sd, var, xtabs The following objects are masked from 'package:base': Filter, Find, Map, Position, Reduce, anyDuplicated, append, as.data.frame, basename, cbind, colnames, dirname, do.call, duplicated, eval, evalq, get, grep, grepl, intersect, is.unsorted, lapply, mapply, match, mget, order, paste, pmax, pmax.int, pmin, pmin.int, rank, rbind, rownames, sapply, setdiff, sort, table, tapply, union, unique, unsplit, which.max, which.min Loading required package: S4Vectors Attaching package: 'S4Vectors' The following objects are masked from 'package:base': I, expand.grid, unname Loading required package: IRanges Attaching package: 'IRanges' The following object is masked from 'package:grDevices': windows Loading required package: GenomeInfoDb > BiocGenerics:::testPackage("SeqVarTools") Loading required package: Biobase Welcome to Bioconductor Vignettes contain introductory material; view with 'browseVignettes()'. To cite Bioconductor, see 'citation("Biobase")', and for packages 'citation("pkgname")'. # of selected samples: 5 # of selected variants: 5 # of selected samples: 5 # of selected variants: 10 # of selected samples: 90 # of selected variants: 1,348 # of selected samples: 90 # of selected variants: 1,348 # of selected samples: 3 # of selected samples: 3 matching samples... 2 pairs identified! matching variants... 1346 non-overlapping variant matches identified! # of selected samples: 2 # of selected variants: 1,346 # of selected samples: 90 # of selected variants: 1,348 # of selected samples: 90 # of selected variants: 1,348 # of selected samples: 2 # of selected variants: 50 # of selected samples: 2 # of selected variants: 51 matching samples... 2 pairs identified! matching variants... 26 non-overlapping variant matches identified! # of selected variants: 26 # of selected samples: 90 # of selected variants: 1,348 # of selected samples: 5 # of selected variants: 10 # of selected samples: 5 # of selected variants: 10 File: C:\Users\biocbuild\bbs-3.13-bioc\R\library\SeqArray\extdata\CEU_Exon.gds (287.6K) + [ ] * |--+ description [ ] * |--+ sample.id { Str8 90 LZMA_ra(34.7%), 257B } * |--+ variant.id { Int32 1348 LZMA_ra(16.7%), 905B } * |--+ position { Int32 1348 LZMA_ra(64.4%), 3.4K } * |--+ chromosome { Str8 1348 LZMA_ra(4.39%), 157B } * |--+ allele { Str8 1348 LZMA_ra(16.6%), 901B } * |--+ genotype [ ] * | |--+ data { Bit2 2x90x1348 LZMA_ra(26.3%), 15.6K } * | |--+ ~data { Bit2 2x1348x90 LZMA_ra(29.2%), 17.3K } * | |--+ extra.index { Int32 3x0 LZMA_ra, 18B } * | \--+ extra { Int16 0 LZMA_ra, 18B } |--+ phase [ ] | |--+ data { Bit1 90x1348 LZMA_ra(0.86%), 137B } * | |--+ ~data { Bit1 1348x90 LZMA_ra(0.86%), 137B } * | |--+ extra.index { Int32 3x0 LZMA_ra, 18B } * | \--+ extra { Bit1 0 LZMA_ra, 18B } |--+ annotation [ ] | |--+ id { Str8 1348 LZMA_ra(38.3%), 5.5K } * | |--+ qual { Float32 1348 LZMA_ra(2.11%), 121B } * | |--+ filter { Int32,factor 1348 LZMA_ra(2.11%), 121B } * | |--+ info [ ] | | |--+ AA { Str8 1328 LZMA_ra(22.1%), 593B } * | | |--+ AC { Int32 1348 LZMA_ra(24.1%), 1.3K } * | | |--+ AN { Int32 1348 LZMA_ra(19.6%), 1.0K } * | | |--+ DP { Int32 1348 LZMA_ra(47.7%), 2.5K } * | | |--+ HM2 { Bit1 1348 LZMA_ra(145.6%), 253B } * | | |--+ HM3 { Bit1 1348 LZMA_ra(145.6%), 253B } * | | |--+ OR { Str8 1348 LZMA_ra(19.6%), 341B } * | | |--+ GP { Str8 1348 LZMA_ra(24.3%), 3.8K } * | | \--+ BN { Int32 1348 LZMA_ra(20.7%), 1.1K } * | \--+ format [ ] | \--+ DP [ ] * | |--+ data { VL_Int 90x1348 LZMA_ra(70.8%), 115.2K } * | \--+ ~data { VL_Int 1348x90 LZMA_ra(65.1%), 105.9K } * \--+ sample.annotation [ ] \--+ family { Str8 90 LZMA_ra(55.0%), 221B } * # of selected variants: 142 # of selected samples: 90 # of selected variants: 1,348 # of selected variants: 5 # of selected samples: 90 # of selected variants: 1,348 # of selected samples: 5 # of selected variants: 5 # of selected samples: 90 # of selected variants: 1,348 # of selected samples: 90 # of selected variants: 1,348 # of selected samples: 3 # of selected samples: 3 matching samples... 2 pairs identified! matching variants... 1346 variant matches identified! matching samples... 2 pairs identified! matching variants... 1346 variant matches identified! # of selected samples: 90 # of selected variants: 1,348 # of selected samples: 90 # of selected variants: 1,348 # of selected samples: 2 # of selected variants: 50 # of selected samples: 2 # of selected variants: 51 matching samples... 2 pairs identified! matching variants... 26 variant matches identified! matching samples... 2 pairs identified! matching variants... 26 variant matches identified! # of selected variants: 26 # of selected samples: 90 # of selected variants: 1,348 # of selected samples: 90 # of selected variants: 1,348 # of selected samples: 3 # of selected samples: 3 matching samples... 2 pairs identified! matching variants... 1346 variant matches identified! matching samples... 2 pairs identified! matching variants... 1346 variant matches identified! matching samples... 2 pairs identified! matching variants... 1346 variant matches identified! matching samples... 2 pairs identified! matching variants... 1346 variant matches identified! # of selected samples: 90 # of selected variants: 1,348 # of selected samples: 90 # of selected variants: 1,348 # of selected samples: 2 # of selected variants: 50 # of selected samples: 2 # of selected variants: 51 matching samples... 2 pairs identified! matching variants... 26 variant matches identified! matching samples... 2 pairs identified! matching variants... 26 variant matches identified! # of selected variants: 26 Warning in SeqVarTools:::.samplePairs1(samples) : More than two samples for subject 4 Selecting first two samples: samp7, samp8 # of selected samples: 5 # of selected variants: 10 # of selected samples: 5 # of selected variants: 10 # of selected samples: 5 # of selected variants: 10 # of selected samples: 5 # of selected variants: 10 # of selected samples: 5 # of selected variants: 10 # of selected samples: 90 # of selected variants: 1,348 # of selected samples: 5 # of selected variants: 10 # of selected samples: 5 # of selected variants: 10 # of selected samples: 5 # of selected variants: 10 # of selected samples: 90 # of selected variants: 1,348 # of selected samples: 5 # of selected variants: 10 # of selected samples: 5 # of selected variants: 10 # of selected variants: 1,346 # of selected variants: 1,330 # of selected samples: 5 # of selected variants: 10 # of selected samples: 90 # of selected variants: 1,348 # of selected samples: 5 # of selected variants: 10 # of selected samples: 5 # of selected variants: 10 # of selected samples: 5 # of selected variants: 10 # of selected samples: 90 # of selected variants: 1,348 # of selected samples: 5 # of selected variants: 10 # of selected samples: 3 # of selected variants: 10 # of selected samples: 3 # of selected samples: 90 # of selected variants: 1,348 # of selected variants: 10 # of selected samples: 3 # of selected samples: 5 # of selected variants: 10 # of selected samples: 90 # of selected variants: 1,348 # of selected samples: 5 # of selected variants: 10 # of selected samples: 5 # of selected variants: 10 starting worker pid=16724 on localhost:11392 at 05:39:01.201 starting worker pid=27116 on localhost:11392 at 05:39:01.248 starting worker pid=52268 on localhost:11392 at 05:39:01.295 starting worker pid=54048 on localhost:11392 at 05:39:01.295 starting worker pid=8872 on localhost:11392 at 05:39:01.295 starting worker pid=24252 on localhost:11392 at 05:39:01.326 starting worker pid=3640 on localhost:11392 at 05:39:01.326 starting worker pid=21908 on localhost:11392 at 05:39:01.326 starting worker pid=18748 on localhost:11392 at 05:39:01.341 starting worker pid=36552 on localhost:11392 at 05:39:01.341 starting worker pid=30964 on localhost:11392 at 05:39:01.357 starting worker pid=35820 on localhost:11392 at 05:39:01.373 starting worker pid=48716 on localhost:11392 at 05:39:01.373 starting worker pid=47500 on localhost:11392 at 05:39:01.373 starting worker pid=46312 on localhost:11392 at 05:39:01.373 starting worker pid=40132 on localhost:11392 at 05:39:01.373 starting worker pid=30412 on localhost:11392 at 05:39:01.388 starting worker pid=14452 on localhost:11392 at 05:39:01.388 starting worker pid=11068 on localhost:11392 at 05:39:01.404 starting worker pid=15380 on localhost:11392 at 05:39:01.404 starting worker pid=30192 on localhost:11392 at 05:39:01.404 starting worker pid=44404 on localhost:11392 at 05:39:01.404 starting worker pid=50392 on localhost:11392 at 05:39:01.420 starting worker pid=2320 on localhost:11392 at 05:39:01.420 starting worker pid=22532 on localhost:11392 at 05:39:01.420 starting worker pid=44312 on localhost:11392 at 05:39:01.420 starting worker pid=24860 on localhost:11392 at 05:39:01.420 starting worker pid=19960 on localhost:11392 at 05:39:01.435 starting worker pid=46732 on localhost:11392 at 05:39:01.435 starting worker pid=40392 on localhost:11392 at 05:39:01.435 starting worker pid=40544 on localhost:11392 at 05:39:01.435 starting worker pid=36996 on localhost:11392 at 05:39:01.435 starting worker pid=38936 on localhost:11392 at 05:39:01.451 starting worker pid=29748 on localhost:11392 at 05:39:01.466 starting worker pid=30592 on localhost:11392 at 05:39:01.482 starting worker pid=6552 on localhost:11392 at 05:39:01.482 starting worker pid=28188 on localhost:11392 at 05:39:01.482 starting worker pid=34412 on localhost:11392 at 05:39:01.482 starting worker pid=44028 on localhost:11392 at 05:39:01.482 starting worker pid=29772 on localhost:11392 at 05:39:11.060 starting worker pid=36260 on localhost:11392 at 05:39:11.076 starting worker pid=48104 on localhost:11392 at 05:39:11.076 starting worker pid=20352 on localhost:11392 at 05:39:11.076 starting worker pid=24996 on localhost:11392 at 05:39:11.107 starting worker pid=17724 on localhost:11392 at 05:39:11.123 starting worker pid=52172 on localhost:11392 at 05:39:11.154 starting worker pid=45796 on localhost:11392 at 05:39:11.154 starting worker pid=17524 on localhost:11392 at 05:39:11.154 starting worker pid=40800 on localhost:11392 at 05:39:11.170 starting worker pid=30156 on localhost:11392 at 05:39:11.170 starting worker pid=39288 on localhost:11392 at 05:39:11.170 starting worker pid=3496 on localhost:11392 at 05:39:11.185 starting worker pid=45684 on localhost:11392 at 05:39:11.185 starting worker pid=46632 on localhost:11392 at 05:39:11.201 starting worker pid=14028 on localhost:11392 at 05:39:11.201 starting worker pid=31584 on localhost:11392 at 05:39:11.201 starting worker pid=20028 on localhost:11392 at 05:39:11.201 starting worker pid=42580 on localhost:11392 at 05:39:11.217 starting worker pid=17928 on localhost:11392 at 05:39:11.217 starting worker pid=19536 on localhost:11392 at 05:39:11.217 starting worker pid=52596 on localhost:11392 at 05:39:11.217 starting worker pid=43688 on localhost:11392 at 05:39:11.217 starting worker pid=29072 on localhost:11392 at 05:39:11.217 starting worker pid=50852 on localhost:11392 at 05:39:11.232 starting worker pid=16828 on localhost:11392 at 05:39:11.232 starting worker pid=47468 on localhost:11392 at 05:39:11.232 starting worker pid=45152 on localhost:11392 at 05:39:11.232 starting worker pid=50860 on localhost:11392 at 05:39:11.232 starting worker pid=7828 on localhost:11392 at 05:39:11.232 starting worker pid=30992 on localhost:11392 at 05:39:11.232 starting worker pid=35668 on localhost:11392 at 05:39:11.248 starting worker pid=38732 on localhost:11392 at 05:39:11.248 starting worker pid=52044 on localhost:11392 at 05:39:11.248 starting worker pid=38884 on localhost:11392 at 05:39:11.263 starting worker pid=25324 on localhost:11392 at 05:39:11.263 starting worker pid=50484 on localhost:11392 at 05:39:11.279 starting worker pid=46828 on localhost:11392 at 05:39:11.310 starting worker pid=7724 on localhost:11392 at 05:39:11.388 starting worker pid=32112 on localhost:11392 at 05:40:20.517 starting worker pid=17568 on localhost:11392 at 05:40:20.533 starting worker pid=36444 on localhost:11392 at 05:40:20.548 starting worker pid=33800 on localhost:11392 at 05:40:20.548 starting worker pid=32816 on localhost:11392 at 05:40:20.564 starting worker pid=41652 on localhost:11392 at 05:40:20.564 starting worker pid=10432 on localhost:11392 at 05:40:20.580 starting worker pid=51856 on localhost:11392 at 05:40:20.595 starting worker pid=19808 on localhost:11392 at 05:40:20.595 starting worker pid=24084 on localhost:11392 at 05:40:20.611 starting worker pid=26888 on localhost:11392 at 05:40:20.611 starting worker pid=14496 on localhost:11392 at 05:40:20.611 starting worker pid=35756 on localhost:11392 at 05:40:20.611 starting worker pid=48804 on localhost:11392 at 05:40:20.627 starting worker pid=26108 on localhost:11392 at 05:40:20.627 starting worker pid=28508 on localhost:11392 at 05:40:20.627 starting worker pid=36308 on localhost:11392 at 05:40:20.642 starting worker pid=52480 on localhost:11392 at 05:40:20.642 starting worker pid=41352 on localhost:11392 at 05:40:20.642 starting worker pid=31780 on localhost:11392 at 05:40:20.658 starting worker pid=47232 on localhost:11392 at 05:40:20.658 starting worker pid=51308 on localhost:11392 at 05:40:20.658 starting worker pid=24320 on localhost:11392 at 05:40:20.705 starting worker pid=14476 on localhost:11392 at 05:40:20.705 starting worker pid=33144 on localhost:11392 at 05:40:20.705 starting worker pid=53832 on localhost:11392 at 05:40:20.705 starting worker pid=53828 on localhost:11392 at 05:40:20.705 starting worker pid=31536 on localhost:11392 at 05:40:20.705 starting worker pid=25096 on localhost:11392 at 05:40:20.705 starting worker pid=42584 on localhost:11392 at 05:40:20.705 starting worker pid=19344 on localhost:11392 at 05:40:20.705 starting worker pid=19616 on localhost:11392 at 05:40:20.705 starting worker pid=50864 on localhost:11392 at 05:40:20.705 starting worker pid=32864 on localhost:11392 at 05:40:20.705 starting worker pid=42496 on localhost:11392 at 05:40:20.720 starting worker pid=32912 on localhost:11392 at 05:40:20.720 starting worker pid=44816 on localhost:11392 at 05:40:20.720 starting worker pid=24336 on localhost:11392 at 05:40:20.720 starting worker pid=44276 on localhost:11392 at 05:40:20.720 starting worker pid=6316 on localhost:11392 at 05:40:30.127 starting worker pid=30228 on localhost:11392 at 05:40:30.158 starting worker pid=48452 on localhost:11392 at 05:40:30.174 starting worker pid=15040 on localhost:11392 at 05:40:30.314 starting worker pid=31588 on localhost:11392 at 05:40:30.330 starting worker pid=43612 on localhost:11392 at 05:40:30.345 starting worker pid=6368 on localhost:11392 at 05:40:30.361 starting worker pid=11020 on localhost:11392 at 05:40:30.377 starting worker pid=24556 on localhost:11392 at 05:40:30.377 starting worker pid=41336 on localhost:11392 at 05:40:30.392 starting worker pid=42796 on localhost:11392 at 05:40:30.392 starting worker pid=46536 on localhost:11392 at 05:40:30.408 starting worker pid=51560 on localhost:11392 at 05:40:30.408 starting worker pid=47364 on localhost:11392 at 05:40:30.424 starting worker pid=28156 on localhost:11392 at 05:40:30.424 starting worker pid=46216 on localhost:11392 at 05:40:30.424 starting worker pid=51376 on localhost:11392 at 05:40:30.439 starting worker pid=39536 on localhost:11392 at 05:40:30.439 starting worker pid=10372 on localhost:11392 at 05:40:30.439 starting worker pid=20192 on localhost:11392 at 05:40:30.455 starting worker pid=42292 on localhost:11392 at 05:40:30.455 starting worker pid=52816 on localhost:11392 at 05:40:30.455 starting worker pid=37560 on localhost:11392 at 05:40:30.455 starting worker pid=18872 on localhost:11392 at 05:40:30.455 starting worker pid=48004 on localhost:11392 at 05:40:30.455 starting worker pid=29728 on localhost:11392 at 05:40:30.455 starting worker pid=32948 on localhost:11392 at 05:40:30.470 starting worker pid=22376 on localhost:11392 at 05:40:30.470 starting worker pid=46056 on localhost:11392 at 05:40:30.470 starting worker pid=26880 on localhost:11392 at 05:40:30.470 starting worker pid=4472 on localhost:11392 at 05:40:30.470 starting worker pid=40708 on localhost:11392 at 05:40:30.470 starting worker pid=20744 on localhost:11392 at 05:40:30.470 starting worker pid=38680 on localhost:11392 at 05:40:30.470 starting worker pid=39544 on localhost:11392 at 05:40:30.470 starting worker pid=48036 on localhost:11392 at 05:40:30.470 starting worker pid=8544 on localhost:11392 at 05:40:30.486 starting worker pid=43304 on localhost:11392 at 05:40:30.486 starting worker pid=36036 on localhost:11392 at 05:40:30.486 starting worker pid=32800 on localhost:11392 at 05:40:51.642 starting worker pid=33568 on localhost:11392 at 05:40:51.674 starting worker pid=52684 on localhost:11392 at 05:40:51.799 starting worker pid=50288 on localhost:11392 at 05:40:51.799 starting worker pid=28836 on localhost:11392 at 05:40:51.846 starting worker pid=23808 on localhost:11392 at 05:40:51.846 starting worker pid=26188 on localhost:11392 at 05:40:51.846 starting worker pid=4372 on localhost:11392 at 05:40:51.908 starting worker pid=17400 on localhost:11392 at 05:40:51.955 starting worker pid=37368 on localhost:11392 at 05:40:51.971 starting worker pid=38976 on localhost:11392 at 05:40:51.986 starting worker pid=39304 on localhost:11392 at 05:40:51.986 starting worker pid=45908 on localhost:11392 at 05:40:51.986 starting worker pid=51220 on localhost:11392 at 05:40:52.002 starting worker pid=51540 on localhost:11392 at 05:40:52.002 starting worker pid=3428 on localhost:11392 at 05:40:52.002 starting worker pid=50156 on localhost:11392 at 05:40:52.002 starting worker pid=5180 on localhost:11392 at 05:40:52.017 starting worker pid=16012 on localhost:11392 at 05:40:52.017 starting worker pid=5496 on localhost:11392 at 05:40:52.033 starting worker pid=23608 on localhost:11392 at 05:40:52.033 starting worker pid=31760 on localhost:11392 at 05:40:52.033 starting worker pid=49624 on localhost:11392 at 05:40:52.033 starting worker pid=50620 on localhost:11392 at 05:40:52.033 starting worker pid=51288 on localhost:11392 at 05:40:52.033 starting worker pid=42364 on localhost:11392 at 05:40:52.049 starting worker pid=3676 on localhost:11392 at 05:40:52.049 starting worker pid=31084 on localhost:11392 at 05:40:52.049 starting worker pid=18176 on localhost:11392 at 05:40:52.049 starting worker pid=7516 on localhost:11392 at 05:40:52.049 starting worker pid=8300 on localhost:11392 at 05:40:52.049 starting worker pid=13688 on localhost:11392 at 05:40:52.064 starting worker pid=40460 on localhost:11392 at 05:40:52.064 starting worker pid=51992 on localhost:11392 at 05:40:52.064 starting worker pid=27800 on localhost:11392 at 05:40:52.064 starting worker pid=40388 on localhost:11392 at 05:40:52.064 starting worker pid=17000 on localhost:11392 at 05:40:52.064 starting worker pid=44616 on localhost:11392 at 05:40:52.064 starting worker pid=10036 on localhost:11392 at 05:40:52.080 # of selected samples: 5 # of selected variants: 10 # of selected samples: 90 # of selected variants: 1,348 # of selected samples: 5 # of selected variants: 10 # of selected variants: 903 # of selected samples: 59 # of selected samples: 58 # of selected samples: 32 # of selected samples: 5 # of selected variants: 10 # of selected samples: 90 # of selected variants: 1,348 # of selected samples: 5 # of selected variants: 10 # of selected samples: 5 # of selected variants: 10 # of selected samples: 90 # of selected variants: 1,348 # of selected samples: 5 # of selected variants: 10 # of selected samples: 10 # of selected samples: 10 # of selected variants: 10 # of selected samples: 10 RUNIT TEST PROTOCOL -- Fri Oct 15 05:41:13 2021 *********************************************** Number of test functions: 152 Number of errors: 0 Number of failures: 0 1 Test Suite : SeqVarTools RUnit Tests - 152 test functions, 0 errors, 0 failures Number of test functions: 152 Number of errors: 0 Number of failures: 0 > > proc.time() user system elapsed 31.29 1.21 158.11 |
SeqVarTools.Rcheck/examples_i386/SeqVarTools-Ex.timings
|
SeqVarTools.Rcheck/examples_x64/SeqVarTools-Ex.timings
|