| Back to Multiple platform build/check report for BioC 3.13 | 
 | 
This page was generated on 2021-10-15 15:06:24 -0400 (Fri, 15 Oct 2021).
| To the developers/maintainers of the SQUADD package: - Please allow up to 24 hours (and sometimes 48 hours) for your latest push to git@git.bioconductor.org:packages/SQUADD.git to reflect on this report. See How and When does the builder pull? When will my changes propagate? here for more information. - Make sure to use the following settings in order to reproduce any error or warning you see on this page. | 
| Package 1838/2041 | Hostname | OS / Arch | INSTALL | BUILD | CHECK | BUILD BIN | ||||||||
| SQUADD 1.42.0  (landing page) Martial Sankar 
 | nebbiolo1 | Linux (Ubuntu 20.04.2 LTS) / x86_64 | OK | OK | OK |  | ||||||||
| tokay2 | Windows Server 2012 R2 Standard / x64 | OK | OK | OK | OK |  | ||||||||
| machv2 | macOS 10.14.6 Mojave / x86_64 | OK | OK | OK | OK |  | ||||||||
| Package: SQUADD | 
| Version: 1.42.0 | 
| Command: rm -rf SQUADD.buildbin-libdir && mkdir SQUADD.buildbin-libdir && C:\Users\biocbuild\bbs-3.13-bioc\R\bin\R.exe CMD INSTALL --merge-multiarch --build --library=SQUADD.buildbin-libdir SQUADD_1.42.0.tar.gz | 
| StartedAt: 2021-10-15 11:59:17 -0400 (Fri, 15 Oct 2021) | 
| EndedAt: 2021-10-15 12:00:49 -0400 (Fri, 15 Oct 2021) | 
| EllapsedTime: 92.3 seconds | 
| RetCode: 0 | 
| Status: OK | 
| PackageFile: SQUADD_1.42.0.zip | 
| PackageFileSize: 886.8 KiB | 
##############################################################################
##############################################################################
###
### Running command:
###
###   rm -rf SQUADD.buildbin-libdir && mkdir SQUADD.buildbin-libdir && C:\Users\biocbuild\bbs-3.13-bioc\R\bin\R.exe CMD INSTALL --merge-multiarch --build --library=SQUADD.buildbin-libdir SQUADD_1.42.0.tar.gz
###
##############################################################################
##############################################################################
install for i386
* installing *source* package 'SQUADD' ...
** using staged installation
** R
** inst
** byte-compile and prepare package for lazy loading
** help
*** installing help indices
  converting help for package 'SQUADD'
    finding HTML links ... done
    SQUADD-package                          html  
    SquadSimResServiceImpl-class            html  
    getFittedTable-methods                  html  
    getFittedTable                          html  
    plotCC-methods                          html  
    plotCC                                  html  
    plotPredMap-methods                     html  
    plotPredMap                             html  
    plotSimMatrix-methods                   html  
    plotSimMatrix                           html  
** building package indices
** installing vignettes
** testing if installed package can be loaded from temporary location
** testing if installed package can be loaded from final location
** testing if installed package keeps a record of temporary installation path
install for x64
* installing *source* package 'SQUADD' ...
** testing if installed package can be loaded
* MD5 sums
packaged installation of 'SQUADD' as SQUADD_1.42.0.zip
* DONE (SQUADD)