Back to Multiple platform build/check report for BioC 3.13 |
|
This page was generated on 2021-10-15 15:06:23 -0400 (Fri, 15 Oct 2021).
To the developers/maintainers of the SNPediaR package: - Please allow up to 24 hours (and sometimes 48 hours) for your latest push to git@git.bioconductor.org:packages/SNPediaR.git to reflect on this report. See How and When does the builder pull? When will my changes propagate? here for more information. - Make sure to use the following settings in order to reproduce any error or warning you see on this page. |
Package 1800/2041 | Hostname | OS / Arch | INSTALL | BUILD | CHECK | BUILD BIN | ||||||||
SNPediaR 1.18.0 (landing page) David Montaner
| nebbiolo1 | Linux (Ubuntu 20.04.2 LTS) / x86_64 | OK | OK | OK | ![]() | ||||||||
tokay2 | Windows Server 2012 R2 Standard / x64 | OK | ERROR | skipped | skipped | |||||||||
machv2 | macOS 10.14.6 Mojave / x86_64 | OK | OK | OK | OK | ![]() | ||||||||
Package: SNPediaR |
Version: 1.18.0 |
Command: chmod a+r SNPediaR -R && C:\Users\biocbuild\bbs-3.13-bioc\R\bin\R.exe CMD build --keep-empty-dirs --no-resave-data SNPediaR |
StartedAt: 2021-10-14 18:26:00 -0400 (Thu, 14 Oct 2021) |
EndedAt: 2021-10-14 18:26:36 -0400 (Thu, 14 Oct 2021) |
EllapsedTime: 36.4 seconds |
RetCode: 1 |
Status: ERROR |
PackageFile: None |
PackageFileSize: NA |
############################################################################## ############################################################################## ### ### Running command: ### ### chmod a+r SNPediaR -R && C:\Users\biocbuild\bbs-3.13-bioc\R\bin\R.exe CMD build --keep-empty-dirs --no-resave-data SNPediaR ### ############################################################################## ############################################################################## * checking for file 'SNPediaR/DESCRIPTION' ... OK * preparing 'SNPediaR': * checking DESCRIPTION meta-information ... OK * installing the package to build vignettes * creating vignettes ... ERROR --- re-building 'SNPediaR.Rmd' using rmarkdown Quitting from lines 50-53 (SNPediaR.Rmd) Error: processing vignette 'SNPediaR.Rmd' failed with diagnostics: error:1407742E:SSL routines:SSL23_GET_SERVER_HELLO:tlsv1 alert protocol version --- failed re-building 'SNPediaR.Rmd' SUMMARY: processing the following file failed: 'SNPediaR.Rmd' Error: Vignette re-building failed. Execution halted