| Back to Multiple platform build/check report for BioC 3.13 |
|
This page was generated on 2021-10-15 15:05:53 -0400 (Fri, 15 Oct 2021).
|
To the developers/maintainers of the SLGI package: - Please allow up to 24 hours (and sometimes 48 hours) for your latest push to git@git.bioconductor.org:packages/SLGI.git to reflect on this report. See How and When does the builder pull? When will my changes propagate? here for more information. - Make sure to use the following settings in order to reproduce any error or warning you see on this page. |
| Package 1788/2041 | Hostname | OS / Arch | INSTALL | BUILD | CHECK | BUILD BIN | ||||||||
| SLGI 1.52.0 (landing page) Nolwenn Le Meur
| nebbiolo1 | Linux (Ubuntu 20.04.2 LTS) / x86_64 | OK | OK | OK | |||||||||
| tokay2 | Windows Server 2012 R2 Standard / x64 | OK | OK | OK | OK | |||||||||
| machv2 | macOS 10.14.6 Mojave / x86_64 | OK | OK | OK | OK | |||||||||
| Package: SLGI |
| Version: 1.52.0 |
| Command: /home/biocbuild/bbs-3.13-bioc/R/bin/R CMD check --install=check:SLGI.install-out.txt --library=/home/biocbuild/bbs-3.13-bioc/R/library --no-vignettes --timings SLGI_1.52.0.tar.gz |
| StartedAt: 2021-10-14 11:39:45 -0400 (Thu, 14 Oct 2021) |
| EndedAt: 2021-10-14 11:42:52 -0400 (Thu, 14 Oct 2021) |
| EllapsedTime: 186.9 seconds |
| RetCode: 0 |
| Status: OK |
| CheckDir: SLGI.Rcheck |
| Warnings: 0 |
##############################################################################
##############################################################################
###
### Running command:
###
### /home/biocbuild/bbs-3.13-bioc/R/bin/R CMD check --install=check:SLGI.install-out.txt --library=/home/biocbuild/bbs-3.13-bioc/R/library --no-vignettes --timings SLGI_1.52.0.tar.gz
###
##############################################################################
##############################################################################
* using log directory ‘/home/biocbuild/bbs-3.13-bioc/meat/SLGI.Rcheck’
* using R version 4.1.1 (2021-08-10)
* using platform: x86_64-pc-linux-gnu (64-bit)
* using session charset: UTF-8
* using option ‘--no-vignettes’
* checking for file ‘SLGI/DESCRIPTION’ ... OK
* this is package ‘SLGI’ version ‘1.52.0’
* checking package namespace information ... OK
* checking package dependencies ... OK
* checking if this is a source package ... OK
* checking if there is a namespace ... OK
* checking for hidden files and directories ... OK
* checking for portable file names ... OK
* checking for sufficient/correct file permissions ... OK
* checking whether package ‘SLGI’ can be installed ... OK
* checking installed package size ... NOTE
installed size is 10.4Mb
sub-directories of 1Mb or more:
data 4.3Mb
extdata 5.7Mb
* checking package directory ... OK
* checking ‘build’ directory ... OK
* checking DESCRIPTION meta-information ... NOTE
Malformed Description field: should contain one or more complete sentences.
Packages listed in more than one of Depends, Imports, Suggests, Enhances:
‘ScISI’ ‘lattice’ ‘GO.db’
A package should be listed in only one of these fields.
* checking top-level files ... OK
* checking for left-over files ... OK
* checking index information ... OK
* checking package subdirectories ... OK
* checking R files for non-ASCII characters ... OK
* checking R files for syntax errors ... OK
* checking whether the package can be loaded ... OK
* checking whether the package can be loaded with stated dependencies ... OK
* checking whether the package can be unloaded cleanly ... OK
* checking whether the namespace can be loaded with stated dependencies ... OK
* checking whether the namespace can be unloaded cleanly ... OK
* checking dependencies in R code ... NOTE
'library' or 'require' call to ‘GO.db’ in package code.
Please use :: or requireNamespace() instead.
See section 'Suggested packages' in the 'Writing R Extensions' manual.
* checking S3 generic/method consistency ... OK
* checking replacement functions ... OK
* checking foreign function calls ... OK
* checking R code for possible problems ... OK
* checking Rd files ... OK
* checking Rd metadata ... OK
* checking Rd cross-references ... OK
* checking for missing documentation entries ... OK
* checking for code/documentation mismatches ... OK
* checking Rd \usage sections ... OK
* checking Rd contents ... OK
* checking for unstated dependencies in examples ... OK
* checking contents of ‘data’ directory ... OK
* checking data for non-ASCII characters ... OK
* checking data for ASCII and uncompressed saves ... OK
* checking files in ‘vignettes’ ... OK
* checking examples ... OK
Examples with CPU (user + system) or elapsed time > 5s
user system elapsed
iSummary 11.343 0.176 11.520
plot 7.126 0.112 7.239
siResult-class 7.065 0.048 7.113
modelSLGI 6.673 0.068 6.741
compare 6.224 0.084 6.307
* checking for unstated dependencies in vignettes ... OK
* checking package vignettes in ‘inst/doc’ ... OK
* checking running R code from vignettes ... SKIPPED
* checking re-building of vignette outputs ... SKIPPED
* checking PDF version of manual ... OK
* DONE
Status: 3 NOTEs
See
‘/home/biocbuild/bbs-3.13-bioc/meat/SLGI.Rcheck/00check.log’
for details.
SLGI.Rcheck/00install.out
############################################################################## ############################################################################## ### ### Running command: ### ### /home/biocbuild/bbs-3.13-bioc/R/bin/R CMD INSTALL SLGI ### ############################################################################## ############################################################################## * installing to library ‘/home/biocbuild/bbs-3.13-bioc/R/library’ * installing *source* package ‘SLGI’ ... ** using staged installation ** R ** data ** inst ** byte-compile and prepare package for lazy loading No methods found in package ‘BiocGenerics’ for request: ‘plot’ when loading ‘SLGI’ ** help *** installing help indices ** building package indices ** installing vignettes ** testing if installed package can be loaded from temporary location No methods found in package ‘BiocGenerics’ for request: ‘plot’ when loading ‘SLGI’ ** testing if installed package can be loaded from final location No methods found in package ‘BiocGenerics’ for request: ‘plot’ when loading ‘SLGI’ ** testing if installed package keeps a record of temporary installation path * DONE (SLGI)
SLGI.Rcheck/SLGI-Ex.timings
| name | user | system | elapsed | |
| Atong | 0.141 | 0.004 | 0.145 | |
| AtongFnDomain | 3.143 | 0.084 | 3.227 | |
| AtongPair | 0.036 | 0.020 | 0.056 | |
| SDL | 0.001 | 0.003 | 0.005 | |
| SGA | 0.005 | 0.000 | 0.005 | |
| SGD.SL | 0.122 | 0.003 | 0.127 | |
| TFmat | 0.061 | 0.005 | 0.065 | |
| byComplex | 0.964 | 0.043 | 1.008 | |
| comemberIn | 0.566 | 0.029 | 0.594 | |
| compare | 6.224 | 0.084 | 6.307 | |
| congruence | 0.000 | 0.002 | 0.002 | |
| createSquareMatrix | 0.038 | 0.024 | 0.063 | |
| domainDist | 1.793 | 0.035 | 1.830 | |
| essglist | 0.009 | 0.004 | 0.014 | |
| getInteraction | 0.002 | 0.000 | 0.002 | |
| getSharedDomains | 0.012 | 0.000 | 0.012 | |
| getSharedInteraction | 0.002 | 0.000 | 0.001 | |
| getTestedPairs | 0.002 | 0.008 | 0.009 | |
| getUniquePairs | 0.009 | 0.003 | 0.011 | |
| gi2005 | 0.033 | 0.007 | 0.040 | |
| gi2007 | 0.591 | 0.004 | 0.595 | |
| gi2Interactome | 0.000 | 0.000 | 0.001 | |
| hyperG | 0.004 | 0.000 | 0.005 | |
| iSummary | 11.343 | 0.176 | 11.520 | |
| modelSLGI | 6.673 | 0.068 | 6.741 | |
| normInteraction | 2.961 | 0.023 | 2.984 | |
| plot | 7.126 | 0.112 | 7.239 | |
| seqMatcherAlign | 0 | 0 | 0 | |
| sharedBy | 1.910 | 0.048 | 1.958 | |
| sharedInt | 0.002 | 0.000 | 0.003 | |
| siResult-class | 7.065 | 0.048 | 7.113 | |
| test2Interact | 0.003 | 0.000 | 0.003 | |
| topInteraction | 3.873 | 0.028 | 3.901 | |
| twoWayTable | 3.347 | 0.072 | 3.419 | |
| withinComplex | 0.293 | 0.016 | 0.308 | |