| Back to Multiple platform build/check report for BioC 3.13 |
|
This page was generated on 2021-10-15 15:06:23 -0400 (Fri, 15 Oct 2021).
|
To the developers/maintainers of the SISPA package: - Please allow up to 24 hours (and sometimes 48 hours) for your latest push to git@git.bioconductor.org:packages/SISPA.git to reflect on this report. See How and When does the builder pull? When will my changes propagate? here for more information. - Make sure to use the following settings in order to reproduce any error or warning you see on this page. |
| Package 1782/2041 | Hostname | OS / Arch | INSTALL | BUILD | CHECK | BUILD BIN | ||||||||
| SISPA 1.22.0 (landing page) Bhakti Dwivedi
| nebbiolo1 | Linux (Ubuntu 20.04.2 LTS) / x86_64 | OK | OK | OK | |||||||||
| tokay2 | Windows Server 2012 R2 Standard / x64 | OK | OK | OK | OK | |||||||||
| machv2 | macOS 10.14.6 Mojave / x86_64 | OK | OK | OK | OK | |||||||||
| Package: SISPA |
| Version: 1.22.0 |
| Command: rm -rf SISPA.buildbin-libdir && mkdir SISPA.buildbin-libdir && C:\Users\biocbuild\bbs-3.13-bioc\R\bin\R.exe CMD INSTALL --merge-multiarch --build --library=SISPA.buildbin-libdir SISPA_1.22.0.tar.gz |
| StartedAt: 2021-10-15 11:51:43 -0400 (Fri, 15 Oct 2021) |
| EndedAt: 2021-10-15 11:53:16 -0400 (Fri, 15 Oct 2021) |
| EllapsedTime: 92.5 seconds |
| RetCode: 0 |
| Status: OK |
| PackageFile: SISPA_1.22.0.zip |
| PackageFileSize: 161.2 KiB |
##############################################################################
##############################################################################
###
### Running command:
###
### rm -rf SISPA.buildbin-libdir && mkdir SISPA.buildbin-libdir && C:\Users\biocbuild\bbs-3.13-bioc\R\bin\R.exe CMD INSTALL --merge-multiarch --build --library=SISPA.buildbin-libdir SISPA_1.22.0.tar.gz
###
##############################################################################
##############################################################################
install for i386
* installing *source* package 'SISPA' ...
** using staged installation
** R
** data
*** moving datasets to lazyload DB
** inst
** byte-compile and prepare package for lazy loading
** help
*** installing help indices
converting help for package 'SISPA'
finding HTML links ... done
ExpressionSet html
SISPA html
VariantSet html
callGSVA html
callZSCORE html
cptSamples html
filterVars html
freqplot html
sortData html
waterfallplot html
** building package indices
** installing vignettes
** testing if installed package can be loaded from temporary location
** testing if installed package can be loaded from final location
** testing if installed package keeps a record of temporary installation path
install for x64
* installing *source* package 'SISPA' ...
** testing if installed package can be loaded
* MD5 sums
packaged installation of 'SISPA' as SISPA_1.22.0.zip
* DONE (SISPA)