| Back to Multiple platform build/check report for BioC 3.13 | 
 | 
This page was generated on 2021-10-15 15:06:22 -0400 (Fri, 15 Oct 2021).
| To the developers/maintainers of the SEtools package: - Please allow up to 24 hours (and sometimes 48 hours) for your latest push to git@git.bioconductor.org:packages/SEtools.git to reflect on this report. See How and When does the builder pull? When will my changes propagate? here for more information. - Make sure to use the following settings in order to reproduce any error or warning you see on this page. | 
| Package 1746/2041 | Hostname | OS / Arch | INSTALL | BUILD | CHECK | BUILD BIN | ||||||||
| SEtools 1.6.0  (landing page) Pierre-Luc Germain 
 | nebbiolo1 | Linux (Ubuntu 20.04.2 LTS) / x86_64 | OK | OK | WARNINGS |  | ||||||||
| tokay2 | Windows Server 2012 R2 Standard / x64 | OK | OK | WARNINGS | OK |  | ||||||||
| machv2 | macOS 10.14.6 Mojave / x86_64 | OK | OK | WARNINGS | OK |  | ||||||||
| Package: SEtools | 
| Version: 1.6.0 | 
| Command: C:\cygwin\bin\curl.exe -O http://155.52.207.165/BBS/3.13/bioc/src/contrib/SEtools_1.6.0.tar.gz && rm -rf SEtools.buildbin-libdir && mkdir SEtools.buildbin-libdir && C:\Users\biocbuild\bbs-3.13-bioc\R\bin\R.exe CMD INSTALL --merge-multiarch --build --library=SEtools.buildbin-libdir SEtools_1.6.0.tar.gz && C:\Users\biocbuild\bbs-3.13-bioc\R\bin\R.exe CMD INSTALL SEtools_1.6.0.zip && rm SEtools_1.6.0.tar.gz SEtools_1.6.0.zip | 
| StartedAt: 2021-10-14 09:23:01 -0400 (Thu, 14 Oct 2021) | 
| EndedAt: 2021-10-14 09:24:02 -0400 (Thu, 14 Oct 2021) | 
| EllapsedTime: 60.6 seconds | 
| RetCode: 0 | 
| Status: OK | 
##############################################################################
##############################################################################
###
### Running command:
###
###   C:\cygwin\bin\curl.exe -O http://155.52.207.165/BBS/3.13/bioc/src/contrib/SEtools_1.6.0.tar.gz && rm -rf SEtools.buildbin-libdir && mkdir SEtools.buildbin-libdir && C:\Users\biocbuild\bbs-3.13-bioc\R\bin\R.exe CMD INSTALL --merge-multiarch --build --library=SEtools.buildbin-libdir SEtools_1.6.0.tar.gz && C:\Users\biocbuild\bbs-3.13-bioc\R\bin\R.exe CMD INSTALL SEtools_1.6.0.zip && rm SEtools_1.6.0.tar.gz SEtools_1.6.0.zip
###
##############################################################################
##############################################################################
  % Total    % Received % Xferd  Average Speed   Time    Time     Time  Current
                                 Dload  Upload   Total   Spent    Left  Speed
  0     0    0     0    0     0      0      0 --:--:-- --:--:-- --:--:--     0
100  312k  100  312k    0     0  1008k      0 --:--:-- --:--:-- --:--:-- 1012k
install for i386
* installing *source* package 'SEtools' ...
** using staged installation
** R
** data
** inst
** byte-compile and prepare package for lazy loading
** help
*** installing help indices
  converting help for package 'SEtools'
    finding HTML links ... done
    SE-heatmap                              html  
    aggSE                                   html  
    castSE                                  html  
    crossHm                                 html  
    data                                    html  
    flattenPB                               html  
    getBreaks                               html  
    log2FC                                  html  
    meltSE                                  html  
    mergeSEs                                html  
    qualitativeColors                       html  
    resetAllSEtoolsOptions                  html  
    scale2                                  html  
    se2xls                                  html  
    sortRows                                html  
    svacor                                  html  
    finding level-2 HTML links ... done
** building package indices
** installing vignettes
** testing if installed package can be loaded from temporary location
** testing if installed package can be loaded from final location
** testing if installed package keeps a record of temporary installation path
install for x64
* installing *source* package 'SEtools' ...
** testing if installed package can be loaded
* MD5 sums
packaged installation of 'SEtools' as SEtools_1.6.0.zip
* DONE (SEtools)
* installing to library 'C:/Users/biocbuild/bbs-3.13-bioc/R/library'
package 'SEtools' successfully unpacked and MD5 sums checked