| Back to Multiple platform build/check report for BioC 3.13 | 
  | 
This page was generated on 2021-10-15 15:06:22 -0400 (Fri, 15 Oct 2021).
| 
To the developers/maintainers of the SEPIRA package: - Please allow up to 24 hours (and sometimes 48 hours) for your latest push to git@git.bioconductor.org:packages/SEPIRA.git to reflect on this report. See How and When does the builder pull? When will my changes propagate? here for more information. - Make sure to use the following settings in order to reproduce any error or warning you see on this page.  | 
| Package 1729/2041 | Hostname | OS / Arch | INSTALL | BUILD | CHECK | BUILD BIN | ||||||||
| SEPIRA 1.12.0  (landing page) Yuting Chen 
  | nebbiolo1 | Linux (Ubuntu 20.04.2 LTS) / x86_64 | OK | OK | OK | |||||||||
| tokay2 | Windows Server 2012 R2 Standard / x64 | OK | OK | OK | OK | |||||||||
| machv2 | macOS 10.14.6 Mojave / x86_64 | OK | OK | OK | OK | |||||||||
| Package: SEPIRA | 
| Version: 1.12.0 | 
| Command: C:\cygwin\bin\curl.exe -O http://155.52.207.165/BBS/3.13/bioc/src/contrib/SEPIRA_1.12.0.tar.gz && rm -rf SEPIRA.buildbin-libdir && mkdir SEPIRA.buildbin-libdir && C:\Users\biocbuild\bbs-3.13-bioc\R\bin\R.exe CMD INSTALL --merge-multiarch --build --library=SEPIRA.buildbin-libdir SEPIRA_1.12.0.tar.gz && C:\Users\biocbuild\bbs-3.13-bioc\R\bin\R.exe CMD INSTALL SEPIRA_1.12.0.zip && rm SEPIRA_1.12.0.tar.gz SEPIRA_1.12.0.zip | 
| StartedAt: 2021-10-14 07:19:55 -0400 (Thu, 14 Oct 2021) | 
| EndedAt: 2021-10-14 07:20:49 -0400 (Thu, 14 Oct 2021) | 
| EllapsedTime: 53.8 seconds | 
| RetCode: 0 | 
| Status: OK | 
##############################################################################
##############################################################################
###
### Running command:
###
###   C:\cygwin\bin\curl.exe -O http://155.52.207.165/BBS/3.13/bioc/src/contrib/SEPIRA_1.12.0.tar.gz && rm -rf SEPIRA.buildbin-libdir && mkdir SEPIRA.buildbin-libdir && C:\Users\biocbuild\bbs-3.13-bioc\R\bin\R.exe CMD INSTALL --merge-multiarch --build --library=SEPIRA.buildbin-libdir SEPIRA_1.12.0.tar.gz && C:\Users\biocbuild\bbs-3.13-bioc\R\bin\R.exe CMD INSTALL SEPIRA_1.12.0.zip && rm SEPIRA_1.12.0.tar.gz SEPIRA_1.12.0.zip
###
##############################################################################
##############################################################################
  % Total    % Received % Xferd  Average Speed   Time    Time     Time  Current
                                 Dload  Upload   Total   Spent    Left  Speed
  0     0    0     0    0     0      0      0 --:--:-- --:--:-- --:--:--     0
 78 5867k   78 4583k    0     0  5501k      0  0:00:01 --:--:--  0:00:01 5502k
100 5867k  100 5867k    0     0  6130k      0 --:--:-- --:--:-- --:--:-- 6131k
install for i386
* installing *source* package 'SEPIRA' ...
** using staged installation
** R
** data
** inst
** byte-compile and prepare package for lazy loading
** help
*** installing help indices
  converting help for package 'SEPIRA'
    finding HTML links ... done
    ComputePCOR                             html  
    GeneExp                                 html  
    InferTFact                              html  
    InferTFactPRL                           html  
    LUSCexp                                 html  
    LUSCmeth                                html  
    LimmaFn                                 html  
    TFeid                                   html  
    VALexp                                  html  
    sepiraInfNet                            html  
    sepiraRegAct                            html  
** building package indices
** installing vignettes
** testing if installed package can be loaded from temporary location
** testing if installed package can be loaded from final location
** testing if installed package keeps a record of temporary installation path
install for x64
* installing *source* package 'SEPIRA' ...
** testing if installed package can be loaded
* MD5 sums
packaged installation of 'SEPIRA' as SEPIRA_1.12.0.zip
* DONE (SEPIRA)
* installing to library 'C:/Users/biocbuild/bbs-3.13-bioc/R/library'
package 'SEPIRA' successfully unpacked and MD5 sums checked