| Back to Multiple platform build/check report for BioC 3.13 |
|
This page was generated on 2021-10-15 15:05:52 -0400 (Fri, 15 Oct 2021).
|
To the developers/maintainers of the SELEX package: - Please allow up to 24 hours (and sometimes 48 hours) for your latest push to git@git.bioconductor.org:packages/SELEX.git to reflect on this report. See How and When does the builder pull? When will my changes propagate? here for more information. - Make sure to use the following settings in order to reproduce any error or warning you see on this page. |
| Package 1726/2041 | Hostname | OS / Arch | INSTALL | BUILD | CHECK | BUILD BIN | ||||||||
| SELEX 1.24.0 (landing page) Harmen J. Bussemaker
| nebbiolo1 | Linux (Ubuntu 20.04.2 LTS) / x86_64 | OK | OK | OK | |||||||||
| tokay2 | Windows Server 2012 R2 Standard / x64 | OK | OK | OK | OK | |||||||||
| machv2 | macOS 10.14.6 Mojave / x86_64 | OK | OK | OK | OK | |||||||||
| Package: SELEX |
| Version: 1.24.0 |
| Command: /home/biocbuild/bbs-3.13-bioc/R/bin/R CMD check --install=check:SELEX.install-out.txt --library=/home/biocbuild/bbs-3.13-bioc/R/library --no-vignettes --timings SELEX_1.24.0.tar.gz |
| StartedAt: 2021-10-14 11:34:07 -0400 (Thu, 14 Oct 2021) |
| EndedAt: 2021-10-14 11:35:33 -0400 (Thu, 14 Oct 2021) |
| EllapsedTime: 86.1 seconds |
| RetCode: 0 |
| Status: OK |
| CheckDir: SELEX.Rcheck |
| Warnings: 0 |
##############################################################################
##############################################################################
###
### Running command:
###
### /home/biocbuild/bbs-3.13-bioc/R/bin/R CMD check --install=check:SELEX.install-out.txt --library=/home/biocbuild/bbs-3.13-bioc/R/library --no-vignettes --timings SELEX_1.24.0.tar.gz
###
##############################################################################
##############################################################################
* using log directory ‘/home/biocbuild/bbs-3.13-bioc/meat/SELEX.Rcheck’
* using R version 4.1.1 (2021-08-10)
* using platform: x86_64-pc-linux-gnu (64-bit)
* using session charset: UTF-8
* using option ‘--no-vignettes’
* checking for file ‘SELEX/DESCRIPTION’ ... OK
* this is package ‘SELEX’ version ‘1.24.0’
* checking package namespace information ... OK
* checking package dependencies ... OK
* checking if this is a source package ... OK
* checking if there is a namespace ... OK
* checking for hidden files and directories ... NOTE
Found the following hidden files and directories:
.BBSoptions
These were most likely included in error. See section ‘Package
structure’ in the ‘Writing R Extensions’ manual.
* checking for portable file names ... OK
* checking for sufficient/correct file permissions ... OK
* checking whether package ‘SELEX’ can be installed ... OK
* checking installed package size ... OK
* checking package directory ... OK
* checking ‘build’ directory ... OK
* checking DESCRIPTION meta-information ... OK
* checking top-level files ... OK
* checking for left-over files ... OK
* checking index information ... OK
* checking package subdirectories ... OK
* checking R files for non-ASCII characters ... OK
* checking R files for syntax errors ... OK
* checking whether the package can be loaded ... OK
* checking whether the package can be loaded with stated dependencies ... OK
* checking whether the package can be unloaded cleanly ... OK
* checking whether the namespace can be loaded with stated dependencies ... OK
* checking whether the namespace can be unloaded cleanly ... OK
* checking dependencies in R code ... OK
* checking S3 generic/method consistency ... OK
* checking replacement functions ... OK
* checking foreign function calls ... OK
* checking R code for possible problems ... OK
* checking Rd files ... OK
* checking Rd metadata ... OK
* checking Rd cross-references ... OK
* checking for missing documentation entries ... OK
* checking for code/documentation mismatches ... OK
* checking Rd \usage sections ... OK
* checking Rd contents ... OK
* checking for unstated dependencies in examples ... OK
* checking line endings in Makefiles ... OK
* checking for GNU extensions in Makefiles ... OK
* checking include directives in Makefiles ... OK
* checking files in ‘vignettes’ ... OK
* checking examples ... OK
Examples with CPU (user + system) or elapsed time > 5s
user system elapsed
SELEX 22.025 1.488 6.458
selex.seqfilter 7.586 0.303 2.128
* checking for unstated dependencies in vignettes ... OK
* checking package vignettes in ‘inst/doc’ ... OK
* checking running R code from vignettes ... SKIPPED
* checking re-building of vignette outputs ... SKIPPED
* checking PDF version of manual ... OK
* DONE
Status: 1 NOTE
See
‘/home/biocbuild/bbs-3.13-bioc/meat/SELEX.Rcheck/00check.log’
for details.
SELEX.Rcheck/00install.out
############################################################################## ############################################################################## ### ### Running command: ### ### /home/biocbuild/bbs-3.13-bioc/R/bin/R CMD INSTALL SELEX ### ############################################################################## ############################################################################## * installing to library ‘/home/biocbuild/bbs-3.13-bioc/R/library’ * installing *source* package ‘SELEX’ ... ** using staged installation ** R ** inst ** byte-compile and prepare package for lazy loading ** help *** installing help indices ** building package indices ** installing vignettes ** testing if installed package can be loaded from temporary location ** testing if installed package can be loaded from final location ** testing if installed package keeps a record of temporary installation path * DONE (SELEX)
SELEX.Rcheck/SELEX-Ex.timings
| name | user | system | elapsed | |
| SELEX | 22.025 | 1.488 | 6.458 | |
| selex.affinities | 0.833 | 0.050 | 0.287 | |
| selex.config | 0.130 | 0.007 | 0.030 | |
| selex.countSummary | 0.757 | 0.020 | 0.258 | |
| selex.counts | 0.837 | 0.036 | 0.381 | |
| selex.defineSample | 0.071 | 0.004 | 0.031 | |
| selex.exampledata | 0.057 | 0.003 | 0.024 | |
| selex.fastqPSFM | 1.091 | 0.041 | 0.423 | |
| selex.getAttributes | 0.354 | 0.008 | 0.077 | |
| selex.getRound0 | 0.291 | 0.017 | 0.128 | |
| selex.getSeqfilter | 0.048 | 0.018 | 0.032 | |
| selex.infogain | 1.560 | 0.048 | 0.378 | |
| selex.infogainSummary | 0.953 | 0.036 | 0.246 | |
| selex.jvmStatus | 0.075 | 0.009 | 0.029 | |
| selex.kmax | 1.196 | 0.107 | 0.579 | |
| selex.kmerPSFM | 0.341 | 0.035 | 0.186 | |
| selex.loadAnnotation | 0.187 | 0.005 | 0.066 | |
| selex.mm | 0.423 | 0.020 | 0.167 | |
| selex.mmProb | 0.403 | 0.029 | 0.156 | |
| selex.mmSummary | 0.341 | 0.023 | 0.172 | |
| selex.revcomp | 0.715 | 0.052 | 0.321 | |
| selex.run | 0.960 | 0.073 | 0.428 | |
| selex.sample | 0.126 | 0.007 | 0.057 | |
| selex.samplePSFM | 0.416 | 0.007 | 0.169 | |
| selex.sampleSummary | 0.129 | 0.012 | 0.052 | |
| selex.saveAnnotation | 0.057 | 0.005 | 0.031 | |
| selex.seqfilter | 7.586 | 0.303 | 2.128 | |
| selex.setwd | 0.040 | 0.000 | 0.014 | |
| selex.split | 0.322 | 0.016 | 0.112 | |
| selex.summary | 0.627 | 0.060 | 0.396 | |