| Back to Multiple platform build/check report for BioC 3.13 | 
 | 
This page was generated on 2021-10-15 15:06:21 -0400 (Fri, 15 Oct 2021).
| To the developers/maintainers of the SCnorm package: - Please allow up to 24 hours (and sometimes 48 hours) for your latest push to git@git.bioconductor.org:packages/SCnorm.git to reflect on this report. See How and When does the builder pull? When will my changes propagate? here for more information. - Make sure to use the following settings in order to reproduce any error or warning you see on this page. | 
| Package 1705/2041 | Hostname | OS / Arch | INSTALL | BUILD | CHECK | BUILD BIN | ||||||||
| SCnorm 1.14.0  (landing page) Rhonda Bacher 
 | nebbiolo1 | Linux (Ubuntu 20.04.2 LTS) / x86_64 | OK | OK | OK | |||||||||
| tokay2 | Windows Server 2012 R2 Standard / x64 | OK | OK | OK | OK | |||||||||
| machv2 | macOS 10.14.6 Mojave / x86_64 | OK | OK | OK | OK | |||||||||
| Package: SCnorm | 
| Version: 1.14.0 | 
| Command: C:\cygwin\bin\curl.exe -O http://155.52.207.165/BBS/3.13/bioc/src/contrib/SCnorm_1.14.0.tar.gz && rm -rf SCnorm.buildbin-libdir && mkdir SCnorm.buildbin-libdir && C:\Users\biocbuild\bbs-3.13-bioc\R\bin\R.exe CMD INSTALL --merge-multiarch --build --library=SCnorm.buildbin-libdir SCnorm_1.14.0.tar.gz && C:\Users\biocbuild\bbs-3.13-bioc\R\bin\R.exe CMD INSTALL SCnorm_1.14.0.zip && rm SCnorm_1.14.0.tar.gz SCnorm_1.14.0.zip | 
| StartedAt: 2021-10-14 08:58:08 -0400 (Thu, 14 Oct 2021) | 
| EndedAt: 2021-10-14 08:58:58 -0400 (Thu, 14 Oct 2021) | 
| EllapsedTime: 49.5 seconds | 
| RetCode: 0 | 
| Status: OK | 
##############################################################################
##############################################################################
###
### Running command:
###
###   C:\cygwin\bin\curl.exe -O http://155.52.207.165/BBS/3.13/bioc/src/contrib/SCnorm_1.14.0.tar.gz && rm -rf SCnorm.buildbin-libdir && mkdir SCnorm.buildbin-libdir && C:\Users\biocbuild\bbs-3.13-bioc\R\bin\R.exe CMD INSTALL --merge-multiarch --build --library=SCnorm.buildbin-libdir SCnorm_1.14.0.tar.gz && C:\Users\biocbuild\bbs-3.13-bioc\R\bin\R.exe CMD INSTALL SCnorm_1.14.0.zip && rm SCnorm_1.14.0.tar.gz SCnorm_1.14.0.zip
###
##############################################################################
##############################################################################
  % Total    % Received % Xferd  Average Speed   Time    Time     Time  Current
                                 Dload  Upload   Total   Spent    Left  Speed
  0     0    0     0    0     0      0      0 --:--:-- --:--:-- --:--:--     0
 54 2818k   54 1523k    0     0  2285k      0  0:00:01 --:--:--  0:00:01 2284k
100 2818k  100 2818k    0     0  2809k      0  0:00:01  0:00:01 --:--:-- 2812k
install for i386
* installing *source* package 'SCnorm' ...
** using staged installation
** R
** data
*** moving datasets to lazyload DB
** inst
** byte-compile and prepare package for lazy loading
** help
*** installing help indices
  converting help for package 'SCnorm'
    finding HTML links ... done
    ExampleSimSCData                        html  
    GetTD                                   html  
    SCnorm                                  html  
    SCnormFit                               html  
    correctWithin                           html  
    evaluateK                               html  
    generateEvalPlot                        html  
    getCounts                               html  
    getDens                                 html  
    getSlopes                               html  
    normWrapper                             html  
    plotCountDepth                          html  
    plotWithinFactor                        html  
    quickReg                                html  
    redoBox                                 html  
    results                                 html  
    scaleNormMultCont                       html  
    splitGroups                             html  
** building package indices
** installing vignettes
** testing if installed package can be loaded from temporary location
** testing if installed package can be loaded from final location
** testing if installed package keeps a record of temporary installation path
install for x64
* installing *source* package 'SCnorm' ...
** testing if installed package can be loaded
* MD5 sums
packaged installation of 'SCnorm' as SCnorm_1.14.0.zip
* DONE (SCnorm)
* installing to library 'C:/Users/biocbuild/bbs-3.13-bioc/R/library'
package 'SCnorm' successfully unpacked and MD5 sums checked