| Back to Multiple platform build/check report for BioC 3.13 |
|
This page was generated on 2021-10-15 15:06:51 -0400 (Fri, 15 Oct 2021).
|
To the developers/maintainers of the SCAN.UPC package: - Please allow up to 24 hours (and sometimes 48 hours) for your latest push to git@git.bioconductor.org:packages/SCAN.UPC.git to reflect on this report. See How and When does the builder pull? When will my changes propagate? here for more information. - Make sure to use the following settings in order to reproduce any error or warning you see on this page. |
| Package 1680/2041 | Hostname | OS / Arch | INSTALL | BUILD | CHECK | BUILD BIN | ||||||||
| SCAN.UPC 2.34.0 (landing page) Stephen R. Piccolo
| nebbiolo1 | Linux (Ubuntu 20.04.2 LTS) / x86_64 | OK | OK | OK | |||||||||
| tokay2 | Windows Server 2012 R2 Standard / x64 | OK | OK | OK | OK | |||||||||
| machv2 | macOS 10.14.6 Mojave / x86_64 | OK | OK | OK | OK | |||||||||
| Package: SCAN.UPC |
| Version: 2.34.0 |
| Command: rm -rf SCAN.UPC.buildbin-libdir && mkdir SCAN.UPC.buildbin-libdir && /Users/biocbuild/BBS/utils/build-universal.sh SCAN.UPC_2.34.0.tar.gz /Library/Frameworks/R.framework/Versions/Current/Resources/bin/R SCAN.UPC.buildbin-libdir |
| StartedAt: 2021-10-15 03:52:55 -0400 (Fri, 15 Oct 2021) |
| EndedAt: 2021-10-15 03:53:59 -0400 (Fri, 15 Oct 2021) |
| EllapsedTime: 64.3 seconds |
| RetCode: 0 |
| Status: OK |
| PackageFile: SCAN.UPC_2.34.0.tgz |
| PackageFileSize: 444.2 KiB |
##############################################################################
##############################################################################
###
### Running command:
###
### rm -rf SCAN.UPC.buildbin-libdir && mkdir SCAN.UPC.buildbin-libdir && /Users/biocbuild/BBS/utils/build-universal.sh SCAN.UPC_2.34.0.tar.gz /Library/Frameworks/R.framework/Versions/Current/Resources/bin/R SCAN.UPC.buildbin-libdir
###
##############################################################################
##############################################################################
>>>>>>>
>>>>>>> INSTALLATION WITH 'R CMD INSTALL --preclean --no-multiarch --library=SCAN.UPC.buildbin-libdir SCAN.UPC_2.34.0.tar.gz'
>>>>>>>
* installing *source* package ‘SCAN.UPC’ ...
** using staged installation
** R
** inst
** byte-compile and prepare package for lazy loading
Parallel computing support for 'oligo/crlmm': Disabled
- Load 'ff'
- Load and register a 'foreach' adaptor
Example - Using 'multicore' for 2 cores:
library(doMC)
registerDoMC(2)
================================================================================
** help
*** installing help indices
** building package indices
** installing vignettes
** testing if installed package can be loaded from temporary location
Parallel computing support for 'oligo/crlmm': Disabled
- Load 'ff'
- Load and register a 'foreach' adaptor
Example - Using 'multicore' for 2 cores:
library(doMC)
registerDoMC(2)
================================================================================
** testing if installed package can be loaded from final location
Parallel computing support for 'oligo/crlmm': Disabled
- Load 'ff'
- Load and register a 'foreach' adaptor
Example - Using 'multicore' for 2 cores:
library(doMC)
registerDoMC(2)
================================================================================
** testing if installed package keeps a record of temporary installation path
* DONE (SCAN.UPC)