| Back to Multiple platform build/check report for BioC 3.13 |
|
This page was generated on 2021-10-15 15:06:20 -0400 (Fri, 15 Oct 2021).
|
To the developers/maintainers of the Rtpca package: - Please allow up to 24 hours (and sometimes 48 hours) for your latest push to git@git.bioconductor.org:packages/Rtpca.git to reflect on this report. See How and When does the builder pull? When will my changes propagate? here for more information. - Make sure to use the following settings in order to reproduce any error or warning you see on this page. |
| Package 1649/2041 | Hostname | OS / Arch | INSTALL | BUILD | CHECK | BUILD BIN | ||||||||
| Rtpca 1.2.0 (landing page) Nils Kurzawa
| nebbiolo1 | Linux (Ubuntu 20.04.2 LTS) / x86_64 | OK | OK | OK | |||||||||
| tokay2 | Windows Server 2012 R2 Standard / x64 | OK | OK | OK | OK | |||||||||
| machv2 | macOS 10.14.6 Mojave / x86_64 | OK | OK | OK | OK | |||||||||
| Package: Rtpca |
| Version: 1.2.0 |
| Command: rm -rf Rtpca.buildbin-libdir && mkdir Rtpca.buildbin-libdir && C:\Users\biocbuild\bbs-3.13-bioc\R\bin\R.exe CMD INSTALL --merge-multiarch --build --library=Rtpca.buildbin-libdir Rtpca_1.2.0.tar.gz |
| StartedAt: 2021-10-15 11:33:14 -0400 (Fri, 15 Oct 2021) |
| EndedAt: 2021-10-15 11:34:39 -0400 (Fri, 15 Oct 2021) |
| EllapsedTime: 85.1 seconds |
| RetCode: 0 |
| Status: OK |
| PackageFile: Rtpca_1.2.0.zip |
| PackageFileSize: 2.336 MiB |
##############################################################################
##############################################################################
###
### Running command:
###
### rm -rf Rtpca.buildbin-libdir && mkdir Rtpca.buildbin-libdir && C:\Users\biocbuild\bbs-3.13-bioc\R\bin\R.exe CMD INSTALL --merge-multiarch --build --library=Rtpca.buildbin-libdir Rtpca_1.2.0.tar.gz
###
##############################################################################
##############################################################################
install for i386
* installing *source* package 'Rtpca' ...
** using staged installation
** R
** data
** inst
** byte-compile and prepare package for lazy loading
** help
*** installing help indices
converting help for package 'Rtpca'
finding HTML links ... done
CommonFeatures-tpcaResult-method html
ComplexAnnotation-tpcaResult-method html
ComplexBackgroundDistributionList-tpcaResult-method
html
ComplexRocTable-tpcaResult-method html
ContrastCondName-tpcaResult-method html
ContrastDistMat-tpcaResult-method html
ContrastList-tpcaResult-method html
CtrlCondName-tpcaResult-method html
DistMat-tpcaResult-method html
DistMethod-tpcaResult-method html
ObjList-tpcaResult-method html
PPiAnnotation-tpcaResult-method html
PPiRocTable-tpcaResult-method html
PPiRocTableAnno-tpcaResult-method html
SetCommonFeatures-tpcaResult-method html
SetComplexAnnotation-tpcaResult-method
html
SetComplexBackgroundDistributionList-tpcaResult-method
html
SetComplexRocTable-tpcaResult-method html
SetContrastCondName-tpcaResult-method html
SetContrastDistMat-tpcaResult-method html
SetCtrlCondName-tpcaResult-method html
SetDiffTpcaResultTable-tpcaResult-method
html
SetDistMat-tpcaResult-method html
SetDistMethod-tpcaResult-method html
SetPPiRocTable-tpcaResult-method html
SetPPiRocTableAnno-tpcaResult-method html
SetSummaryMethod-tpcaResult-method html
SetTpcaResultTable-tpcaResult-method html
SummaryMethod-tpcaResult-method html
createDistMat html
diffTpcaResultTable-tpcaResult-method html
ori_et_al_complex_ppis html
ori_et_al_complexes_df html
plotComplexRoc html
plotDiffTpcaVolcano html
plotPPiProfiles html
plotPPiRoc html
plotTpcaVolcano html
runDiffTPCA html
runTPCA html
string_ppi_df html
tpcaResult-class html
tpcaResultTable-tpcaResult-method html
** building package indices
** installing vignettes
** testing if installed package can be loaded from temporary location
** testing if installed package can be loaded from final location
** testing if installed package keeps a record of temporary installation path
install for x64
* installing *source* package 'Rtpca' ...
** testing if installed package can be loaded
* MD5 sums
packaged installation of 'Rtpca' as Rtpca_1.2.0.zip
* DONE (Rtpca)