| Back to Multiple platform build/check report for BioC 3.13 |
|
This page was generated on 2021-10-15 15:05:51 -0400 (Fri, 15 Oct 2021).
|
To the developers/maintainers of the Rqc package: - Please allow up to 24 hours (and sometimes 48 hours) for your latest push to git@git.bioconductor.org:packages/Rqc.git to reflect on this report. See How and When does the builder pull? When will my changes propagate? here for more information. - Make sure to use the following settings in order to reproduce any error or warning you see on this page. |
| Package 1628/2041 | Hostname | OS / Arch | INSTALL | BUILD | CHECK | BUILD BIN | ||||||||
| Rqc 1.26.0 (landing page) Welliton Souza
| nebbiolo1 | Linux (Ubuntu 20.04.2 LTS) / x86_64 | OK | OK | OK | |||||||||
| tokay2 | Windows Server 2012 R2 Standard / x64 | OK | OK | TIMEOUT | OK | |||||||||
| machv2 | macOS 10.14.6 Mojave / x86_64 | OK | OK | OK | OK | |||||||||
| Package: Rqc |
| Version: 1.26.0 |
| Command: /home/biocbuild/bbs-3.13-bioc/R/bin/R CMD INSTALL Rqc |
| StartedAt: 2021-10-14 06:30:37 -0400 (Thu, 14 Oct 2021) |
| EndedAt: 2021-10-14 06:31:27 -0400 (Thu, 14 Oct 2021) |
| EllapsedTime: 50.8 seconds |
| RetCode: 0 |
| Status: OK |
##############################################################################
##############################################################################
###
### Running command:
###
### /home/biocbuild/bbs-3.13-bioc/R/bin/R CMD INSTALL Rqc
###
##############################################################################
##############################################################################
* installing to library ‘/home/biocbuild/bbs-3.13-bioc/R/library’
* installing *source* package ‘Rqc’ ...
** using staged installation
** libs
g++ -std=gnu++14 -I"/home/biocbuild/bbs-3.13-bioc/R/include" -DNDEBUG -I'/home/biocbuild/bbs-3.13-bioc/R/library/Rcpp/include' -I/usr/local/include -fpic -g -O2 -Wall -c RRDNA.cpp -o RRDNA.o
RRDNA.cpp: In function ‘Rcpp::StringVector toRRDNA(Rcpp::StringVector)’:
RRDNA.cpp:51:27: warning: comparison of integer expressions of different signedness: ‘R_len_t’ {aka ‘int’} and ‘std::__cxx11::basic_string<char>::size_type’ {aka ‘long unsigned int’} [-Wsign-compare]
51 | for (j = 0; j < dna.size(); j+=3)
| ~~^~~~~~~~~~~~
RRDNA.cpp: In function ‘Rcpp::StringVector fromRRDNA(Rcpp::StringVector)’:
RRDNA.cpp:102:22: warning: comparison of integer expressions of different signedness: ‘R_len_t’ {aka ‘int’} and ‘std::__cxx11::basic_string<char>::size_type’ {aka ‘long unsigned int’} [-Wsign-compare]
102 | for(j = 1; j < rrdna.size(); ++j) {
| ~~^~~~~~~~~~~~~~
g++ -std=gnu++14 -I"/home/biocbuild/bbs-3.13-bioc/R/include" -DNDEBUG -I'/home/biocbuild/bbs-3.13-bioc/R/library/Rcpp/include' -I/usr/local/include -fpic -g -O2 -Wall -c RcppExports.cpp -o RcppExports.o
g++ -std=gnu++14 -shared -L/home/biocbuild/bbs-3.13-bioc/R/lib -L/usr/local/lib -o Rqc.so RRDNA.o RcppExports.o -L/home/biocbuild/bbs-3.13-bioc/R/lib -lR
installing to /home/biocbuild/bbs-3.13-bioc/R/library/00LOCK-Rqc/00new/Rqc/libs
** R
** inst
** byte-compile and prepare package for lazy loading
** help
*** installing help indices
** building package indices
** installing vignettes
** testing if installed package can be loaded from temporary location
** checking absolute paths in shared objects and dynamic libraries
** testing if installed package can be loaded from final location
** testing if installed package keeps a record of temporary installation path
* DONE (Rqc)