| Back to Multiple platform build/check report for BioC 3.13 |
|
This page was generated on 2021-10-15 15:05:51 -0400 (Fri, 15 Oct 2021).
|
To the developers/maintainers of the RmiR package: - Please allow up to 24 hours (and sometimes 48 hours) for your latest push to git@git.bioconductor.org:packages/RmiR.git to reflect on this report. See How and When does the builder pull? When will my changes propagate? here for more information. - Make sure to use the following settings in order to reproduce any error or warning you see on this page. |
| Package 1596/2041 | Hostname | OS / Arch | INSTALL | BUILD | CHECK | BUILD BIN | ||||||||
| RmiR 1.48.0 (landing page) Francesco Favero
| nebbiolo1 | Linux (Ubuntu 20.04.2 LTS) / x86_64 | ERROR | ERROR | skipped | |||||||||
| tokay2 | Windows Server 2012 R2 Standard / x64 | ERROR | ERROR | skipped | skipped | |||||||||
| machv2 | macOS 10.14.6 Mojave / x86_64 | OK | OK | OK | OK | |||||||||
| Package: RmiR |
| Version: 1.48.0 |
| Command: /home/biocbuild/bbs-3.13-bioc/R/bin/R CMD build --keep-empty-dirs --no-resave-data RmiR |
| StartedAt: 2021-10-14 08:13:35 -0400 (Thu, 14 Oct 2021) |
| EndedAt: 2021-10-14 08:13:35 -0400 (Thu, 14 Oct 2021) |
| EllapsedTime: 0.5 seconds |
| RetCode: 1 |
| Status: ERROR |
| PackageFile: None |
| PackageFileSize: NA |
##############################################################################
##############################################################################
###
### Running command:
###
### /home/biocbuild/bbs-3.13-bioc/R/bin/R CMD build --keep-empty-dirs --no-resave-data RmiR
###
##############################################################################
##############################################################################
* checking for file ‘RmiR/DESCRIPTION’ ... OK
* preparing ‘RmiR’:
* checking DESCRIPTION meta-information ... OK
* installing the package to build vignettes
-----------------------------------
ERROR: dependency ‘RSVGTipsDevice’ is not available for package ‘RmiR’
* removing ‘/tmp/RtmpWsIMML/Rinst33a2fa2bb37cff/RmiR’
-----------------------------------
ERROR: package installation failed