| Back to Multiple platform build/check report for BioC 3.13 |
|
This page was generated on 2021-10-15 15:06:50 -0400 (Fri, 15 Oct 2021).
|
To the developers/maintainers of the Rmagpie package: - Please allow up to 24 hours (and sometimes 48 hours) for your latest push to git@git.bioconductor.org:packages/Rmagpie.git to reflect on this report. See How and When does the builder pull? When will my changes propagate? here for more information. - Make sure to use the following settings in order to reproduce any error or warning you see on this page. |
| Package 1593/2041 | Hostname | OS / Arch | INSTALL | BUILD | CHECK | BUILD BIN | ||||||||
| Rmagpie 1.48.0 (landing page) Camille Maumet
| nebbiolo1 | Linux (Ubuntu 20.04.2 LTS) / x86_64 | OK | OK | OK | |||||||||
| tokay2 | Windows Server 2012 R2 Standard / x64 | OK | OK | OK | OK | |||||||||
| machv2 | macOS 10.14.6 Mojave / x86_64 | OK | OK | OK | OK | |||||||||
| Package: Rmagpie |
| Version: 1.48.0 |
| Command: /Library/Frameworks/R.framework/Versions/Current/Resources/bin/R CMD check --install=check:Rmagpie.install-out.txt --library=/Library/Frameworks/R.framework/Versions/Current/Resources/library --no-vignettes --timings Rmagpie_1.48.0.tar.gz |
| StartedAt: 2021-10-14 23:14:09 -0400 (Thu, 14 Oct 2021) |
| EndedAt: 2021-10-14 23:16:02 -0400 (Thu, 14 Oct 2021) |
| EllapsedTime: 112.8 seconds |
| RetCode: 0 |
| Status: OK |
| CheckDir: Rmagpie.Rcheck |
| Warnings: 0 |
##############################################################################
##############################################################################
###
### Running command:
###
### /Library/Frameworks/R.framework/Versions/Current/Resources/bin/R CMD check --install=check:Rmagpie.install-out.txt --library=/Library/Frameworks/R.framework/Versions/Current/Resources/library --no-vignettes --timings Rmagpie_1.48.0.tar.gz
###
##############################################################################
##############################################################################
* using log directory ‘/Users/biocbuild/bbs-3.13-bioc/meat/Rmagpie.Rcheck’
* using R version 4.1.1 (2021-08-10)
* using platform: x86_64-apple-darwin17.0 (64-bit)
* using session charset: UTF-8
* using option ‘--no-vignettes’
* checking for file ‘Rmagpie/DESCRIPTION’ ... OK
* this is package ‘Rmagpie’ version ‘1.48.0’
* checking package namespace information ... OK
* checking package dependencies ... OK
* checking if this is a source package ... OK
* checking if there is a namespace ... OK
* checking for hidden files and directories ... NOTE
Found the following hidden files and directories:
.git_fetch_output.txt
.git_merge_output.txt
These were most likely included in error. See section ‘Package
structure’ in the ‘Writing R Extensions’ manual.
* checking for portable file names ... OK
* checking for sufficient/correct file permissions ... OK
* checking whether package ‘Rmagpie’ can be installed ... OK
* checking installed package size ... OK
* checking package directory ... OK
* checking ‘build’ directory ... OK
* checking DESCRIPTION meta-information ... NOTE
Package listed in more than one of Depends, Imports, Suggests, Enhances:
‘Biobase’
A package should be listed in only one of these fields.
* checking top-level files ... OK
* checking for left-over files ... OK
* checking index information ... OK
* checking package subdirectories ... OK
* checking R files for non-ASCII characters ... OK
* checking R files for syntax errors ... OK
* checking whether the package can be loaded ... OK
* checking whether the package can be loaded with stated dependencies ... OK
* checking whether the package can be unloaded cleanly ... OK
* checking whether the namespace can be loaded with stated dependencies ... OK
* checking whether the namespace can be unloaded cleanly ... OK
* checking dependencies in R code ... OK
* checking S3 generic/method consistency ... OK
* checking replacement functions ... OK
* checking foreign function calls ... OK
* checking R code for possible problems ... NOTE
twoLayerExtCV: warning in performAValidation(data = eset, trainIndices
= extInds[[i]], noGenes = upToBestSelectedFeature, classes = classes,
classifierName = classifierName, verbose = verbose, kernel = kernel,
featureSelectionFun = featureSelectionFun, trainTestFun =
trainTestFun): partial argument match of 'data' to 'dataset'
getFeatureSelectionOptions<-,assessment: no visible global function
definition for ‘getNoOfOptions<-’
getFeatureSelectionOptions<-,assessment: no visible global function
definition for ‘getNoModels<-’
Undefined global functions or variables:
getNoModels<- getNoOfOptions<-
* checking Rd files ... OK
* checking Rd metadata ... OK
* checking Rd cross-references ... OK
* checking for missing documentation entries ... OK
* checking for code/documentation mismatches ... OK
* checking Rd \usage sections ... OK
* checking Rd contents ... OK
* checking for unstated dependencies in examples ... OK
* checking contents of ‘data’ directory ... OK
* checking data for non-ASCII characters ... OK
* checking data for ASCII and uncompressed saves ... OK
* checking sizes of PDF files under ‘inst/doc’ ... OK
* checking files in ‘vignettes’ ... OK
* checking examples ... OK
Examples with CPU (user + system) or elapsed time > 5s
user system elapsed
runTwoLayerExtCV-methods 8.699 0.040 8.745
plotErrorsFoldTwoLayerCV-methods 5.367 0.033 5.403
* checking for unstated dependencies in vignettes ... OK
* checking package vignettes in ‘inst/doc’ ... OK
* checking running R code from vignettes ... SKIPPED
* checking re-building of vignette outputs ... SKIPPED
* checking PDF version of manual ... OK
* DONE
Status: 3 NOTEs
See
‘/Users/biocbuild/bbs-3.13-bioc/meat/Rmagpie.Rcheck/00check.log’
for details.
Rmagpie.Rcheck/00install.out
############################################################################## ############################################################################## ### ### Running command: ### ### /Library/Frameworks/R.framework/Versions/Current/Resources/bin/R CMD INSTALL Rmagpie ### ############################################################################## ############################################################################## * installing to library ‘/Library/Frameworks/R.framework/Versions/4.1/Resources/library’ * installing *source* package ‘Rmagpie’ ... ** using staged installation ** R ** data ** demo ** inst ** byte-compile and prepare package for lazy loading ** help *** installing help indices ** building package indices ** installing vignettes ** testing if installed package can be loaded from temporary location ** testing if installed package can be loaded from final location ** testing if installed package keeps a record of temporary installation path * DONE (Rmagpie)
Rmagpie.Rcheck/Rmagpie-Ex.timings
| name | user | system | elapsed | |
| classifyNewSamples-methods | 1.378 | 0.044 | 1.422 | |
| experiment-class | 0.149 | 0.008 | 0.156 | |
| finalClassifier-class | 0.052 | 0.002 | 0.054 | |
| findFinalClassifier-methods | 0.112 | 0.010 | 0.123 | |
| geneSubsets-class | 0.004 | 0.001 | 0.005 | |
| getDataset-methods | 0.009 | 0.001 | 0.011 | |
| getFeatureSelectionOptions-methods | 0.006 | 0.002 | 0.008 | |
| getFinalClassifier | 0.140 | 0.016 | 0.157 | |
| getResults-methods | 4.826 | 0.116 | 4.948 | |
| plotErrorsFoldTwoLayerCV-methods | 5.367 | 0.033 | 5.403 | |
| plotErrorsRepeatedOneLayerCV | 0.886 | 0.011 | 0.899 | |
| plotErrorsSummaryOneLayerCV-methods | 0.700 | 0.007 | 0.707 | |
| rankedGenesImg-methods | 0.001 | 0.000 | 0.001 | |
| runOneLayerExtCV-methods | 0.727 | 0.006 | 0.734 | |
| runTwoLayerExtCV-methods | 8.699 | 0.040 | 8.745 | |
| setDataset-methods | 0 | 0 | 0 | |
| setFeatureSelectionOptions-methods | 0.006 | 0.002 | 0.009 | |
| thresholds-class | 0.001 | 0.001 | 0.002 | |
| vV70genes | 0.005 | 0.002 | 0.007 | |