| Back to Multiple platform build/check report for BioC 3.13 | 
  | 
This page was generated on 2021-10-15 15:06:50 -0400 (Fri, 15 Oct 2021).
| 
To the developers/maintainers of the Risa package: - Please allow up to 24 hours (and sometimes 48 hours) for your latest push to git@git.bioconductor.org:packages/Risa.git to reflect on this report. See How and When does the builder pull? When will my changes propagate? here for more information. - Make sure to use the following settings in order to reproduce any error or warning you see on this page.  | 
| Package 1587/2041 | Hostname | OS / Arch | INSTALL | BUILD | CHECK | BUILD BIN | ||||||||
| Risa 1.34.0  (landing page) Alejandra Gonzalez-Beltran 
  | nebbiolo1 | Linux (Ubuntu 20.04.2 LTS) / x86_64 | OK | OK | OK | |||||||||
| tokay2 | Windows Server 2012 R2 Standard / x64 | OK | OK | OK | OK | |||||||||
| machv2 | macOS 10.14.6 Mojave / x86_64 | OK | OK | OK | OK | |||||||||
| Package: Risa | 
| Version: 1.34.0 | 
| Command: /Library/Frameworks/R.framework/Versions/Current/Resources/bin/R CMD check --install=check:Risa.install-out.txt --library=/Library/Frameworks/R.framework/Versions/Current/Resources/library --no-vignettes --timings Risa_1.34.0.tar.gz | 
| StartedAt: 2021-10-14 23:13:11 -0400 (Thu, 14 Oct 2021) | 
| EndedAt: 2021-10-14 23:18:09 -0400 (Thu, 14 Oct 2021) | 
| EllapsedTime: 297.7 seconds | 
| RetCode: 0 | 
| Status: OK | 
| CheckDir: Risa.Rcheck | 
| Warnings: 0 | 
##############################################################################
##############################################################################
###
### Running command:
###
###   /Library/Frameworks/R.framework/Versions/Current/Resources/bin/R CMD check --install=check:Risa.install-out.txt --library=/Library/Frameworks/R.framework/Versions/Current/Resources/library --no-vignettes --timings Risa_1.34.0.tar.gz
###
##############################################################################
##############################################################################
* using log directory ‘/Users/biocbuild/bbs-3.13-bioc/meat/Risa.Rcheck’
* using R version 4.1.1 (2021-08-10)
* using platform: x86_64-apple-darwin17.0 (64-bit)
* using session charset: UTF-8
* using option ‘--no-vignettes’
* checking for file ‘Risa/DESCRIPTION’ ... OK
* this is package ‘Risa’ version ‘1.34.0’
* checking package namespace information ... OK
* checking package dependencies ... OK
* checking if this is a source package ... OK
* checking if there is a namespace ... OK
* checking for hidden files and directories ... NOTE
Found the following hidden files and directories:
  .git_fetch_output.txt
  .git_merge_output.txt
These were most likely included in error. See section ‘Package
structure’ in the ‘Writing R Extensions’ manual.
* checking for portable file names ... OK
* checking for sufficient/correct file permissions ... OK
* checking whether package ‘Risa’ can be installed ... OK
* checking installed package size ... OK
* checking package directory ... OK
* checking ‘build’ directory ... OK
* checking DESCRIPTION meta-information ... OK
* checking top-level files ... OK
* checking for left-over files ... OK
* checking index information ... OK
* checking package subdirectories ... OK
* checking R files for non-ASCII characters ... OK
* checking R files for syntax errors ... OK
* checking whether the package can be loaded ... OK
* checking whether the package can be loaded with stated dependencies ... OK
* checking whether the package can be unloaded cleanly ... OK
* checking whether the namespace can be loaded with stated dependencies ... OK
* checking whether the namespace can be unloaded cleanly ... OK
* checking dependencies in R code ... OK
* checking S3 generic/method consistency ... OK
* checking replacement functions ... OK
* checking foreign function calls ... OK
* checking R code for possible problems ... NOTE
getPackagesInBiocView: no visible global function definition for ‘data’
readISAtabZip: no visible global function definition for ‘unzip’
suggestBiocPackage: no visible global function definition for
  ‘read.csv’
write.assay.file: no visible global function definition for
  ‘write.table’
write.investigation.file: no visible global function definition for
  ‘write.table’
write.study.file: no visible global function definition for
  ‘write.table’
initialize,ISATab: no visible global function definition for
  ‘count.fields’
initialize,ISATab: no visible global function definition for
  ‘read.table’
initialize,ISATab : <anonymous>: no visible global function definition
  for ‘read.table’
initialize,ISATab : <anonymous> : <anonymous>: no visible global
  function definition for ‘read.table’
initialize,ISATab: no visible global function definition for ‘na.omit’
Undefined global functions or variables:
  count.fields data na.omit read.csv read.table unzip write.table
Consider adding
  importFrom("stats", "na.omit")
  importFrom("utils", "count.fields", "data", "read.csv", "read.table",
             "unzip", "write.table")
to your NAMESPACE file.
* checking Rd files ... OK
* checking Rd metadata ... OK
* checking Rd cross-references ... OK
* checking for missing documentation entries ... OK
* checking for code/documentation mismatches ... OK
* checking Rd \usage sections ... OK
* checking Rd contents ... OK
* checking for unstated dependencies in examples ... OK
* checking sizes of PDF files under ‘inst/doc’ ... OK
* checking files in ‘vignettes’ ... OK
* checking examples ... OK
Examples with CPU (user + system) or elapsed time > 5s
                              user system elapsed
processAssayXcmsSet         57.172  9.223  17.158
processAssayXcmsSet.1factor 44.503  6.898  18.649
readISAtab                  14.811  2.661   0.345
* checking for unstated dependencies in vignettes ... OK
* checking package vignettes in ‘inst/doc’ ... OK
* checking running R code from vignettes ... SKIPPED
* checking re-building of vignette outputs ... SKIPPED
* checking PDF version of manual ... OK
* DONE
Status: 2 NOTEs
See
  ‘/Users/biocbuild/bbs-3.13-bioc/meat/Risa.Rcheck/00check.log’
for details.
Risa.Rcheck/00install.out
############################################################################## ############################################################################## ### ### Running command: ### ### /Library/Frameworks/R.framework/Versions/Current/Resources/bin/R CMD INSTALL Risa ### ############################################################################## ############################################################################## * installing to library ‘/Library/Frameworks/R.framework/Versions/4.1/Resources/library’ * installing *source* package ‘Risa’ ... ** using staged installation ** R ** inst ** byte-compile and prepare package for lazy loading ** help *** installing help indices ** building package indices ** installing vignettes ** testing if installed package can be loaded from temporary location ** testing if installed package can be loaded from final location ** testing if installed package keeps a record of temporary installation path * DONE (Risa)
Risa.Rcheck/Risa-Ex.timings
| name | user | system | elapsed | |
| AssayTab-class | 0.006 | 0.004 | 0.010 | |
| ISAtab-class | 0.001 | 0.002 | 0.004 | |
| Risa-package | 0.773 | 0.352 | 1.158 | |
| getAnnotatedDataFrameAssay | 0.175 | 0.035 | 0.214 | |
| getExpressionSet | 0.069 | 0.032 | 0.101 | |
| getMIAMEMetadata | 0.109 | 0.034 | 0.145 | |
| getMSAssayFilenames | 0.029 | 0.003 | 0.032 | |
| getMicroarrayAssayFilenames | 0.079 | 0.036 | 0.118 | |
| getStudyFilename | 0.032 | 0.005 | 0.036 | |
| isMSAssay | 0.029 | 0.005 | 0.034 | |
| isMicroarrayAssay | 0.081 | 0.032 | 0.116 | |
| processAssayXcmsSet.1factor | 44.503 | 6.898 | 18.649 | |
| processAssayXcmsSet | 57.172 | 9.223 | 17.158 | |
| readISAtab | 14.811 | 2.661 | 0.345 | |
| updateAssayMetadata | 0.096 | 0.040 | 0.134 | |
| write.assay.file | 0.038 | 0.004 | 0.042 | |
| write.investigation.file | 0.034 | 0.004 | 0.039 | |
| write.isatab | 0.040 | 0.008 | 0.048 | |
| write.study.file | 0.039 | 0.005 | 0.045 | |