| Back to Multiple platform build/check report for BioC 3.13 |
|
This page was generated on 2021-10-15 15:06:19 -0400 (Fri, 15 Oct 2021).
|
To the developers/maintainers of the RiboProfiling package: - Please allow up to 24 hours (and sometimes 48 hours) for your latest push to git@git.bioconductor.org:packages/RiboProfiling.git to reflect on this report. See How and When does the builder pull? When will my changes propagate? here for more information. - Make sure to use the following settings in order to reproduce any error or warning you see on this page. |
| Package 1580/2041 | Hostname | OS / Arch | INSTALL | BUILD | CHECK | BUILD BIN | ||||||||
| RiboProfiling 1.22.0 (landing page) A. Popa
| nebbiolo1 | Linux (Ubuntu 20.04.2 LTS) / x86_64 | OK | OK | WARNINGS | |||||||||
| tokay2 | Windows Server 2012 R2 Standard / x64 | OK | OK | WARNINGS | OK | |||||||||
| machv2 | macOS 10.14.6 Mojave / x86_64 | OK | OK | WARNINGS | OK | |||||||||
| Package: RiboProfiling |
| Version: 1.22.0 |
| Command: rm -rf RiboProfiling.buildbin-libdir && mkdir RiboProfiling.buildbin-libdir && C:\Users\biocbuild\bbs-3.13-bioc\R\bin\R.exe CMD INSTALL --merge-multiarch --build --library=RiboProfiling.buildbin-libdir RiboProfiling_1.22.0.tar.gz |
| StartedAt: 2021-10-15 11:24:08 -0400 (Fri, 15 Oct 2021) |
| EndedAt: 2021-10-15 11:25:35 -0400 (Fri, 15 Oct 2021) |
| EllapsedTime: 87.8 seconds |
| RetCode: 0 |
| Status: OK |
| PackageFile: RiboProfiling_1.22.0.zip |
| PackageFileSize: 4.577 MiB |
##############################################################################
##############################################################################
###
### Running command:
###
### rm -rf RiboProfiling.buildbin-libdir && mkdir RiboProfiling.buildbin-libdir && C:\Users\biocbuild\bbs-3.13-bioc\R\bin\R.exe CMD INSTALL --merge-multiarch --build --library=RiboProfiling.buildbin-libdir RiboProfiling_1.22.0.tar.gz
###
##############################################################################
##############################################################################
install for i386
* installing *source* package 'RiboProfiling' ...
** using staged installation
** R
** data
** inst
** byte-compile and prepare package for lazy loading
Warning: replacing previous import 'BiocGenerics::Position' by 'ggplot2::Position' when loading 'RiboProfiling'
** help
*** installing help indices
converting help for package 'RiboProfiling'
finding HTML links ... done
RiboProfiling html
aroundPromoter html
cdsPosTransc html
codonDataCtrl html
codonIndexCovCtrl html
codonInfo html
codonPCA html
countShiftReads html
countsPlot html
ctrlGAlignments html
histMatchLength html
orfRelativePos html
plotSummarizedCov html
printPCA html
readStartCov html
readsToStartOrEnd html
riboSeqFromBAM html
** building package indices
** installing vignettes
** testing if installed package can be loaded from temporary location
Warning: replacing previous import 'BiocGenerics::Position' by 'ggplot2::Position' when loading 'RiboProfiling'
** testing if installed package can be loaded from final location
Warning: replacing previous import 'BiocGenerics::Position' by 'ggplot2::Position' when loading 'RiboProfiling'
** testing if installed package keeps a record of temporary installation path
install for x64
* installing *source* package 'RiboProfiling' ...
** testing if installed package can be loaded
Warning: replacing previous import 'BiocGenerics::Position' by 'ggplot2::Position' when loading 'RiboProfiling'
* MD5 sums
packaged installation of 'RiboProfiling' as RiboProfiling_1.22.0.zip
* DONE (RiboProfiling)