| Back to Multiple platform build/check report for BioC 3.13 |
|
This page was generated on 2021-10-15 15:06:18 -0400 (Fri, 15 Oct 2021).
|
To the developers/maintainers of the ReactomePA package: - Please allow up to 24 hours (and sometimes 48 hours) for your latest push to git@git.bioconductor.org:packages/ReactomePA.git to reflect on this report. See How and When does the builder pull? When will my changes propagate? here for more information. - Make sure to use the following settings in order to reproduce any error or warning you see on this page. |
| Package 1535/2041 | Hostname | OS / Arch | INSTALL | BUILD | CHECK | BUILD BIN | ||||||||
| ReactomePA 1.36.0 (landing page) Guangchuang Yu
| nebbiolo1 | Linux (Ubuntu 20.04.2 LTS) / x86_64 | OK | OK | OK | |||||||||
| tokay2 | Windows Server 2012 R2 Standard / x64 | OK | OK | OK | OK | |||||||||
| machv2 | macOS 10.14.6 Mojave / x86_64 | OK | OK | OK | OK | |||||||||
| Package: ReactomePA |
| Version: 1.36.0 |
| Command: rm -rf ReactomePA.buildbin-libdir && mkdir ReactomePA.buildbin-libdir && C:\Users\biocbuild\bbs-3.13-bioc\R\bin\R.exe CMD INSTALL --merge-multiarch --build --library=ReactomePA.buildbin-libdir ReactomePA_1.36.0.tar.gz |
| StartedAt: 2021-10-15 11:18:06 -0400 (Fri, 15 Oct 2021) |
| EndedAt: 2021-10-15 11:19:30 -0400 (Fri, 15 Oct 2021) |
| EllapsedTime: 83.4 seconds |
| RetCode: 0 |
| Status: OK |
| PackageFile: ReactomePA_1.36.0.zip |
| PackageFileSize: 101.8 KiB |
##############################################################################
##############################################################################
###
### Running command:
###
### rm -rf ReactomePA.buildbin-libdir && mkdir ReactomePA.buildbin-libdir && C:\Users\biocbuild\bbs-3.13-bioc\R\bin\R.exe CMD INSTALL --merge-multiarch --build --library=ReactomePA.buildbin-libdir ReactomePA_1.36.0.tar.gz
###
##############################################################################
##############################################################################
install for i386
* installing *source* package 'ReactomePA' ...
** using staged installation
** R
** inst
** byte-compile and prepare package for lazy loading
** help
*** installing help indices
converting help for package 'ReactomePA'
finding HTML links ... done
DataSet html
ReactomePA-package html
finding level-2 HTML links ... done
enrichPathway html
getALLEG html
getDb html
gsePathway html
reexports html
viewPathway html
** building package indices
** installing vignettes
** testing if installed package can be loaded from temporary location
** testing if installed package can be loaded from final location
** testing if installed package keeps a record of temporary installation path
install for x64
* installing *source* package 'ReactomePA' ...
** testing if installed package can be loaded
* MD5 sums
packaged installation of 'ReactomePA' as ReactomePA_1.36.0.zip
* DONE (ReactomePA)