Back to Multiple platform build/check report for BioC 3.13 |
|
This page was generated on 2021-10-15 15:05:50 -0400 (Fri, 15 Oct 2021).
To the developers/maintainers of the ReactomeContentService4R package: - Please allow up to 24 hours (and sometimes 48 hours) for your latest push to git@git.bioconductor.org:packages/ReactomeContentService4R.git to reflect on this report. See How and When does the builder pull? When will my changes propagate? here for more information. - Make sure to use the following settings in order to reproduce any error or warning you see on this page. |
Package 1532/2041 | Hostname | OS / Arch | INSTALL | BUILD | CHECK | BUILD BIN | ||||||||
ReactomeContentService4R 1.0.0 (landing page) Chi-Lam Poon
| nebbiolo1 | Linux (Ubuntu 20.04.2 LTS) / x86_64 | OK | OK | OK | ![]() | ||||||||
tokay2 | Windows Server 2012 R2 Standard / x64 | OK | OK | OK | OK | ![]() | ||||||||
machv2 | macOS 10.14.6 Mojave / x86_64 | OK | OK | OK | OK | ![]() | ||||||||
Package: ReactomeContentService4R |
Version: 1.0.0 |
Command: /home/biocbuild/bbs-3.13-bioc/R/bin/R CMD check --install=check:ReactomeContentService4R.install-out.txt --library=/home/biocbuild/bbs-3.13-bioc/R/library --no-vignettes --timings ReactomeContentService4R_1.0.0.tar.gz |
StartedAt: 2021-10-14 11:15:36 -0400 (Thu, 14 Oct 2021) |
EndedAt: 2021-10-14 11:16:03 -0400 (Thu, 14 Oct 2021) |
EllapsedTime: 27.1 seconds |
RetCode: 0 |
Status: OK |
CheckDir: ReactomeContentService4R.Rcheck |
Warnings: 0 |
############################################################################## ############################################################################## ### ### Running command: ### ### /home/biocbuild/bbs-3.13-bioc/R/bin/R CMD check --install=check:ReactomeContentService4R.install-out.txt --library=/home/biocbuild/bbs-3.13-bioc/R/library --no-vignettes --timings ReactomeContentService4R_1.0.0.tar.gz ### ############################################################################## ############################################################################## * using log directory ‘/home/biocbuild/bbs-3.13-bioc/meat/ReactomeContentService4R.Rcheck’ * using R version 4.1.1 (2021-08-10) * using platform: x86_64-pc-linux-gnu (64-bit) * using session charset: UTF-8 * using option ‘--no-vignettes’ * checking for file ‘ReactomeContentService4R/DESCRIPTION’ ... OK * this is package ‘ReactomeContentService4R’ version ‘1.0.0’ * package encoding: UTF-8 * checking package namespace information ... OK * checking package dependencies ... OK * checking if this is a source package ... OK * checking if there is a namespace ... OK * checking for hidden files and directories ... OK * checking for portable file names ... OK * checking for sufficient/correct file permissions ... OK * checking whether package ‘ReactomeContentService4R’ can be installed ... OK * checking installed package size ... OK * checking package directory ... OK * checking ‘build’ directory ... OK * checking DESCRIPTION meta-information ... OK * checking top-level files ... OK * checking for left-over files ... OK * checking index information ... OK * checking package subdirectories ... OK * checking R files for non-ASCII characters ... OK * checking R files for syntax errors ... OK * checking whether the package can be loaded ... OK * checking whether the package can be loaded with stated dependencies ... OK * checking whether the package can be unloaded cleanly ... OK * checking whether the namespace can be loaded with stated dependencies ... OK * checking whether the namespace can be unloaded cleanly ... OK * checking dependencies in R code ... OK * checking S3 generic/method consistency ... OK * checking replacement functions ... OK * checking foreign function calls ... OK * checking R code for possible problems ... OK * checking Rd files ... OK * checking Rd metadata ... OK * checking Rd cross-references ... OK * checking for missing documentation entries ... OK * checking for code/documentation mismatches ... OK * checking Rd \usage sections ... OK * checking Rd contents ... OK * checking for unstated dependencies in examples ... OK * checking files in ‘vignettes’ ... OK * checking examples ... OK * checking for unstated dependencies in vignettes ... OK * checking package vignettes in ‘inst/doc’ ... OK * checking running R code from vignettes ... SKIPPED * checking re-building of vignette outputs ... SKIPPED * checking PDF version of manual ... OK * DONE Status: OK
ReactomeContentService4R.Rcheck/00install.out
############################################################################## ############################################################################## ### ### Running command: ### ### /home/biocbuild/bbs-3.13-bioc/R/bin/R CMD INSTALL ReactomeContentService4R ### ############################################################################## ############################################################################## * installing to library ‘/home/biocbuild/bbs-3.13-bioc/R/library’ * installing *source* package ‘ReactomeContentService4R’ ... ** using staged installation ** R ** byte-compile and prepare package for lazy loading ** help *** installing help indices ** building package indices ** installing vignettes ** testing if installed package can be loaded from temporary location ** testing if installed package can be loaded from final location ** testing if installed package keeps a record of temporary installation path * DONE (ReactomeContentService4R)
ReactomeContentService4R.Rcheck/ReactomeContentService4R-Ex.timings
name | user | system | elapsed | |
discover | 0.048 | 0.008 | 0.094 | |
exportEventFile | 0.013 | 0.002 | 0.052 | |
exportImage | 0.072 | 0.017 | 0.552 | |
getEntities | 0.149 | 0.032 | 0.551 | |
getEventsHierarchy | 0 | 0 | 0 | |
getOrthology | 0.051 | 0.003 | 0.116 | |
getParticipants | 0.099 | 0.028 | 0.307 | |
getPathways | 0.049 | 0.016 | 0.115 | |
getPerson | 0.049 | 0.008 | 0.609 | |
getSchemaClass | 0.132 | 0.017 | 1.858 | |
getSpecies | 0.014 | 0.004 | 0.045 | |
listSearchItems | 0.096 | 0.036 | 0.205 | |
mapId | 0.082 | 0.101 | 0.364 | |
query | 0.023 | 0.008 | 0.091 | |
searchQuery | 0.047 | 0.003 | 0.128 | |
spellCheck | 0.007 | 0.008 | 0.037 | |