| Back to Multiple platform build/check report for BioC 3.13 | 
  | 
This page was generated on 2021-10-15 15:06:49 -0400 (Fri, 15 Oct 2021).
| 
To the developers/maintainers of the RchyOptimyx package: - Please allow up to 24 hours (and sometimes 48 hours) for your latest push to git@git.bioconductor.org:packages/RchyOptimyx.git to reflect on this report. See How and When does the builder pull? When will my changes propagate? here for more information. - Make sure to use the following settings in order to reproduce any error or warning you see on this page.  | 
| Package 1519/2041 | Hostname | OS / Arch | INSTALL | BUILD | CHECK | BUILD BIN | ||||||||
Adrin Jalali 
  | nebbiolo1 | Linux (Ubuntu 20.04.2 LTS) / x86_64 | ERROR | ERROR | skipped | |||||||||
| tokay2 | Windows Server 2012 R2 Standard / x64 | ERROR | ERROR | skipped | skipped | |||||||||
| machv2 | macOS 10.14.6 Mojave / x86_64 | ERROR | ERROR | skipped | skipped | |||||||||
| Package: RchyOptimyx | 
| Version: 2.32.0 | 
| Command: /Library/Frameworks/R.framework/Versions/Current/Resources/bin/R CMD build --keep-empty-dirs --no-resave-data RchyOptimyx | 
| StartedAt: 2021-10-14 14:15:18 -0400 (Thu, 14 Oct 2021) | 
| EndedAt: 2021-10-14 14:15:19 -0400 (Thu, 14 Oct 2021) | 
| EllapsedTime: 0.9 seconds | 
| RetCode: 1 | 
| Status: ERROR | 
| PackageFile: None | 
| PackageFileSize: NA | 
##############################################################################
##############################################################################
###
### Running command:
###
###   /Library/Frameworks/R.framework/Versions/Current/Resources/bin/R CMD build --keep-empty-dirs --no-resave-data RchyOptimyx
###
##############################################################################
##############################################################################
* checking for file ‘RchyOptimyx/DESCRIPTION’ ... OK
* preparing ‘RchyOptimyx’:
* checking DESCRIPTION meta-information ... OK
* cleaning src
* installing the package to build vignettes
      -----------------------------------
ERROR: dependency ‘flowType’ is not available for package ‘RchyOptimyx’
* removing ‘/private/tmp/RtmpXnjCbm/Rinst1814850ceb90c/RchyOptimyx’
      -----------------------------------
ERROR: package installation failed