| Back to Multiple platform build/check report for BioC 3.13 |
|
This page was generated on 2021-10-15 15:06:18 -0400 (Fri, 15 Oct 2021).
|
To the developers/maintainers of the RareVariantVis package: - Please allow up to 24 hours (and sometimes 48 hours) for your latest push to git@git.bioconductor.org:packages/RareVariantVis.git to reflect on this report. See How and When does the builder pull? When will my changes propagate? here for more information. - Make sure to use the following settings in order to reproduce any error or warning you see on this page. |
| Package 1503/2041 | Hostname | OS / Arch | INSTALL | BUILD | CHECK | BUILD BIN | ||||||||
| RareVariantVis 2.20.0 (landing page) Tomasz Stokowy
| nebbiolo1 | Linux (Ubuntu 20.04.2 LTS) / x86_64 | OK | OK | OK | |||||||||
| tokay2 | Windows Server 2012 R2 Standard / x64 | OK | OK | OK | OK | |||||||||
| machv2 | macOS 10.14.6 Mojave / x86_64 | OK | OK | OK | OK | |||||||||
| Package: RareVariantVis |
| Version: 2.20.0 |
| Command: C:\cygwin\bin\curl.exe -O http://155.52.207.165/BBS/3.13/bioc/src/contrib/RareVariantVis_2.20.0.tar.gz && rm -rf RareVariantVis.buildbin-libdir && mkdir RareVariantVis.buildbin-libdir && C:\Users\biocbuild\bbs-3.13-bioc\R\bin\R.exe CMD INSTALL --merge-multiarch --build --library=RareVariantVis.buildbin-libdir RareVariantVis_2.20.0.tar.gz && C:\Users\biocbuild\bbs-3.13-bioc\R\bin\R.exe CMD INSTALL RareVariantVis_2.20.0.zip && rm RareVariantVis_2.20.0.tar.gz RareVariantVis_2.20.0.zip |
| StartedAt: 2021-10-14 10:45:39 -0400 (Thu, 14 Oct 2021) |
| EndedAt: 2021-10-14 10:47:44 -0400 (Thu, 14 Oct 2021) |
| EllapsedTime: 125.3 seconds |
| RetCode: 0 |
| Status: OK |
##############################################################################
##############################################################################
###
### Running command:
###
### C:\cygwin\bin\curl.exe -O http://155.52.207.165/BBS/3.13/bioc/src/contrib/RareVariantVis_2.20.0.tar.gz && rm -rf RareVariantVis.buildbin-libdir && mkdir RareVariantVis.buildbin-libdir && C:\Users\biocbuild\bbs-3.13-bioc\R\bin\R.exe CMD INSTALL --merge-multiarch --build --library=RareVariantVis.buildbin-libdir RareVariantVis_2.20.0.tar.gz && C:\Users\biocbuild\bbs-3.13-bioc\R\bin\R.exe CMD INSTALL RareVariantVis_2.20.0.zip && rm RareVariantVis_2.20.0.tar.gz RareVariantVis_2.20.0.zip
###
##############################################################################
##############################################################################
% Total % Received % Xferd Average Speed Time Time Time Current
Dload Upload Total Spent Left Speed
0 0 0 0 0 0 0 0 --:--:-- --:--:-- --:--:-- 0
0 2632k 0 15985 0 0 105k 0 0:00:24 --:--:-- 0:00:24 106k
65 2632k 65 1726k 0 0 1525k 0 0:00:01 0:00:01 --:--:-- 1525k
100 2632k 100 2632k 0 0 1704k 0 0:00:01 0:00:01 --:--:-- 1704k
install for i386
* installing *source* package 'RareVariantVis' ...
** using staged installation
** R
** inst
** byte-compile and prepare package for lazy loading
Creating a generic function for 'toJSON' from package 'jsonlite' in package 'googleVis'
** help
*** installing help indices
converting help for package 'RareVariantVis'
finding HTML links ... done
callHomozygous html
chromosomeVis html
getCrisprGuides html
movingAverage html
multipleVis html
rareVariantVis html
** building package indices
** installing vignettes
** testing if installed package can be loaded from temporary location
Creating a generic function for 'toJSON' from package 'jsonlite' in package 'googleVis'
** testing if installed package can be loaded from final location
Creating a generic function for 'toJSON' from package 'jsonlite' in package 'googleVis'
** testing if installed package keeps a record of temporary installation path
install for x64
* installing *source* package 'RareVariantVis' ...
** testing if installed package can be loaded
Creating a generic function for 'toJSON' from package 'jsonlite' in package 'googleVis'
* MD5 sums
packaged installation of 'RareVariantVis' as RareVariantVis_2.20.0.zip
* DONE (RareVariantVis)
* installing to library 'C:/Users/biocbuild/bbs-3.13-bioc/R/library'
package 'RareVariantVis' successfully unpacked and MD5 sums checked