| Back to Multiple platform build/check report for BioC 3.13 |
|
This page was generated on 2021-10-15 15:06:18 -0400 (Fri, 15 Oct 2021).
|
To the developers/maintainers of the RadioGx package: - Please allow up to 24 hours (and sometimes 48 hours) for your latest push to git@git.bioconductor.org:packages/RadioGx.git to reflect on this report. See How and When does the builder pull? When will my changes propagate? here for more information. - Make sure to use the following settings in order to reproduce any error or warning you see on this page. |
| Package 1493/2041 | Hostname | OS / Arch | INSTALL | BUILD | CHECK | BUILD BIN | ||||||||
| RadioGx 1.2.0 (landing page) Benjamin Haibe-Kains
| nebbiolo1 | Linux (Ubuntu 20.04.2 LTS) / x86_64 | OK | OK | OK | |||||||||
| tokay2 | Windows Server 2012 R2 Standard / x64 | OK | OK | OK | OK | |||||||||
| machv2 | macOS 10.14.6 Mojave / x86_64 | OK | OK | OK | OK | |||||||||
| Package: RadioGx |
| Version: 1.2.0 |
| Command: rm -rf RadioGx.buildbin-libdir && mkdir RadioGx.buildbin-libdir && C:\Users\biocbuild\bbs-3.13-bioc\R\bin\R.exe CMD INSTALL --merge-multiarch --build --library=RadioGx.buildbin-libdir RadioGx_1.2.0.tar.gz |
| StartedAt: 2021-10-15 11:12:40 -0400 (Fri, 15 Oct 2021) |
| EndedAt: 2021-10-15 11:14:06 -0400 (Fri, 15 Oct 2021) |
| EllapsedTime: 86.2 seconds |
| RetCode: 0 |
| Status: OK |
| PackageFile: RadioGx_1.2.0.zip |
| PackageFileSize: 4.426 MiB |
##############################################################################
##############################################################################
###
### Running command:
###
### rm -rf RadioGx.buildbin-libdir && mkdir RadioGx.buildbin-libdir && C:\Users\biocbuild\bbs-3.13-bioc\R\bin\R.exe CMD INSTALL --merge-multiarch --build --library=RadioGx.buildbin-libdir RadioGx_1.2.0.tar.gz
###
##############################################################################
##############################################################################
install for i386
* installing *source* package 'RadioGx' ...
** using staged installation
** R
** data
*** moving datasets to lazyload DB
** inst
** byte-compile and prepare package for lazy loading
** help
*** installing help indices
converting help for package 'RadioGx'
finding HTML links ... done
RadioSet-class html
RadioSet html
RadioSig html
availableRSets html
checkRSetStructure html
clevelandSmall html
computeAUC html
computeD10 html
computeSF2 html
dim-RadioSet-method html
doseResponseCurve html
downloadRSet html
linearQuadraticModel html
mDataNames-RadioSet-method html
plotCurve html
radSensitivitySig html
radiationInfo-set html
radiationInfo html
radiationTypes-set html
radiationTypes html
show-RadioSet-method html
show-RadioSig-method html
showSigAnnot-RadioSig-method html
sub-RadioSet-ANY-ANY-ANY-method html
subsetTo-RadioSet-method html
summarizeMolecularProfiles-RadioSet-method
html
summarizeSensitivityProfiles-RadioSet-method
html
** building package indices
** installing vignettes
** testing if installed package can be loaded from temporary location
** testing if installed package can be loaded from final location
** testing if installed package keeps a record of temporary installation path
install for x64
* installing *source* package 'RadioGx' ...
** testing if installed package can be loaded
* MD5 sums
packaged installation of 'RadioGx' as RadioGx_1.2.0.zip
* DONE (RadioGx)