| Back to Multiple platform build/check report for BioC 3.13 |
|
This page was generated on 2021-10-15 15:06:20 -0400 (Fri, 15 Oct 2021).
|
To the developers/maintainers of the RVS package: - Please allow up to 24 hours (and sometimes 48 hours) for your latest push to git@git.bioconductor.org:packages/RVS.git to reflect on this report. See How and When does the builder pull? When will my changes propagate? here for more information. - Make sure to use the following settings in order to reproduce any error or warning you see on this page. |
| Package 1658/2041 | Hostname | OS / Arch | INSTALL | BUILD | CHECK | BUILD BIN | ||||||||
| RVS 1.14.0 (landing page) Thomas Sherman
| nebbiolo1 | Linux (Ubuntu 20.04.2 LTS) / x86_64 | OK | OK | OK | |||||||||
| tokay2 | Windows Server 2012 R2 Standard / x64 | OK | OK | OK | OK | |||||||||
| machv2 | macOS 10.14.6 Mojave / x86_64 | OK | OK | OK | OK | |||||||||
| Package: RVS |
| Version: 1.14.0 |
| Command: rm -rf RVS.buildbin-libdir && mkdir RVS.buildbin-libdir && C:\Users\biocbuild\bbs-3.13-bioc\R\bin\R.exe CMD INSTALL --merge-multiarch --build --library=RVS.buildbin-libdir RVS_1.14.0.tar.gz |
| StartedAt: 2021-10-15 11:34:31 -0400 (Fri, 15 Oct 2021) |
| EndedAt: 2021-10-15 11:35:47 -0400 (Fri, 15 Oct 2021) |
| EllapsedTime: 76.3 seconds |
| RetCode: 0 |
| Status: OK |
| PackageFile: RVS_1.14.0.zip |
| PackageFileSize: 566.8 KiB |
##############################################################################
##############################################################################
###
### Running command:
###
### rm -rf RVS.buildbin-libdir && mkdir RVS.buildbin-libdir && C:\Users\biocbuild\bbs-3.13-bioc\R\bin\R.exe CMD INSTALL --merge-multiarch --build --library=RVS.buildbin-libdir RVS_1.14.0.tar.gz
###
##############################################################################
##############################################################################
install for i386
* installing *source* package 'RVS' ...
** using staged installation
** R
** data
*** moving datasets to lazyload DB
** inst
** byte-compile and prepare package for lazy loading
** help
*** installing help indices
converting help for package 'RVS'
finding HTML links ... done
ComputeKinshipPropCoef-methods html
GeneDrop html
RVS html
RVgene html
RVsharing-methods html
SnpMatrixToCount html
ancestorDistance html
areMating html
checkArgs html
computePFU html
computePhiVec html
convertMatrix html
createNetwork html
denomProb html
enrichmentPValue html
enrichmentPValue_R_Backend html
ex.ped.mat html
exactSharingProb html
extract_carriers html
fam15157.vcf html
fam28003.vcf html
founderOccurence html
get.psubset html
inferNumAlleles html
inferTheta html
isDescendant html
marginalProb html
monteCarloSharingProb html
multipleFamilyPValue html
multipleFamilyPValue_R_Backend html
multipleVariantPValue html
multipleVariantPValue_R_Backend html
numerProb html
oldArgs html
oneFounderSharingProb html
oneFounderSharingProbSplitting html
ped2trio html
processPedigree-methods html
relatedFoundersCorrection html
runMonteCarlo html
samplePedigrees html
simulatePedigree html
snpMat html
twoFounderSharingProb html
** building package indices
** installing vignettes
** testing if installed package can be loaded from temporary location
** testing if installed package can be loaded from final location
** testing if installed package keeps a record of temporary installation path
install for x64
* installing *source* package 'RVS' ...
** testing if installed package can be loaded
* MD5 sums
packaged installation of 'RVS' as RVS_1.14.0.zip
* DONE (RVS)