| Back to Multiple platform build/check report for BioC 3.13 | 
 | 
This page was generated on 2021-10-15 15:06:20 -0400 (Fri, 15 Oct 2021).
| To the developers/maintainers of the RUVcorr package: - Please allow up to 24 hours (and sometimes 48 hours) for your latest push to git@git.bioconductor.org:packages/RUVcorr.git to reflect on this report. See How and When does the builder pull? When will my changes propagate? here for more information. - Make sure to use the following settings in order to reproduce any error or warning you see on this page. | 
| Package 1655/2041 | Hostname | OS / Arch | INSTALL | BUILD | CHECK | BUILD BIN | ||||||||
| RUVcorr 1.24.0  (landing page) Saskia Freytag 
 | nebbiolo1 | Linux (Ubuntu 20.04.2 LTS) / x86_64 | OK | OK | WARNINGS |  | ||||||||
| tokay2 | Windows Server 2012 R2 Standard / x64 | OK | OK | WARNINGS | OK |  | ||||||||
| machv2 | macOS 10.14.6 Mojave / x86_64 | OK | OK | WARNINGS | OK |  | ||||||||
| Package: RUVcorr | 
| Version: 1.24.0 | 
| Command: rm -rf RUVcorr.buildbin-libdir && mkdir RUVcorr.buildbin-libdir && C:\Users\biocbuild\bbs-3.13-bioc\R\bin\R.exe CMD INSTALL --merge-multiarch --build --library=RUVcorr.buildbin-libdir RUVcorr_1.24.0.tar.gz | 
| StartedAt: 2021-10-15 11:34:05 -0400 (Fri, 15 Oct 2021) | 
| EndedAt: 2021-10-15 11:35:22 -0400 (Fri, 15 Oct 2021) | 
| EllapsedTime: 77.1 seconds | 
| RetCode: 0 | 
| Status: OK | 
| PackageFile: RUVcorr_1.24.0.zip | 
| PackageFileSize: 325 KiB | 
##############################################################################
##############################################################################
###
### Running command:
###
###   rm -rf RUVcorr.buildbin-libdir && mkdir RUVcorr.buildbin-libdir && C:\Users\biocbuild\bbs-3.13-bioc\R\bin\R.exe CMD INSTALL --merge-multiarch --build --library=RUVcorr.buildbin-libdir RUVcorr_1.24.0.tar.gz
###
##############################################################################
##############################################################################
install for i386
* installing *source* package 'RUVcorr' ...
** using staged installation
** R
** inst
** byte-compile and prepare package for lazy loading
** help
*** installing help indices
  converting help for package 'RUVcorr'
    finding HTML links ... done
    ECDFPlot                                html  
    PCAPlot                                 html  
    RLEPlot                                 html  
    RUVNaiveRidge                           html  
    RUVcorr                                 html  
    assessQuality                           html  
    background                              html  
    calculateThreshold                      html  
    compareRanks                            html  
    correlationPlot                         html  
    eigenvaluePlot                          html  
    empNegativeControls                     html  
    findIQR                                 html  
    findMinmaxSamples                       html  
    findWeights                             html  
    funcPara                                html  
    funcThresh                              html  
    genePlot                                html  
    histogramPlot                           html  
    is.Threshold                            html  
    is.Weights                              html  
    is.optimizeParameters                   html  
    is.simulateGEdata                       html  
    makePosSemiDef                          html  
    makeRankedList                          html  
    mashUp                                  html  
    optimizeParameters                      html  
    plot.optimizeParameters                 html  
    plotDesign                              html  
    plotThreshold                           html  
    print.simulateGEdata                    html  
    prioritise                              html  
    simulateGEdata                          html  
    splitByFactor                           html  
    wcor                                    html  
** building package indices
** installing vignettes
** testing if installed package can be loaded from temporary location
** testing if installed package can be loaded from final location
** testing if installed package keeps a record of temporary installation path
install for x64
* installing *source* package 'RUVcorr' ...
** testing if installed package can be loaded
* MD5 sums
packaged installation of 'RUVcorr' as RUVcorr_1.24.0.zip
* DONE (RUVcorr)