| Back to Multiple platform build/check report for BioC 3.13 |
|
This page was generated on 2021-10-15 15:06:50 -0400 (Fri, 15 Oct 2021).
|
To the developers/maintainers of the RPA package: - Please allow up to 24 hours (and sometimes 48 hours) for your latest push to git@git.bioconductor.org:packages/RPA.git to reflect on this report. See How and When does the builder pull? When will my changes propagate? here for more information. - Make sure to use the following settings in order to reproduce any error or warning you see on this page. |
| Package 1624/2041 | Hostname | OS / Arch | INSTALL | BUILD | CHECK | BUILD BIN | ||||||||
| RPA 1.48.0 (landing page) Leo Lahti
| nebbiolo1 | Linux (Ubuntu 20.04.2 LTS) / x86_64 | OK | OK | OK | |||||||||
| tokay2 | Windows Server 2012 R2 Standard / x64 | OK | OK | OK | OK | |||||||||
| machv2 | macOS 10.14.6 Mojave / x86_64 | OK | OK | OK | OK | |||||||||
| Package: RPA |
| Version: 1.48.0 |
| Command: /Library/Frameworks/R.framework/Versions/Current/Resources/bin/R CMD check --install=check:RPA.install-out.txt --library=/Library/Frameworks/R.framework/Versions/Current/Resources/library --no-vignettes --timings RPA_1.48.0.tar.gz |
| StartedAt: 2021-10-14 23:22:59 -0400 (Thu, 14 Oct 2021) |
| EndedAt: 2021-10-14 23:26:09 -0400 (Thu, 14 Oct 2021) |
| EllapsedTime: 189.4 seconds |
| RetCode: 0 |
| Status: OK |
| CheckDir: RPA.Rcheck |
| Warnings: 0 |
############################################################################## ############################################################################## ### ### Running command: ### ### /Library/Frameworks/R.framework/Versions/Current/Resources/bin/R CMD check --install=check:RPA.install-out.txt --library=/Library/Frameworks/R.framework/Versions/Current/Resources/library --no-vignettes --timings RPA_1.48.0.tar.gz ### ############################################################################## ############################################################################## * using log directory ‘/Users/biocbuild/bbs-3.13-bioc/meat/RPA.Rcheck’ * using R version 4.1.1 (2021-08-10) * using platform: x86_64-apple-darwin17.0 (64-bit) * using session charset: UTF-8 * using option ‘--no-vignettes’ * checking for file ‘RPA/DESCRIPTION’ ... OK * checking extension type ... Package * this is package ‘RPA’ version ‘1.48.0’ * package encoding: UTF-8 * checking package namespace information ... OK * checking package dependencies ... OK * checking if this is a source package ... OK * checking if there is a namespace ... OK * checking for hidden files and directories ... OK * checking for portable file names ... OK * checking for sufficient/correct file permissions ... OK * checking whether package ‘RPA’ can be installed ... OK * checking installed package size ... OK * checking package directory ... OK * checking ‘build’ directory ... OK * checking DESCRIPTION meta-information ... OK * checking top-level files ... OK * checking for left-over files ... OK * checking index information ... OK * checking package subdirectories ... OK * checking R files for non-ASCII characters ... OK * checking R files for syntax errors ... OK * checking whether the package can be loaded ... OK * checking whether the package can be loaded with stated dependencies ... OK * checking whether the package can be unloaded cleanly ... OK * checking whether the namespace can be loaded with stated dependencies ... OK * checking whether the namespace can be unloaded cleanly ... OK * checking dependencies in R code ... OK * checking S3 generic/method consistency ... OK * checking replacement functions ... OK * checking foreign function calls ... OK * checking R code for possible problems ... OK * checking Rd files ... OK * checking Rd metadata ... OK * checking Rd cross-references ... OK * checking for missing documentation entries ... OK * checking for code/documentation mismatches ... OK * checking Rd \usage sections ... OK * checking Rd contents ... OK * checking for unstated dependencies in examples ... OK * checking files in ‘vignettes’ ... OK * checking examples ... OK * checking for unstated dependencies in ‘tests’ ... OK * checking tests ... Running ‘rpa.R’ OK * checking for unstated dependencies in vignettes ... OK * checking package vignettes in ‘inst/doc’ ... OK * checking running R code from vignettes ... SKIPPED * checking re-building of vignette outputs ... SKIPPED * checking PDF version of manual ... OK * DONE Status: OK
RPA.Rcheck/00install.out
############################################################################## ############################################################################## ### ### Running command: ### ### /Library/Frameworks/R.framework/Versions/Current/Resources/bin/R CMD INSTALL RPA ### ############################################################################## ############################################################################## * installing to library ‘/Library/Frameworks/R.framework/Versions/4.1/Resources/library’ * installing *source* package ‘RPA’ ... ** using staged installation ** R ** inst ** byte-compile and prepare package for lazy loading ** help *** installing help indices ** building package indices ** installing vignettes ** testing if installed package can be loaded from temporary location ** testing if installed package can be loaded from final location ** testing if installed package keeps a record of temporary installation path * DONE (RPA)
RPA.Rcheck/tests/rpa.Rout
R version 4.1.1 (2021-08-10) -- "Kick Things"
Copyright (C) 2021 The R Foundation for Statistical Computing
Platform: x86_64-apple-darwin17.0 (64-bit)
R is free software and comes with ABSOLUTELY NO WARRANTY.
You are welcome to redistribute it under certain conditions.
Type 'license()' or 'licence()' for distribution details.
R is a collaborative project with many contributors.
Type 'contributors()' for more information and
'citation()' on how to cite R or R packages in publications.
Type 'demo()' for some demos, 'help()' for on-line help, or
'help.start()' for an HTML browser interface to help.
Type 'q()' to quit R.
> library(affy)
Loading required package: BiocGenerics
Loading required package: parallel
Attaching package: 'BiocGenerics'
The following objects are masked from 'package:parallel':
clusterApply, clusterApplyLB, clusterCall, clusterEvalQ,
clusterExport, clusterMap, parApply, parCapply, parLapply,
parLapplyLB, parRapply, parSapply, parSapplyLB
The following objects are masked from 'package:stats':
IQR, mad, sd, var, xtabs
The following objects are masked from 'package:base':
Filter, Find, Map, Position, Reduce, anyDuplicated, append,
as.data.frame, basename, cbind, colnames, dirname, do.call,
duplicated, eval, evalq, get, grep, grepl, intersect, is.unsorted,
lapply, mapply, match, mget, order, paste, pmax, pmax.int, pmin,
pmin.int, rank, rbind, rownames, sapply, setdiff, sort, table,
tapply, union, unique, unsplit, which.max, which.min
Loading required package: Biobase
Welcome to Bioconductor
Vignettes contain introductory material; view with
'browseVignettes()'. To cite Bioconductor, see
'citation("Biobase")', and for packages 'citation("pkgname")'.
> library(affydata)
Package
[1,] "affydata"
LibPath
[1,] "/Library/Frameworks/R.framework/Versions/4.1/Resources/library"
Item Title
[1,] "Dilution" "AffyBatch instance Dilution"
> library(RPA)
RPA Copyright (C) 2008-2017 Leo Lahti. See http://microbiome.github.io/
> data(Dilution)
> eset <- rpa(Dilution)
Preprocessing affybatch...
Background correcting...
Normalizing...
Logging PM values...
Retrieving probe positions..
...
Preprocessing completed.
Setting quantile basis
Warning messages:
1: replacing previous import 'AnnotationDbi::tail' by 'utils::tail' when loading 'hgu95av2cdf'
2: replacing previous import 'AnnotationDbi::head' by 'utils::head' when loading 'hgu95av2cdf'
>
> proc.time()
user system elapsed
19.358 0.736 20.133
RPA.Rcheck/RPA-Ex.timings
| name | user | system | elapsed | |
| RPA-package | 0.000 | 0.001 | 0.000 | |
| RPA.iteration | 0.000 | 0.000 | 0.001 | |
| RPA.preprocess | 0 | 0 | 0 | |
| collect.hyperparameters | 0 | 0 | 0 | |
| d.update.fast | 0 | 0 | 0 | |
| estimate.affinities | 0 | 0 | 0 | |
| estimate.hyperparameters | 0.000 | 0.001 | 0.000 | |
| frpa | 0 | 0 | 0 | |
| get.batches | 0 | 0 | 0 | |
| get.probe.matrix | 0 | 0 | 0 | |
| get.probe.parameters | 0 | 0 | 0 | |
| get.probeset | 0 | 0 | 0 | |
| hyperparameter.update | 0.000 | 0.000 | 0.001 | |
| online.quantile | 0 | 0 | 0 | |
| probe.parameters.tolist | 0 | 0 | 0 | |
| probe.performance | 0.001 | 0.000 | 0.000 | |
| probeplot | 0 | 0 | 0 | |
| probetable | 0 | 0 | 0 | |
| retrieve.probesets | 0 | 0 | 0 | |
| rpa | 0.000 | 0.001 | 0.000 | |
| rpa.complete | 0 | 0 | 0 | |
| rpa.fit | 0 | 0 | 0 | |
| rpa.online | 0.001 | 0.000 | 0.000 | |
| rpa.plot | 0 | 0 | 0 | |
| rpa.summarize | 0 | 0 | 0 | |
| rpaplot | 0 | 0 | 0 | |
| sample.probeset | 0 | 0 | 0 | |
| summarize.batch | 0 | 0 | 0 | |
| summarize.batches | 0 | 0 | 0 | |
| summarize_probedata | 0.001 | 0.000 | 0.000 | |
| updating.hyperparameters | 0.000 | 0.001 | 0.000 | |