| Back to Multiple platform build/check report for BioC 3.13 |
|
This page was generated on 2021-10-15 15:06:50 -0400 (Fri, 15 Oct 2021).
|
To the developers/maintainers of the RNAmodR package: - Please allow up to 24 hours (and sometimes 48 hours) for your latest push to git@git.bioconductor.org:packages/RNAmodR.git to reflect on this report. See How and When does the builder pull? When will my changes propagate? here for more information. - Make sure to use the following settings in order to reproduce any error or warning you see on this page. |
| Package 1603/2041 | Hostname | OS / Arch | INSTALL | BUILD | CHECK | BUILD BIN | ||||||||
| RNAmodR 1.6.0 (landing page) Felix G.M. Ernst
| nebbiolo1 | Linux (Ubuntu 20.04.2 LTS) / x86_64 | OK | OK | OK | |||||||||
| tokay2 | Windows Server 2012 R2 Standard / x64 | OK | OK | OK | OK | |||||||||
| machv2 | macOS 10.14.6 Mojave / x86_64 | OK | OK | OK | OK | |||||||||
| Package: RNAmodR |
| Version: 1.6.0 |
| Command: /Library/Frameworks/R.framework/Versions/Current/Resources/bin/R CMD check --install=check:RNAmodR.install-out.txt --library=/Library/Frameworks/R.framework/Versions/Current/Resources/library --no-vignettes --timings RNAmodR_1.6.0.tar.gz |
| StartedAt: 2021-10-14 23:16:07 -0400 (Thu, 14 Oct 2021) |
| EndedAt: 2021-10-14 23:27:49 -0400 (Thu, 14 Oct 2021) |
| EllapsedTime: 702.1 seconds |
| RetCode: 0 |
| Status: OK |
| CheckDir: RNAmodR.Rcheck |
| Warnings: 0 |
##############################################################################
##############################################################################
###
### Running command:
###
### /Library/Frameworks/R.framework/Versions/Current/Resources/bin/R CMD check --install=check:RNAmodR.install-out.txt --library=/Library/Frameworks/R.framework/Versions/Current/Resources/library --no-vignettes --timings RNAmodR_1.6.0.tar.gz
###
##############################################################################
##############################################################################
* using log directory ‘/Users/biocbuild/bbs-3.13-bioc/meat/RNAmodR.Rcheck’
* using R version 4.1.1 (2021-08-10)
* using platform: x86_64-apple-darwin17.0 (64-bit)
* using session charset: UTF-8
* using option ‘--no-vignettes’
* checking for file ‘RNAmodR/DESCRIPTION’ ... OK
* checking extension type ... Package
* this is package ‘RNAmodR’ version ‘1.6.0’
* package encoding: UTF-8
* checking package namespace information ... OK
* checking package dependencies ... OK
* checking if this is a source package ... OK
* checking if there is a namespace ... OK
* checking for hidden files and directories ... NOTE
Found the following hidden files and directories:
.git_fetch_output.txt
.git_merge_output.txt
These were most likely included in error. See section ‘Package
structure’ in the ‘Writing R Extensions’ manual.
* checking for portable file names ... OK
* checking for sufficient/correct file permissions ... OK
* checking whether package ‘RNAmodR’ can be installed ... OK
* checking installed package size ... OK
* checking package directory ... OK
* checking ‘build’ directory ... OK
* checking DESCRIPTION meta-information ... OK
* checking top-level files ... OK
* checking for left-over files ... OK
* checking index information ... OK
* checking package subdirectories ... OK
* checking R files for non-ASCII characters ... OK
* checking R files for syntax errors ... OK
* checking whether the package can be loaded ... OK
* checking whether the package can be loaded with stated dependencies ... OK
* checking whether the package can be unloaded cleanly ... OK
* checking whether the namespace can be loaded with stated dependencies ... OK
* checking whether the namespace can be unloaded cleanly ... OK
* checking dependencies in R code ... NOTE
Unexported objects imported by ':::' calls:
'BiocGenerics:::replaceSlots' 'Biostrings:::XString'
'IRanges:::.valid.CompressedList' 'IRanges:::coerceToCompressedList'
'S4Vectors:::.valid.DataFrame' 'S4Vectors:::labeledLine'
'S4Vectors:::make_zero_col_DataFrame'
'S4Vectors:::prepare_objects_to_bind'
See the note in ?`:::` about the use of this operator.
There are ::: calls to the package's namespace in its code. A package
almost never needs to use ::: for its own objects:
'.get_inosine_score'
* checking S3 generic/method consistency ... OK
* checking replacement functions ... OK
* checking foreign function calls ... OK
* checking R code for possible problems ... OK
* checking Rd files ... OK
* checking Rd metadata ... OK
* checking Rd cross-references ... OK
* checking for missing documentation entries ... OK
* checking for code/documentation mismatches ... OK
* checking Rd \usage sections ... OK
* checking Rd contents ... OK
* checking for unstated dependencies in examples ... OK
* checking contents of ‘data’ directory ... OK
* checking data for non-ASCII characters ... OK
* checking data for ASCII and uncompressed saves ... OK
* checking files in ‘vignettes’ ... OK
* checking examples ... OK
Examples with CPU (user + system) or elapsed time > 5s
user system elapsed
stats 72.512 4.922 60.769
CoverageSequenceData-class 21.311 1.160 24.409
ModInosine 14.794 0.245 16.074
EndSequenceData-class 12.454 0.207 13.587
ProtectedEndSequenceData-class 11.833 0.196 13.152
PileupSequenceData-class 11.711 0.198 12.916
* checking for unstated dependencies in ‘tests’ ... OK
* checking tests ...
Running ‘testthat.R’
OK
* checking for unstated dependencies in vignettes ... OK
* checking package vignettes in ‘inst/doc’ ... OK
* checking running R code from vignettes ... SKIPPED
* checking re-building of vignette outputs ... SKIPPED
* checking PDF version of manual ... OK
* DONE
Status: 2 NOTEs
See
‘/Users/biocbuild/bbs-3.13-bioc/meat/RNAmodR.Rcheck/00check.log’
for details.
RNAmodR.Rcheck/00install.out
############################################################################## ############################################################################## ### ### Running command: ### ### /Library/Frameworks/R.framework/Versions/Current/Resources/bin/R CMD INSTALL RNAmodR ### ############################################################################## ############################################################################## * installing to library ‘/Library/Frameworks/R.framework/Versions/4.1/Resources/library’ * installing *source* package ‘RNAmodR’ ... ** using staged installation ** R ** data ** inst ** byte-compile and prepare package for lazy loading ** help *** installing help indices ** building package indices ** installing vignettes ** testing if installed package can be loaded from temporary location ** testing if installed package can be loaded from final location ** testing if installed package keeps a record of temporary installation path * DONE (RNAmodR)
RNAmodR.Rcheck/tests/testthat.Rout
R version 4.1.1 (2021-08-10) -- "Kick Things"
Copyright (C) 2021 The R Foundation for Statistical Computing
Platform: x86_64-apple-darwin17.0 (64-bit)
R is free software and comes with ABSOLUTELY NO WARRANTY.
You are welcome to redistribute it under certain conditions.
Type 'license()' or 'licence()' for distribution details.
R is a collaborative project with many contributors.
Type 'contributors()' for more information and
'citation()' on how to cite R or R packages in publications.
Type 'demo()' for some demos, 'help()' for on-line help, or
'help.start()' for an HTML browser interface to help.
Type 'q()' to quit R.
> library(testthat)
> library(RNAmodR)
Loading required package: S4Vectors
Loading required package: stats4
Loading required package: BiocGenerics
Loading required package: parallel
Attaching package: 'BiocGenerics'
The following objects are masked from 'package:parallel':
clusterApply, clusterApplyLB, clusterCall, clusterEvalQ,
clusterExport, clusterMap, parApply, parCapply, parLapply,
parLapplyLB, parRapply, parSapply, parSapplyLB
The following objects are masked from 'package:stats':
IQR, mad, sd, var, xtabs
The following objects are masked from 'package:base':
Filter, Find, Map, Position, Reduce, anyDuplicated, append,
as.data.frame, basename, cbind, colnames, dirname, do.call,
duplicated, eval, evalq, get, grep, grepl, intersect, is.unsorted,
lapply, mapply, match, mget, order, paste, pmax, pmax.int, pmin,
pmin.int, rank, rbind, rownames, sapply, setdiff, sort, table,
tapply, union, unique, unsplit, which.max, which.min
Attaching package: 'S4Vectors'
The following objects are masked from 'package:base':
I, expand.grid, unname
Loading required package: IRanges
Loading required package: GenomicRanges
Loading required package: GenomeInfoDb
Loading required package: Modstrings
Loading required package: Biostrings
Loading required package: XVector
Attaching package: 'Biostrings'
The following object is masked from 'package:base':
strsplit
Attaching package: 'RNAmodR'
The following object is masked from 'package:testthat':
compare
>
> test_check("RNAmodR")
══ Skipped tests ═══════════════════════════════════════════════════════════════
• On Bioconductor (9)
[ FAIL 0 | WARN 0 | SKIP 9 | PASS 192 ]
>
> proc.time()
user system elapsed
67.480 1.901 71.417
RNAmodR.Rcheck/RNAmodR-Ex.timings
| name | user | system | elapsed | |
| CoverageSequenceData-class | 21.311 | 1.160 | 24.409 | |
| EndSequenceData-class | 12.454 | 0.207 | 13.587 | |
| ModInosine-functions | 0.900 | 0.014 | 0.915 | |
| ModInosine | 14.794 | 0.245 | 16.074 | |
| Modifier-functions | 0.320 | 0.007 | 0.327 | |
| NormEndSequenceData-class | 0.000 | 0.000 | 0.001 | |
| PileupSequenceData-class | 11.711 | 0.198 | 12.916 | |
| ProtectedEndSequenceData-class | 11.833 | 0.196 | 13.152 | |
| RNAmodR-development | 0.099 | 0.003 | 0.102 | |
| SequenceData-functions | 0.121 | 0.007 | 0.130 | |
| SequenceDataFrame-class | 0.124 | 0.002 | 0.126 | |
| SequenceDataList-class | 0.181 | 0.005 | 0.186 | |
| SequenceDataSet-class | 0.124 | 0.004 | 0.128 | |
| SequenceModDNAStringSetTrack-class | 1.244 | 0.011 | 1.256 | |
| SequenceModRNAStringSetTrack-class | 0.152 | 0.002 | 0.154 | |
| aggregate | 0.711 | 0.009 | 0.721 | |
| compareByCoord | 2.582 | 0.016 | 2.617 | |
| modify | 0.768 | 0.005 | 0.775 | |
| plotData | 2.331 | 0.019 | 2.372 | |
| plotROC | 2.074 | 0.031 | 2.111 | |
| settings | 0.157 | 0.004 | 0.163 | |
| stats | 72.512 | 4.922 | 60.769 | |
| subsetByCoord | 0.759 | 0.011 | 0.771 | |