| Back to Multiple platform build/check report for BioC 3.13 |
|
This page was generated on 2021-10-15 15:06:20 -0400 (Fri, 15 Oct 2021).
|
To the developers/maintainers of the RNAinteract package: - Please allow up to 24 hours (and sometimes 48 hours) for your latest push to git@git.bioconductor.org:packages/RNAinteract.git to reflect on this report. See How and When does the builder pull? When will my changes propagate? here for more information. - Make sure to use the following settings in order to reproduce any error or warning you see on this page. |
| Package 1601/2041 | Hostname | OS / Arch | INSTALL | BUILD | CHECK | BUILD BIN | ||||||||
| RNAinteract 1.40.0 (landing page) Mike Smith
| nebbiolo1 | Linux (Ubuntu 20.04.2 LTS) / x86_64 | OK | OK | OK | |||||||||
| tokay2 | Windows Server 2012 R2 Standard / x64 | OK | OK | OK | OK | |||||||||
| machv2 | macOS 10.14.6 Mojave / x86_64 | OK | OK | OK | OK | |||||||||
| Package: RNAinteract |
| Version: 1.40.0 |
| Command: C:\cygwin\bin\curl.exe -O http://155.52.207.165/BBS/3.13/bioc/src/contrib/RNAinteract_1.40.0.tar.gz && rm -rf RNAinteract.buildbin-libdir && mkdir RNAinteract.buildbin-libdir && C:\Users\biocbuild\bbs-3.13-bioc\R\bin\R.exe CMD INSTALL --merge-multiarch --build --library=RNAinteract.buildbin-libdir RNAinteract_1.40.0.tar.gz && C:\Users\biocbuild\bbs-3.13-bioc\R\bin\R.exe CMD INSTALL RNAinteract_1.40.0.zip && rm RNAinteract_1.40.0.tar.gz RNAinteract_1.40.0.zip |
| StartedAt: 2021-10-14 09:23:30 -0400 (Thu, 14 Oct 2021) |
| EndedAt: 2021-10-14 09:24:36 -0400 (Thu, 14 Oct 2021) |
| EllapsedTime: 65.9 seconds |
| RetCode: 0 |
| Status: OK |
##############################################################################
##############################################################################
###
### Running command:
###
### C:\cygwin\bin\curl.exe -O http://155.52.207.165/BBS/3.13/bioc/src/contrib/RNAinteract_1.40.0.tar.gz && rm -rf RNAinteract.buildbin-libdir && mkdir RNAinteract.buildbin-libdir && C:\Users\biocbuild\bbs-3.13-bioc\R\bin\R.exe CMD INSTALL --merge-multiarch --build --library=RNAinteract.buildbin-libdir RNAinteract_1.40.0.tar.gz && C:\Users\biocbuild\bbs-3.13-bioc\R\bin\R.exe CMD INSTALL RNAinteract_1.40.0.zip && rm RNAinteract_1.40.0.tar.gz RNAinteract_1.40.0.zip
###
##############################################################################
##############################################################################
% Total % Received % Xferd Average Speed Time Time Time Current
Dload Upload Total Spent Left Speed
0 0 0 0 0 0 0 0 --:--:-- --:--:-- --:--:-- 0
100 163k 100 163k 0 0 644k 0 --:--:-- --:--:-- --:--:-- 646k
install for i386
* installing *source* package 'RNAinteract' ...
** using staged installation
** R
** data
** inst
** byte-compile and prepare package for lazy loading
** help
*** installing help indices
converting help for package 'RNAinteract'
finding HTML links ... done
RNAinteract-class html
RNAinteract-package html
bindsamples html
computePI html
computePValues html
finding level-2 HTML links ... done
createCellHTSFromFiles html
createRNAinteract html
createRNAinteractFromFiles html
embedPCA html
estimateMainEffect html
getData html
getMain html
getReplicateData html
getSampleNames html
getScale html
grid.doublePerturbation html
grid.sgiHeatmap html
normalizeMainEffectQuery html
normalizeMainEffectTemplate html
normalizePlateEffect html
plotDoublePerturbation html
plotHeatmap html
reportAnnotation html
sgi html
sgisubset html
sgisubsetQueryDesign html
startReport html
summarizeSamples html
swaptree html
** building package indices
** installing vignettes
** testing if installed package can be loaded from temporary location
** testing if installed package can be loaded from final location
** testing if installed package keeps a record of temporary installation path
install for x64
* installing *source* package 'RNAinteract' ...
** testing if installed package can be loaded
* MD5 sums
packaged installation of 'RNAinteract' as RNAinteract_1.40.0.zip
* DONE (RNAinteract)
* installing to library 'C:/Users/biocbuild/bbs-3.13-bioc/R/library'
package 'RNAinteract' successfully unpacked and MD5 sums checked