| Back to Multiple platform build/check report for BioC 3.13 | 
  | 
This page was generated on 2021-10-15 15:06:18 -0400 (Fri, 15 Oct 2021).
| 
To the developers/maintainers of the REDseq package: - Please allow up to 24 hours (and sometimes 48 hours) for your latest push to git@git.bioconductor.org:packages/REDseq.git to reflect on this report. See How and When does the builder pull? When will my changes propagate? here for more information. - Make sure to use the following settings in order to reproduce any error or warning you see on this page.  | 
| Package 1546/2041 | Hostname | OS / Arch | INSTALL | BUILD | CHECK | BUILD BIN | ||||||||
| REDseq 1.38.0  (landing page) Lihua Julie Zhu 
  | nebbiolo1 | Linux (Ubuntu 20.04.2 LTS) / x86_64 | OK | OK | OK | |||||||||
| tokay2 | Windows Server 2012 R2 Standard / x64 | OK | OK | OK | OK | |||||||||
| machv2 | macOS 10.14.6 Mojave / x86_64 | OK | OK | OK | OK | |||||||||
| Package: REDseq | 
| Version: 1.38.0 | 
| Command: C:\Users\biocbuild\bbs-3.13-bioc\R\bin\R.exe CMD check --force-multiarch --install=check:REDseq.install-out.txt --library=C:\Users\biocbuild\bbs-3.13-bioc\R\library --no-vignettes --timings REDseq_1.38.0.tar.gz | 
| StartedAt: 2021-10-15 04:18:48 -0400 (Fri, 15 Oct 2021) | 
| EndedAt: 2021-10-15 04:25:00 -0400 (Fri, 15 Oct 2021) | 
| EllapsedTime: 371.7 seconds | 
| RetCode: 0 | 
| Status: OK | 
| CheckDir: REDseq.Rcheck | 
| Warnings: 0 | 
##############################################################################
##############################################################################
###
### Running command:
###
###   C:\Users\biocbuild\bbs-3.13-bioc\R\bin\R.exe CMD check --force-multiarch --install=check:REDseq.install-out.txt --library=C:\Users\biocbuild\bbs-3.13-bioc\R\library --no-vignettes --timings REDseq_1.38.0.tar.gz
###
##############################################################################
##############################################################################
* using log directory 'C:/Users/biocbuild/bbs-3.13-bioc/meat/REDseq.Rcheck'
* using R version 4.1.1 (2021-08-10)
* using platform: x86_64-w64-mingw32 (64-bit)
* using session charset: ISO8859-1
* using option '--no-vignettes'
* checking for file 'REDseq/DESCRIPTION' ... OK
* checking extension type ... Package
* this is package 'REDseq' version '1.38.0'
* checking package namespace information ... OK
* checking package dependencies ... NOTE
Depends: includes the non-default packages:
  'BiocGenerics', 'BSgenome.Celegans.UCSC.ce2', 'multtest',
  'Biostrings', 'BSgenome', 'ChIPpeakAnno'
Adding so many packages to the search path is excessive and importing
selectively is preferable.
* checking if this is a source package ... OK
* checking if there is a namespace ... OK
* checking for hidden files and directories ... OK
* checking for portable file names ... OK
* checking whether package 'REDseq' can be installed ... OK
* checking installed package size ... OK
* checking package directory ... OK
* checking 'build' directory ... OK
* checking DESCRIPTION meta-information ... OK
* checking top-level files ... OK
* checking for left-over files ... OK
* checking index information ... OK
* checking package subdirectories ... OK
* checking R files for non-ASCII characters ... OK
* checking R files for syntax errors ... OK
* loading checks for arch 'i386'
** checking whether the package can be loaded ... OK
** checking whether the package can be loaded with stated dependencies ... OK
** checking whether the package can be unloaded cleanly ... OK
** checking whether the namespace can be loaded with stated dependencies ... OK
** checking whether the namespace can be unloaded cleanly ... OK
* loading checks for arch 'x64'
** checking whether the package can be loaded ... OK
** checking whether the package can be loaded with stated dependencies ... OK
** checking whether the package can be unloaded cleanly ... OK
** checking whether the namespace can be loaded with stated dependencies ... OK
** checking whether the namespace can be unloaded cleanly ... OK
* checking dependencies in R code ... OK
* checking S3 generic/method consistency ... OK
* checking replacement functions ... OK
* checking foreign function calls ... OK
* checking R code for possible problems ... NOTE
buildREmap: no visible global function definition for 'start<-'
Undefined global functions or variables:
  start<-
* checking Rd files ... OK
* checking Rd metadata ... OK
* checking Rd cross-references ... OK
* checking for missing documentation entries ... OK
* checking for code/documentation mismatches ... OK
* checking Rd \usage sections ... OK
* checking Rd contents ... OK
* checking for unstated dependencies in examples ... OK
* checking contents of 'data' directory ... OK
* checking data for non-ASCII characters ... OK
* checking data for ASCII and uncompressed saves ... OK
* checking files in 'vignettes' ... OK
* checking examples ...
** running examples for arch 'i386' ... OK
Examples with CPU (user + system) or elapsed time > 5s
           user system elapsed
buildREmap 5.77   0.25    6.02
** running examples for arch 'x64' ... OK
Examples with CPU (user + system) or elapsed time > 5s
           user system elapsed
buildREmap 5.33   0.18     5.5
* checking for unstated dependencies in vignettes ... OK
* checking package vignettes in 'inst/doc' ... OK
* checking running R code from vignettes ... SKIPPED
* checking re-building of vignette outputs ... SKIPPED
* checking PDF version of manual ... OK
* DONE
Status: 2 NOTEs
See
  'C:/Users/biocbuild/bbs-3.13-bioc/meat/REDseq.Rcheck/00check.log'
for details.
REDseq.Rcheck/00install.out
##############################################################################
##############################################################################
###
### Running command:
###
###   C:\cygwin\bin\curl.exe -O http://155.52.207.165/BBS/3.13/bioc/src/contrib/REDseq_1.38.0.tar.gz && rm -rf REDseq.buildbin-libdir && mkdir REDseq.buildbin-libdir && C:\Users\biocbuild\bbs-3.13-bioc\R\bin\R.exe CMD INSTALL --merge-multiarch --build --library=REDseq.buildbin-libdir REDseq_1.38.0.tar.gz && C:\Users\biocbuild\bbs-3.13-bioc\R\bin\R.exe CMD INSTALL REDseq_1.38.0.zip && rm REDseq_1.38.0.tar.gz REDseq_1.38.0.zip
###
##############################################################################
##############################################################################
  % Total    % Received % Xferd  Average Speed   Time    Time     Time  Current
                                 Dload  Upload   Total   Spent    Left  Speed
  0     0    0     0    0     0      0      0 --:--:-- --:--:-- --:--:--     0
100 31771  100 31771    0     0   263k      0 --:--:-- --:--:-- --:--:--  265k
install for i386
* installing *source* package 'REDseq' ...
** using staged installation
** R
** data
** inst
** byte-compile and prepare package for lazy loading
No methods found in package 'IRanges' for requests: '%in%', 'rep.int' when loading 'REDseq'
** help
*** installing help indices
  converting help for package 'REDseq'
    finding HTML links ... done
    REDseq-package                          html  
    assignSeq2REsite                        html  
    binom.test.REDseq                       html  
    buildREmap                              html  
    compareREDseq                           html  
    distanceHistSeq2RE                      html  
    example.REDseq                          html  
    example.assignedREDseq                  html  
    example.map                             html  
    plotCutDistribution                     html  
    searchPattern                           html  
    summarizeByRE                           html  
    summarizeBySeq                          html  
    writeHits                               html  
** building package indices
** installing vignettes
** testing if installed package can be loaded from temporary location
No methods found in package 'IRanges' for requests: '%in%', 'rep.int' when loading 'REDseq'
** testing if installed package can be loaded from final location
No methods found in package 'IRanges' for requests: '%in%', 'rep.int' when loading 'REDseq'
** testing if installed package keeps a record of temporary installation path
install for x64
* installing *source* package 'REDseq' ...
** testing if installed package can be loaded
No methods found in package 'IRanges' for requests: '%in%', 'rep.int' when loading 'REDseq'
* MD5 sums
packaged installation of 'REDseq' as REDseq_1.38.0.zip
* DONE (REDseq)
* installing to library 'C:/Users/biocbuild/bbs-3.13-bioc/R/library'
package 'REDseq' successfully unpacked and MD5 sums checked
| 
 REDseq.Rcheck/examples_i386/REDseq-Ex.timings 
  | 
 REDseq.Rcheck/examples_x64/REDseq-Ex.timings 
  |