| Back to Multiple platform build/check report for BioC 3.13 |
|
This page was generated on 2021-10-15 15:06:18 -0400 (Fri, 15 Oct 2021).
|
To the developers/maintainers of the RCSL package: - Please allow up to 24 hours (and sometimes 48 hours) for your latest push to git@git.bioconductor.org:packages/RCSL.git to reflect on this report. See How and When does the builder pull? When will my changes propagate? here for more information. - Make sure to use the following settings in order to reproduce any error or warning you see on this page. |
| Package 1523/2041 | Hostname | OS / Arch | INSTALL | BUILD | CHECK | BUILD BIN | ||||||||
| RCSL 1.0.0 (landing page) Qinglin Mei
| nebbiolo1 | Linux (Ubuntu 20.04.2 LTS) / x86_64 | OK | OK | OK | |||||||||
| tokay2 | Windows Server 2012 R2 Standard / x64 | OK | OK | OK | OK | |||||||||
| machv2 | macOS 10.14.6 Mojave / x86_64 | OK | OK | OK | OK | |||||||||
| Package: RCSL |
| Version: 1.0.0 |
| Command: C:\cygwin\bin\curl.exe -O http://155.52.207.165/BBS/3.13/bioc/src/contrib/RCSL_1.0.0.tar.gz && rm -rf RCSL.buildbin-libdir && mkdir RCSL.buildbin-libdir && C:\Users\biocbuild\bbs-3.13-bioc\R\bin\R.exe CMD INSTALL --merge-multiarch --build --library=RCSL.buildbin-libdir RCSL_1.0.0.tar.gz && C:\Users\biocbuild\bbs-3.13-bioc\R\bin\R.exe CMD INSTALL RCSL_1.0.0.zip && rm RCSL_1.0.0.tar.gz RCSL_1.0.0.zip |
| StartedAt: 2021-10-14 08:21:04 -0400 (Thu, 14 Oct 2021) |
| EndedAt: 2021-10-14 08:21:57 -0400 (Thu, 14 Oct 2021) |
| EllapsedTime: 53.7 seconds |
| RetCode: 0 |
| Status: OK |
##############################################################################
##############################################################################
###
### Running command:
###
### C:\cygwin\bin\curl.exe -O http://155.52.207.165/BBS/3.13/bioc/src/contrib/RCSL_1.0.0.tar.gz && rm -rf RCSL.buildbin-libdir && mkdir RCSL.buildbin-libdir && C:\Users\biocbuild\bbs-3.13-bioc\R\bin\R.exe CMD INSTALL --merge-multiarch --build --library=RCSL.buildbin-libdir RCSL_1.0.0.tar.gz && C:\Users\biocbuild\bbs-3.13-bioc\R\bin\R.exe CMD INSTALL RCSL_1.0.0.zip && rm RCSL_1.0.0.tar.gz RCSL_1.0.0.zip
###
##############################################################################
##############################################################################
% Total % Received % Xferd Average Speed Time Time Time Current
Dload Upload Total Spent Left Speed
0 0 0 0 0 0 0 0 --:--:-- --:--:-- --:--:-- 0
100 1617k 100 1617k 0 0 2710k 0 --:--:-- --:--:-- --:--:-- 2714k
install for i386
* installing *source* package 'RCSL' ...
** using staged installation
** R
** data
*** moving datasets to lazyload DB
** byte-compile and prepare package for lazy loading
** help
*** installing help indices
converting help for package 'RCSL'
finding HTML links ... done
BDSM html
EProjSimplexdiag html
EstClusters html
EucDist html
GenesFilter html
NeigRepresent html
PlotMST html
PlotPseudoTime html
PlotTrajectory html
RCSL html
SimS html
TrajectoryAnalysis html
ann html
getLineage html
yan html
** building package indices
** installing vignettes
** testing if installed package can be loaded from temporary location
** testing if installed package can be loaded from final location
** testing if installed package keeps a record of temporary installation path
install for x64
* installing *source* package 'RCSL' ...
** testing if installed package can be loaded
* MD5 sums
packaged installation of 'RCSL' as RCSL_1.0.0.zip
* DONE (RCSL)
* installing to library 'C:/Users/biocbuild/bbs-3.13-bioc/R/library'
package 'RCSL' successfully unpacked and MD5 sums checked