| Back to Multiple platform build/check report for BioC 3.13 | 
 | 
This page was generated on 2021-10-15 15:06:18 -0400 (Fri, 15 Oct 2021).
| To the developers/maintainers of the RCASPAR package: - Please allow up to 24 hours (and sometimes 48 hours) for your latest push to git@git.bioconductor.org:packages/RCASPAR.git to reflect on this report. See How and When does the builder pull? When will my changes propagate? here for more information. - Make sure to use the following settings in order to reproduce any error or warning you see on this page. | 
| Package 1516/2041 | Hostname | OS / Arch | INSTALL | BUILD | CHECK | BUILD BIN | ||||||||
| RCASPAR 1.38.0  (landing page) Douaa Mugahid 
 | nebbiolo1 | Linux (Ubuntu 20.04.2 LTS) / x86_64 | OK | OK | OK |  | ||||||||
| tokay2 | Windows Server 2012 R2 Standard / x64 | OK | OK | OK | OK |  | ||||||||
| machv2 | macOS 10.14.6 Mojave / x86_64 | OK | OK | OK | OK |  | ||||||||
| Package: RCASPAR | 
| Version: 1.38.0 | 
| Command: C:\Users\biocbuild\bbs-3.13-bioc\R\bin\R.exe CMD check --force-multiarch --install=check:RCASPAR.install-out.txt --library=C:\Users\biocbuild\bbs-3.13-bioc\R\library --no-vignettes --timings RCASPAR_1.38.0.tar.gz | 
| StartedAt: 2021-10-15 04:10:07 -0400 (Fri, 15 Oct 2021) | 
| EndedAt: 2021-10-15 04:10:51 -0400 (Fri, 15 Oct 2021) | 
| EllapsedTime: 43.4 seconds | 
| RetCode: 0 | 
| Status: OK | 
| CheckDir: RCASPAR.Rcheck | 
| Warnings: 0 | 
##############################################################################
##############################################################################
###
### Running command:
###
###   C:\Users\biocbuild\bbs-3.13-bioc\R\bin\R.exe CMD check --force-multiarch --install=check:RCASPAR.install-out.txt --library=C:\Users\biocbuild\bbs-3.13-bioc\R\library --no-vignettes --timings RCASPAR_1.38.0.tar.gz
###
##############################################################################
##############################################################################
* using log directory 'C:/Users/biocbuild/bbs-3.13-bioc/meat/RCASPAR.Rcheck'
* using R version 4.1.1 (2021-08-10)
* using platform: x86_64-w64-mingw32 (64-bit)
* using session charset: ISO8859-1
* using option '--no-vignettes'
* checking for file 'RCASPAR/DESCRIPTION' ... OK
* checking extension type ... Package
* this is package 'RCASPAR' version '1.38.0'
* checking package namespace information ... OK
* checking package dependencies ... OK
* checking if this is a source package ... OK
* checking if there is a namespace ... OK
* checking for hidden files and directories ... OK
* checking for portable file names ... OK
* checking whether package 'RCASPAR' can be installed ... OK
* checking installed package size ... OK
* checking package directory ... OK
* checking 'build' directory ... OK
* checking DESCRIPTION meta-information ... NOTE
Malformed Title field: should not end in a period.
* checking top-level files ... OK
* checking for left-over files ... OK
* checking index information ... OK
* checking package subdirectories ... OK
* checking R files for non-ASCII characters ... OK
* checking R files for syntax errors ... OK
* loading checks for arch 'i386'
** checking whether the package can be loaded ... OK
** checking whether the package can be loaded with stated dependencies ... OK
** checking whether the package can be unloaded cleanly ... OK
** checking whether the namespace can be loaded with stated dependencies ... OK
** checking whether the namespace can be unloaded cleanly ... OK
* loading checks for arch 'x64'
** checking whether the package can be loaded ... OK
** checking whether the package can be loaded with stated dependencies ... OK
** checking whether the package can be unloaded cleanly ... OK
** checking whether the namespace can be loaded with stated dependencies ... OK
** checking whether the namespace can be unloaded cleanly ... OK
* checking dependencies in R code ... OK
* checking S3 generic/method consistency ... OK
* checking replacement functions ... OK
* checking foreign function calls ... OK
* checking R code for possible problems ... NOTE
kmplt_svrl: no visible global function definition for 'lines'
kmplt_svrl: no visible global function definition for 'legend'
logrnk: no visible global function definition for 'pchisq'
pltprior: no visible global function definition for 'persp'
weights_BLH: no visible global function definition for 'optim'
Undefined global functions or variables:
  legend lines optim pchisq persp
Consider adding
  importFrom("graphics", "legend", "lines", "persp")
  importFrom("stats", "optim", "pchisq")
to your NAMESPACE file.
* checking Rd files ... OK
* checking Rd metadata ... OK
* checking Rd cross-references ... OK
* checking for missing documentation entries ... OK
* checking for code/documentation mismatches ... OK
* checking Rd \usage sections ... OK
* checking Rd contents ... OK
* checking for unstated dependencies in examples ... OK
* checking contents of 'data' directory ... OK
* checking data for non-ASCII characters ... OK
* checking data for ASCII and uncompressed saves ... OK
* checking files in 'vignettes' ... OK
* checking examples ...
** running examples for arch 'i386' ... OK
** running examples for arch 'x64' ... OK
* checking for unstated dependencies in vignettes ... OK
* checking package vignettes in 'inst/doc' ... OK
* checking running R code from vignettes ... SKIPPED
* checking re-building of vignette outputs ... SKIPPED
* checking PDF version of manual ... OK
* DONE
Status: 2 NOTEs
See
  'C:/Users/biocbuild/bbs-3.13-bioc/meat/RCASPAR.Rcheck/00check.log'
for details.
RCASPAR.Rcheck/00install.out
##############################################################################
##############################################################################
###
### Running command:
###
###   C:\cygwin\bin\curl.exe -O http://155.52.207.165/BBS/3.13/bioc/src/contrib/RCASPAR_1.38.0.tar.gz && rm -rf RCASPAR.buildbin-libdir && mkdir RCASPAR.buildbin-libdir && C:\Users\biocbuild\bbs-3.13-bioc\R\bin\R.exe CMD INSTALL --merge-multiarch --build --library=RCASPAR.buildbin-libdir RCASPAR_1.38.0.tar.gz && C:\Users\biocbuild\bbs-3.13-bioc\R\bin\R.exe CMD INSTALL RCASPAR_1.38.0.zip && rm RCASPAR_1.38.0.tar.gz RCASPAR_1.38.0.zip
###
##############################################################################
##############################################################################
  % Total    % Received % Xferd  Average Speed   Time    Time     Time  Current
                                 Dload  Upload   Total   Spent    Left  Speed
  0     0    0     0    0     0      0      0 --:--:-- --:--:-- --:--:--     0
100 62920  100 62920    0     0   300k      0 --:--:-- --:--:-- --:--:--  302k
install for i386
* installing *source* package 'RCASPAR' ...
** using staged installation
** R
** data
** byte-compile and prepare package for lazy loading
** help
*** installing help indices
  converting help for package 'RCASPAR'
    finding HTML links ... done
    Bergamaschi                             html  
    RCASPAR-package                         html  
    STpredictor_BLH                         html  
    STpredictor_xvBLH                       html  
    deriv_weight_estimator_BLH              html  
    deriv_weight_estimator_BLH_noprior      html  
    kmplt                                   html  
    kmplt_svrl                              html  
    logrnk                                  html  
    pltgamma                                html  
    pltprior                                html  
    simpson                                 html  
    survData                                html  
    survivAURC                              html  
    survivROC                               html  
    trapezoid                               html  
    weight_estimator_BLH                    html  
    weight_estimator_BLH_noprior            html  
    weights_BLH                             html  
    weights_xvBLH                           html  
** building package indices
** installing vignettes
** testing if installed package can be loaded from temporary location
** testing if installed package can be loaded from final location
** testing if installed package keeps a record of temporary installation path
install for x64
* installing *source* package 'RCASPAR' ...
** testing if installed package can be loaded
* MD5 sums
packaged installation of 'RCASPAR' as RCASPAR_1.38.0.zip
* DONE (RCASPAR)
* installing to library 'C:/Users/biocbuild/bbs-3.13-bioc/R/library'
package 'RCASPAR' successfully unpacked and MD5 sums checked
| RCASPAR.Rcheck/examples_i386/RCASPAR-Ex.timings 
 | RCASPAR.Rcheck/examples_x64/RCASPAR-Ex.timings 
 |