| Back to Multiple platform build/check report for BioC 3.13 |
|
This page was generated on 2021-10-15 15:06:49 -0400 (Fri, 15 Oct 2021).
|
To the developers/maintainers of the RCAS package: - Please allow up to 24 hours (and sometimes 48 hours) for your latest push to git@git.bioconductor.org:packages/RCAS.git to reflect on this report. See How and When does the builder pull? When will my changes propagate? here for more information. - Make sure to use the following settings in order to reproduce any error or warning you see on this page. |
| Package 1515/2041 | Hostname | OS / Arch | INSTALL | BUILD | CHECK | BUILD BIN | ||||||||
| RCAS 1.18.0 (landing page) Bora Uyar
| nebbiolo1 | Linux (Ubuntu 20.04.2 LTS) / x86_64 | OK | OK | OK | |||||||||
| tokay2 | Windows Server 2012 R2 Standard / x64 | OK | OK | OK | OK | |||||||||
| machv2 | macOS 10.14.6 Mojave / x86_64 | OK | OK | OK | OK | |||||||||
| Package: RCAS |
| Version: 1.18.0 |
| Command: /Library/Frameworks/R.framework/Versions/Current/Resources/bin/R CMD check --install=check:RCAS.install-out.txt --library=/Library/Frameworks/R.framework/Versions/Current/Resources/library --no-vignettes --timings RCAS_1.18.0.tar.gz |
| StartedAt: 2021-10-14 22:53:57 -0400 (Thu, 14 Oct 2021) |
| EndedAt: 2021-10-14 23:06:21 -0400 (Thu, 14 Oct 2021) |
| EllapsedTime: 743.7 seconds |
| RetCode: 0 |
| Status: OK |
| CheckDir: RCAS.Rcheck |
| Warnings: 0 |
##############################################################################
##############################################################################
###
### Running command:
###
### /Library/Frameworks/R.framework/Versions/Current/Resources/bin/R CMD check --install=check:RCAS.install-out.txt --library=/Library/Frameworks/R.framework/Versions/Current/Resources/library --no-vignettes --timings RCAS_1.18.0.tar.gz
###
##############################################################################
##############################################################################
* using log directory ‘/Users/biocbuild/bbs-3.13-bioc/meat/RCAS.Rcheck’
* using R version 4.1.1 (2021-08-10)
* using platform: x86_64-apple-darwin17.0 (64-bit)
* using session charset: UTF-8
* using option ‘--no-vignettes’
* checking for file ‘RCAS/DESCRIPTION’ ... OK
* checking extension type ... Package
* this is package ‘RCAS’ version ‘1.18.0’
* checking package namespace information ... OK
* checking package dependencies ... OK
* checking if this is a source package ... OK
* checking if there is a namespace ... OK
* checking for hidden files and directories ... NOTE
Found the following hidden files and directories:
.git_fetch_output.txt
.git_merge_output.txt
These were most likely included in error. See section ‘Package
structure’ in the ‘Writing R Extensions’ manual.
* checking for portable file names ... OK
* checking for sufficient/correct file permissions ... OK
* checking whether package ‘RCAS’ can be installed ... OK
* checking installed package size ... OK
* checking package directory ... OK
* checking ‘build’ directory ... OK
* checking DESCRIPTION meta-information ... OK
* checking top-level files ... OK
* checking for left-over files ... OK
* checking index information ... OK
* checking package subdirectories ... OK
* checking R files for non-ASCII characters ... OK
* checking R files for syntax errors ... OK
* checking whether the package can be loaded ... OK
* checking whether the package can be loaded with stated dependencies ... OK
* checking whether the package can be unloaded cleanly ... OK
* checking whether the namespace can be loaded with stated dependencies ... OK
* checking whether the namespace can be unloaded cleanly ... OK
* checking dependencies in R code ... OK
* checking S3 generic/method consistency ... OK
* checking replacement functions ... OK
* checking foreign function calls ... OK
* checking R code for possible problems ... OK
* checking Rd files ... OK
* checking Rd metadata ... OK
* checking Rd cross-references ... OK
* checking for missing documentation entries ... OK
* checking for code/documentation mismatches ... OK
* checking Rd \usage sections ... OK
* checking Rd contents ... OK
* checking for unstated dependencies in examples ... OK
* checking contents of ‘data’ directory ... OK
* checking data for non-ASCII characters ... OK
* checking LazyData ... OK
* checking data for ASCII and uncompressed saves ... OK
* checking files in ‘vignettes’ ... OK
* checking examples ... OK
Examples with CPU (user + system) or elapsed time > 5s
user system elapsed
runMotifDiscovery 57.489 0.318 47.961
getMotifSummaryTable 22.637 0.448 104.084
getFeatureBoundaryCoverageMulti 21.454 1.414 23.023
calculateCoverageProfileList 16.371 0.544 16.923
findDifferentialMotifs 15.628 0.228 16.376
calculateCoverageProfile 15.196 0.530 15.784
summarizeQueryRegionsMulti 12.084 0.375 29.626
getTargetedGenesTable 12.125 0.276 12.407
getTxdbFeaturesFromGRanges 11.373 0.226 11.611
summarizeQueryRegions 11.201 0.241 11.447
getFeatureBoundaryCoverage 7.228 0.215 7.521
getFeatureBoundaryCoverageBin 6.850 0.173 7.057
plotFeatureBoundaryCoverage 6.344 0.101 6.449
createDB 4.989 0.133 21.293
* checking for unstated dependencies in ‘tests’ ... OK
* checking tests ...
Running ‘testthat.R’
OK
* checking for unstated dependencies in vignettes ... OK
* checking package vignettes in ‘inst/doc’ ... OK
* checking running R code from vignettes ... SKIPPED
* checking re-building of vignette outputs ... SKIPPED
* checking PDF version of manual ... OK
* DONE
Status: 1 NOTE
See
‘/Users/biocbuild/bbs-3.13-bioc/meat/RCAS.Rcheck/00check.log’
for details.
RCAS.Rcheck/00install.out
############################################################################## ############################################################################## ### ### Running command: ### ### /Library/Frameworks/R.framework/Versions/Current/Resources/bin/R CMD INSTALL RCAS ### ############################################################################## ############################################################################## * installing to library ‘/Library/Frameworks/R.framework/Versions/4.1/Resources/library’ * installing *source* package ‘RCAS’ ... ** using staged installation ** R ** data *** moving datasets to lazyload DB ** inst ** byte-compile and prepare package for lazy loading Warning: replacing previous import ‘Biostrings::pattern’ by ‘grid::pattern’ when loading ‘genomation’ ** help *** installing help indices ** building package indices ** installing vignettes ** testing if installed package can be loaded from temporary location Warning: replacing previous import ‘Biostrings::pattern’ by ‘grid::pattern’ when loading ‘genomation’ ** testing if installed package can be loaded from final location Warning: replacing previous import ‘Biostrings::pattern’ by ‘grid::pattern’ when loading ‘genomation’ ** testing if installed package keeps a record of temporary installation path * DONE (RCAS)
RCAS.Rcheck/tests/testthat.Rout
R version 4.1.1 (2021-08-10) -- "Kick Things"
Copyright (C) 2021 The R Foundation for Statistical Computing
Platform: x86_64-apple-darwin17.0 (64-bit)
R is free software and comes with ABSOLUTELY NO WARRANTY.
You are welcome to redistribute it under certain conditions.
Type 'license()' or 'licence()' for distribution details.
R is a collaborative project with many contributors.
Type 'contributors()' for more information and
'citation()' on how to cite R or R packages in publications.
Type 'demo()' for some demos, 'help()' for on-line help, or
'help.start()' for an HTML browser interface to help.
Type 'q()' to quit R.
> library(testthat)
> library(RCAS)
Loading required package: plotly
Loading required package: ggplot2
Attaching package: 'plotly'
The following object is masked from 'package:ggplot2':
last_plot
The following object is masked from 'package:stats':
filter
The following object is masked from 'package:graphics':
layout
Loading required package: DT
Loading required package: data.table
Warning message:
replacing previous import 'Biostrings::pattern' by 'grid::pattern' when loading 'genomation'
>
> test_check("RCAS")
[ FAIL 0 | WARN 11 | SKIP 0 | PASS 48 ]
>
> proc.time()
user system elapsed
55.588 2.179 60.451
RCAS.Rcheck/RCAS-Ex.timings
| name | user | system | elapsed | |
| calculateCoverageProfile | 15.196 | 0.530 | 15.784 | |
| calculateCoverageProfileList | 16.371 | 0.544 | 16.923 | |
| checkSeqDb | 0.442 | 0.024 | 0.980 | |
| createControlRegions | 0.438 | 0.026 | 0.464 | |
| createDB | 4.989 | 0.133 | 21.293 | |
| discoverFeatureSpecificMotifs | 0.000 | 0.000 | 0.001 | |
| extractSequences | 2.542 | 0.137 | 2.681 | |
| findDifferentialMotifs | 15.628 | 0.228 | 16.376 | |
| findEnrichedFunctions | 0.699 | 0.020 | 3.837 | |
| generateKmers | 0.001 | 0.001 | 0.001 | |
| getFeatureBoundaryCoverage | 7.228 | 0.215 | 7.521 | |
| getFeatureBoundaryCoverageBin | 6.850 | 0.173 | 7.057 | |
| getFeatureBoundaryCoverageMulti | 21.454 | 1.414 | 23.023 | |
| getIntervalOverlapMatrix | 1.541 | 0.037 | 1.938 | |
| getMotifSummaryTable | 22.637 | 0.448 | 104.084 | |
| getTargetedGenesTable | 12.125 | 0.276 | 12.407 | |
| getTxdbFeaturesFromGRanges | 11.373 | 0.226 | 11.611 | |
| importBed | 0.383 | 0.018 | 0.401 | |
| importBedFiles | 1.484 | 0.070 | 1.555 | |
| importGtf | 0.001 | 0.001 | 0.001 | |
| plotFeatureBoundaryCoverage | 6.344 | 0.101 | 6.449 | |
| queryGff | 1.076 | 0.101 | 1.178 | |
| runMotifDiscovery | 57.489 | 0.318 | 47.961 | |
| runReport | 0.000 | 0.001 | 0.001 | |
| runReportMetaAnalysis | 1.198 | 0.171 | 1.441 | |
| summarizeQueryRegions | 11.201 | 0.241 | 11.447 | |
| summarizeQueryRegionsMulti | 12.084 | 0.375 | 29.626 | |