| Back to Multiple platform build/check report for BioC 3.13 |
|
This page was generated on 2021-10-15 15:06:17 -0400 (Fri, 15 Oct 2021).
|
To the developers/maintainers of the QFeatures package: - Please allow up to 24 hours (and sometimes 48 hours) for your latest push to git@git.bioconductor.org:packages/QFeatures.git to reflect on this report. See How and When does the builder pull? When will my changes propagate? here for more information. - Make sure to use the following settings in order to reproduce any error or warning you see on this page. |
| Package 1471/2041 | Hostname | OS / Arch | INSTALL | BUILD | CHECK | BUILD BIN | ||||||||
| QFeatures 1.2.0 (landing page) Laurent Gatto
| nebbiolo1 | Linux (Ubuntu 20.04.2 LTS) / x86_64 | OK | OK | OK | |||||||||
| tokay2 | Windows Server 2012 R2 Standard / x64 | OK | OK | OK | OK | |||||||||
| machv2 | macOS 10.14.6 Mojave / x86_64 | OK | OK | OK | OK | |||||||||
| Package: QFeatures |
| Version: 1.2.0 |
| Command: C:\cygwin\bin\curl.exe -O http://155.52.207.165/BBS/3.13/bioc/src/contrib/QFeatures_1.2.0.tar.gz && rm -rf QFeatures.buildbin-libdir && mkdir QFeatures.buildbin-libdir && C:\Users\biocbuild\bbs-3.13-bioc\R\bin\R.exe CMD INSTALL --merge-multiarch --build --library=QFeatures.buildbin-libdir QFeatures_1.2.0.tar.gz && C:\Users\biocbuild\bbs-3.13-bioc\R\bin\R.exe CMD INSTALL QFeatures_1.2.0.zip && rm QFeatures_1.2.0.tar.gz QFeatures_1.2.0.zip |
| StartedAt: 2021-10-14 09:31:18 -0400 (Thu, 14 Oct 2021) |
| EndedAt: 2021-10-14 09:32:12 -0400 (Thu, 14 Oct 2021) |
| EllapsedTime: 54.2 seconds |
| RetCode: 0 |
| Status: OK |
##############################################################################
##############################################################################
###
### Running command:
###
### C:\cygwin\bin\curl.exe -O http://155.52.207.165/BBS/3.13/bioc/src/contrib/QFeatures_1.2.0.tar.gz && rm -rf QFeatures.buildbin-libdir && mkdir QFeatures.buildbin-libdir && C:\Users\biocbuild\bbs-3.13-bioc\R\bin\R.exe CMD INSTALL --merge-multiarch --build --library=QFeatures.buildbin-libdir QFeatures_1.2.0.tar.gz && C:\Users\biocbuild\bbs-3.13-bioc\R\bin\R.exe CMD INSTALL QFeatures_1.2.0.zip && rm QFeatures_1.2.0.tar.gz QFeatures_1.2.0.zip
###
##############################################################################
##############################################################################
% Total % Received % Xferd Average Speed Time Time Time Current
Dload Upload Total Spent Left Speed
0 0 0 0 0 0 0 0 --:--:-- --:--:-- --:--:-- 0
100 626k 100 626k 0 0 1218k 0 --:--:-- --:--:-- --:--:-- 1221k
install for i386
* installing *source* package 'QFeatures' ...
** using staged installation
** R
** data
*** moving datasets to lazyload DB
** inst
** byte-compile and prepare package for lazy loading
Creating a new generic function for 'sweep' in package 'QFeatures'
** help
*** installing help indices
converting help for package 'QFeatures'
finding HTML links ... done
AllGenerics html
AssayLinks html
REDIRECT:topic Previous alias or file overwritten by alias: C:/Users/biocbuild/bbs-3.13-bioc/meat/QFeatures.buildbin-libdir/00LOCK-QFeatures/00new/QFeatures/help/assayLink.html
REDIRECT:topic Previous alias or file overwritten by alias: C:/Users/biocbuild/bbs-3.13-bioc/meat/QFeatures.buildbin-libdir/00LOCK-QFeatures/00new/QFeatures/help/assayLinks.html
QFeatures-aggregate html
finding level-2 HTML links ... done
QFeatures-class html
QFeatures-filtering html
QFeatures-missing-data html
QFeatures-processing html
QFeatures-subsetBy html
countUniqueFeatures html
display html
feat1 html
hlpsms html
impute html
joinAssays html
readQFeatures html
reduceDataFrame html
** building package indices
** installing vignettes
** testing if installed package can be loaded from temporary location
** testing if installed package can be loaded from final location
** testing if installed package keeps a record of temporary installation path
install for x64
* installing *source* package 'QFeatures' ...
** testing if installed package can be loaded
* MD5 sums
packaged installation of 'QFeatures' as QFeatures_1.2.0.zip
* DONE (QFeatures)
* installing to library 'C:/Users/biocbuild/bbs-3.13-bioc/R/library'
package 'QFeatures' successfully unpacked and MD5 sums checked