| Back to Multiple platform build/check report for BioC 3.13 |
|
This page was generated on 2021-10-15 15:06:17 -0400 (Fri, 15 Oct 2021).
|
To the developers/maintainers of the PubScore package: - Please allow up to 24 hours (and sometimes 48 hours) for your latest push to git@git.bioconductor.org:packages/PubScore.git to reflect on this report. See How and When does the builder pull? When will my changes propagate? here for more information. - Make sure to use the following settings in order to reproduce any error or warning you see on this page. |
| Package 1458/2041 | Hostname | OS / Arch | INSTALL | BUILD | CHECK | BUILD BIN | ||||||||
| PubScore 1.4.0 (landing page) Tiago Lubiana
| nebbiolo1 | Linux (Ubuntu 20.04.2 LTS) / x86_64 | OK | OK | OK | |||||||||
| tokay2 | Windows Server 2012 R2 Standard / x64 | OK | OK | OK | OK | |||||||||
| machv2 | macOS 10.14.6 Mojave / x86_64 | OK | OK | OK | OK | |||||||||
| Package: PubScore |
| Version: 1.4.0 |
| Command: C:\cygwin\bin\curl.exe -O http://155.52.207.165/BBS/3.13/bioc/src/contrib/PubScore_1.4.0.tar.gz && rm -rf PubScore.buildbin-libdir && mkdir PubScore.buildbin-libdir && C:\Users\biocbuild\bbs-3.13-bioc\R\bin\R.exe CMD INSTALL --merge-multiarch --build --library=PubScore.buildbin-libdir PubScore_1.4.0.tar.gz && C:\Users\biocbuild\bbs-3.13-bioc\R\bin\R.exe CMD INSTALL PubScore_1.4.0.zip && rm PubScore_1.4.0.tar.gz PubScore_1.4.0.zip |
| StartedAt: 2021-10-14 08:30:47 -0400 (Thu, 14 Oct 2021) |
| EndedAt: 2021-10-14 08:31:39 -0400 (Thu, 14 Oct 2021) |
| EllapsedTime: 51.6 seconds |
| RetCode: 0 |
| Status: OK |
##############################################################################
##############################################################################
###
### Running command:
###
### C:\cygwin\bin\curl.exe -O http://155.52.207.165/BBS/3.13/bioc/src/contrib/PubScore_1.4.0.tar.gz && rm -rf PubScore.buildbin-libdir && mkdir PubScore.buildbin-libdir && C:\Users\biocbuild\bbs-3.13-bioc\R\bin\R.exe CMD INSTALL --merge-multiarch --build --library=PubScore.buildbin-libdir PubScore_1.4.0.tar.gz && C:\Users\biocbuild\bbs-3.13-bioc\R\bin\R.exe CMD INSTALL PubScore_1.4.0.zip && rm PubScore_1.4.0.tar.gz PubScore_1.4.0.zip
###
##############################################################################
##############################################################################
% Total % Received % Xferd Average Speed Time Time Time Current
Dload Upload Total Spent Left Speed
0 0 0 0 0 0 0 0 --:--:-- --:--:-- --:--:-- 0
22 3061k 22 678k 0 0 1501k 0 0:00:02 --:--:-- 0:00:02 1502k
100 3061k 100 3061k 0 0 2417k 0 0:00:01 0:00:01 --:--:-- 2418k
install for i386
* installing *source* package 'PubScore' ...
** using staged installation
** R
** data
*** moving datasets to lazyload DB
** byte-compile and prepare package for lazy loading
** help
*** installing help indices
converting help for package 'PubScore'
finding HTML links ... done
PubScore-class html
all_counts html
dot-getSimulation_test html
dot-query_pubmed html
gene2pubmed_db html
getScore html
get_all_counts html
get_literature_score html
heatmapViz html
hgcn_entrez_reference html
initialize-PubScore-method html
networkViz html
plot_literature_graph html
plot_literature_score html
pubscore html
set_all_counts html
test_score html
** building package indices
** installing vignettes
** testing if installed package can be loaded from temporary location
** testing if installed package can be loaded from final location
** testing if installed package keeps a record of temporary installation path
install for x64
* installing *source* package 'PubScore' ...
** testing if installed package can be loaded
* MD5 sums
packaged installation of 'PubScore' as PubScore_1.4.0.zip
* DONE (PubScore)
* installing to library 'C:/Users/biocbuild/bbs-3.13-bioc/R/library'
package 'PubScore' successfully unpacked and MD5 sums checked