| Back to Multiple platform build/check report for BioC 3.13 |
|
This page was generated on 2021-10-15 15:06:17 -0400 (Fri, 15 Oct 2021).
|
To the developers/maintainers of the Prostar package: - Please allow up to 24 hours (and sometimes 48 hours) for your latest push to git@git.bioconductor.org:packages/Prostar.git to reflect on this report. See How and When does the builder pull? When will my changes propagate? here for more information. - Make sure to use the following settings in order to reproduce any error or warning you see on this page. |
| Package 1448/2041 | Hostname | OS / Arch | INSTALL | BUILD | CHECK | BUILD BIN | ||||||||
| Prostar 1.24.8 (landing page) Samuel Wieczorek
| nebbiolo1 | Linux (Ubuntu 20.04.2 LTS) / x86_64 | OK | OK | OK | |||||||||
| tokay2 | Windows Server 2012 R2 Standard / x64 | OK | OK | OK | OK | |||||||||
| machv2 | macOS 10.14.6 Mojave / x86_64 | OK | OK | OK | OK | |||||||||
| Package: Prostar |
| Version: 1.24.8 |
| Command: C:\cygwin\bin\curl.exe -O http://155.52.207.165/BBS/3.13/bioc/src/contrib/Prostar_1.24.8.tar.gz && rm -rf Prostar.buildbin-libdir && mkdir Prostar.buildbin-libdir && C:\Users\biocbuild\bbs-3.13-bioc\R\bin\R.exe CMD INSTALL --merge-multiarch --build --library=Prostar.buildbin-libdir Prostar_1.24.8.tar.gz && C:\Users\biocbuild\bbs-3.13-bioc\R\bin\R.exe CMD INSTALL Prostar_1.24.8.zip && rm Prostar_1.24.8.tar.gz Prostar_1.24.8.zip |
| StartedAt: 2021-10-14 11:23:09 -0400 (Thu, 14 Oct 2021) |
| EndedAt: 2021-10-14 11:24:02 -0400 (Thu, 14 Oct 2021) |
| EllapsedTime: 53.0 seconds |
| RetCode: 0 |
| Status: OK |
##############################################################################
##############################################################################
###
### Running command:
###
### C:\cygwin\bin\curl.exe -O http://155.52.207.165/BBS/3.13/bioc/src/contrib/Prostar_1.24.8.tar.gz && rm -rf Prostar.buildbin-libdir && mkdir Prostar.buildbin-libdir && C:\Users\biocbuild\bbs-3.13-bioc\R\bin\R.exe CMD INSTALL --merge-multiarch --build --library=Prostar.buildbin-libdir Prostar_1.24.8.tar.gz && C:\Users\biocbuild\bbs-3.13-bioc\R\bin\R.exe CMD INSTALL Prostar_1.24.8.zip && rm Prostar_1.24.8.tar.gz Prostar_1.24.8.zip
###
##############################################################################
##############################################################################
% Total % Received % Xferd Average Speed Time Time Time Current
Dload Upload Total Spent Left Speed
0 0 0 0 0 0 0 0 --:--:-- --:--:-- --:--:-- 0
13 5477k 13 735k 0 0 1564k 0 0:00:03 --:--:-- 0:00:03 1564k
85 5477k 85 4676k 0 0 3191k 0 0:00:01 0:00:01 --:--:-- 3191k
100 5477k 100 5477k 0 0 3373k 0 0:00:01 0:00:01 --:--:-- 3374k
install for i386
* installing *source* package 'Prostar' ...
** using staged installation
** R
** inst
** byte-compile and prepare package for lazy loading
** help
*** installing help indices
converting help for package 'Prostar'
finding HTML links ... done
Prostar html
** building package indices
** installing vignettes
** testing if installed package can be loaded from temporary location
** testing if installed package can be loaded from final location
** testing if installed package keeps a record of temporary installation path
install for x64
* installing *source* package 'Prostar' ...
** testing if installed package can be loaded
* MD5 sums
packaged installation of 'Prostar' as Prostar_1.24.8.zip
* DONE (Prostar)
* installing to library 'C:/Users/biocbuild/bbs-3.13-bioc/R/library'
package 'Prostar' successfully unpacked and MD5 sums checked