| Back to Multiple platform build/check report for BioC 3.13 |
|
This page was generated on 2021-10-15 15:06:16 -0400 (Fri, 15 Oct 2021).
|
To the developers/maintainers of the PrInCE package: - Please allow up to 24 hours (and sometimes 48 hours) for your latest push to git@git.bioconductor.org:packages/PrInCE.git to reflect on this report. See How and When does the builder pull? When will my changes propagate? here for more information. - Make sure to use the following settings in order to reproduce any error or warning you see on this page. |
| Package 1431/2041 | Hostname | OS / Arch | INSTALL | BUILD | CHECK | BUILD BIN | ||||||||
| PrInCE 1.8.0 (landing page) Michael Skinnider
| nebbiolo1 | Linux (Ubuntu 20.04.2 LTS) / x86_64 | OK | OK | WARNINGS | |||||||||
| tokay2 | Windows Server 2012 R2 Standard / x64 | OK | OK | WARNINGS | OK | |||||||||
| machv2 | macOS 10.14.6 Mojave / x86_64 | OK | OK | WARNINGS | OK | |||||||||
| Package: PrInCE |
| Version: 1.8.0 |
| Command: C:\cygwin\bin\curl.exe -O http://155.52.207.165/BBS/3.13/bioc/src/contrib/PrInCE_1.8.0.tar.gz && rm -rf PrInCE.buildbin-libdir && mkdir PrInCE.buildbin-libdir && C:\Users\biocbuild\bbs-3.13-bioc\R\bin\R.exe CMD INSTALL --merge-multiarch --build --library=PrInCE.buildbin-libdir PrInCE_1.8.0.tar.gz && C:\Users\biocbuild\bbs-3.13-bioc\R\bin\R.exe CMD INSTALL PrInCE_1.8.0.zip && rm PrInCE_1.8.0.tar.gz PrInCE_1.8.0.zip |
| StartedAt: 2021-10-14 09:33:51 -0400 (Thu, 14 Oct 2021) |
| EndedAt: 2021-10-14 09:35:45 -0400 (Thu, 14 Oct 2021) |
| EllapsedTime: 113.2 seconds |
| RetCode: 0 |
| Status: OK |
##############################################################################
##############################################################################
###
### Running command:
###
### C:\cygwin\bin\curl.exe -O http://155.52.207.165/BBS/3.13/bioc/src/contrib/PrInCE_1.8.0.tar.gz && rm -rf PrInCE.buildbin-libdir && mkdir PrInCE.buildbin-libdir && C:\Users\biocbuild\bbs-3.13-bioc\R\bin\R.exe CMD INSTALL --merge-multiarch --build --library=PrInCE.buildbin-libdir PrInCE_1.8.0.tar.gz && C:\Users\biocbuild\bbs-3.13-bioc\R\bin\R.exe CMD INSTALL PrInCE_1.8.0.zip && rm PrInCE_1.8.0.tar.gz PrInCE_1.8.0.zip
###
##############################################################################
##############################################################################
% Total % Received % Xferd Average Speed Time Time Time Current
Dload Upload Total Spent Left Speed
0 0 0 0 0 0 0 0 --:--:-- --:--:-- --:--:-- 0
12 1811k 12 221k 0 0 738k 0 0:00:02 --:--:-- 0:00:02 737k
100 1811k 100 1811k 0 0 2188k 0 --:--:-- --:--:-- --:--:-- 2187k
install for i386
* installing *source* package 'PrInCE' ...
** using staged installation
** R
** data
** inst
** byte-compile and prepare package for lazy loading
** help
Loading required namespace: PrInCE
Registered S3 method overwritten by 'quantmod':
method from
as.zoo.data.frame zoo
*** installing help indices
converting help for package 'PrInCE'
finding HTML links ... done
PrInCE html
finding level-2 HTML links ... done
adjacency_matrix_from_data_frame html
adjacency_matrix_from_list html
aic html
build_gaussians html
calculate_autocorrelation html
calculate_features html
calculate_precision html
check_gaussians html
choose_gaussians html
clean_profile html
clean_profiles html
co_apex html
concatenate_features html
detect_complexes html
filter_profiles html
fit_curve html
fit_gaussians html
gold_standard html
impute_neighbors html
is_unweighted html
is_weighted html
kristensen html
kristensen_gaussians html
make_feature_from_data_frame html
make_feature_from_expression html
make_initial_conditions html
make_labels html
match_matrix_dimensions html
predict_ensemble html
predict_interactions html
replace_missing_data html
scott html
scott_gaussians html
threshold_precision html
** building package indices
** installing vignettes
** testing if installed package can be loaded from temporary location
** testing if installed package can be loaded from final location
** testing if installed package keeps a record of temporary installation path
install for x64
* installing *source* package 'PrInCE' ...
** testing if installed package can be loaded
* MD5 sums
packaged installation of 'PrInCE' as PrInCE_1.8.0.zip
* DONE (PrInCE)
* installing to library 'C:/Users/biocbuild/bbs-3.13-bioc/R/library'
package 'PrInCE' successfully unpacked and MD5 sums checked