| Back to Multiple platform build/check report for BioC 3.13 |
|
This page was generated on 2021-10-15 15:06:46 -0400 (Fri, 15 Oct 2021).
|
To the developers/maintainers of the PhosR package: - Please allow up to 24 hours (and sometimes 48 hours) for your latest push to git@git.bioconductor.org:packages/PhosR.git to reflect on this report. See How and When does the builder pull? When will my changes propagate? here for more information. - Make sure to use the following settings in order to reproduce any error or warning you see on this page. |
| Package 1387/2041 | Hostname | OS / Arch | INSTALL | BUILD | CHECK | BUILD BIN | ||||||||
| PhosR 1.2.0 (landing page) Taiyun Kim
| nebbiolo1 | Linux (Ubuntu 20.04.2 LTS) / x86_64 | OK | OK | OK | |||||||||
| tokay2 | Windows Server 2012 R2 Standard / x64 | OK | OK | OK | OK | |||||||||
| machv2 | macOS 10.14.6 Mojave / x86_64 | OK | OK | OK | OK | |||||||||
| Package: PhosR |
| Version: 1.2.0 |
| Command: /Library/Frameworks/R.framework/Versions/Current/Resources/bin/R CMD check --install=check:PhosR.install-out.txt --library=/Library/Frameworks/R.framework/Versions/Current/Resources/library --no-vignettes --timings PhosR_1.2.0.tar.gz |
| StartedAt: 2021-10-14 22:19:22 -0400 (Thu, 14 Oct 2021) |
| EndedAt: 2021-10-14 22:24:06 -0400 (Thu, 14 Oct 2021) |
| EllapsedTime: 284.2 seconds |
| RetCode: 0 |
| Status: OK |
| CheckDir: PhosR.Rcheck |
| Warnings: 0 |
##############################################################################
##############################################################################
###
### Running command:
###
### /Library/Frameworks/R.framework/Versions/Current/Resources/bin/R CMD check --install=check:PhosR.install-out.txt --library=/Library/Frameworks/R.framework/Versions/Current/Resources/library --no-vignettes --timings PhosR_1.2.0.tar.gz
###
##############################################################################
##############################################################################
* using log directory ‘/Users/biocbuild/bbs-3.13-bioc/meat/PhosR.Rcheck’
* using R version 4.1.1 (2021-08-10)
* using platform: x86_64-apple-darwin17.0 (64-bit)
* using session charset: UTF-8
* using option ‘--no-vignettes’
* checking for file ‘PhosR/DESCRIPTION’ ... OK
* checking extension type ... Package
* this is package ‘PhosR’ version ‘1.2.0’
* package encoding: UTF-8
* checking package namespace information ... OK
* checking package dependencies ... OK
* checking if this is a source package ... OK
* checking if there is a namespace ... OK
* checking for hidden files and directories ... NOTE
Found the following hidden files and directories:
.git_fetch_output.txt
.git_merge_output.txt
.travis.yml
These were most likely included in error. See section ‘Package
structure’ in the ‘Writing R Extensions’ manual.
* checking for portable file names ... OK
* checking for sufficient/correct file permissions ... OK
* checking whether package ‘PhosR’ can be installed ... OK
* checking installed package size ... OK
* checking package directory ... OK
* checking ‘build’ directory ... OK
* checking DESCRIPTION meta-information ... OK
* checking top-level files ... OK
* checking for left-over files ... OK
* checking index information ... OK
* checking package subdirectories ... OK
* checking R files for non-ASCII characters ... OK
* checking R files for syntax errors ... OK
* checking whether the package can be loaded ... OK
* checking whether the package can be loaded with stated dependencies ... OK
* checking whether the package can be unloaded cleanly ... OK
* checking whether the namespace can be loaded with stated dependencies ... OK
* checking whether the namespace can be unloaded cleanly ... OK
* checking dependencies in R code ... NOTE
Unexported objects imported by ':::' calls:
‘BiocGenerics:::replaceSlots’ ‘S4Vectors:::disableValidity’
‘SummarizedExperiment:::.SummarizedExperiment.charbound’
See the note in ?`:::` about the use of this operator.
* checking S3 generic/method consistency ... OK
* checking replacement functions ... OK
* checking foreign function calls ... OK
* checking R code for possible problems ... OK
* checking Rd files ... OK
* checking Rd metadata ... OK
* checking Rd cross-references ... OK
* checking for missing documentation entries ... OK
* checking for code/documentation mismatches ... OK
* checking Rd \usage sections ... OK
* checking Rd contents ... OK
* checking for unstated dependencies in examples ... OK
* checking contents of ‘data’ directory ... OK
* checking data for non-ASCII characters ... OK
* checking data for ASCII and uncompressed saves ... OK
* checking files in ‘vignettes’ ... OK
* checking examples ... OK
Examples with CPU (user + system) or elapsed time > 5s
user system elapsed
plotQC 7.279 0.165 7.45
* checking for unstated dependencies in ‘tests’ ... OK
* checking tests ...
Running ‘testthat.R’
OK
* checking for unstated dependencies in vignettes ... OK
* checking package vignettes in ‘inst/doc’ ... OK
* checking running R code from vignettes ... SKIPPED
* checking re-building of vignette outputs ... SKIPPED
* checking PDF version of manual ... OK
* DONE
Status: 2 NOTEs
See
‘/Users/biocbuild/bbs-3.13-bioc/meat/PhosR.Rcheck/00check.log’
for details.
PhosR.Rcheck/00install.out
############################################################################## ############################################################################## ### ### Running command: ### ### /Library/Frameworks/R.framework/Versions/Current/Resources/bin/R CMD INSTALL PhosR ### ############################################################################## ############################################################################## * installing to library ‘/Library/Frameworks/R.framework/Versions/4.1/Resources/library’ * installing *source* package ‘PhosR’ ... ** using staged installation ** R ** data ** inst ** byte-compile and prepare package for lazy loading ** help *** installing help indices *** copying figures ** building package indices ** installing vignettes ** testing if installed package can be loaded from temporary location ** testing if installed package can be loaded from final location ** testing if installed package keeps a record of temporary installation path * DONE (PhosR)
PhosR.Rcheck/tests/testthat.Rout
R version 4.1.1 (2021-08-10) -- "Kick Things"
Copyright (C) 2021 The R Foundation for Statistical Computing
Platform: x86_64-apple-darwin17.0 (64-bit)
R is free software and comes with ABSOLUTELY NO WARRANTY.
You are welcome to redistribute it under certain conditions.
Type 'license()' or 'licence()' for distribution details.
R is a collaborative project with many contributors.
Type 'contributors()' for more information and
'citation()' on how to cite R or R packages in publications.
Type 'demo()' for some demos, 'help()' for on-line help, or
'help.start()' for an HTML browser interface to help.
Type 'q()' to quit R.
> library(testthat)
> library(PhosR)
>
> test_check("PhosR")
[ FAIL 0 | WARN 0 | SKIP 0 | PASS 58 ]
>
> proc.time()
user system elapsed
11.320 0.568 11.888
PhosR.Rcheck/PhosR-Ex.timings
| name | user | system | elapsed | |
| PhosphoExperiment-methods | 0.644 | 0.013 | 0.658 | |
| PhosphoExperiment-operate | 1.072 | 0.018 | 1.091 | |
| PhosphoExperiment | 0.588 | 0.005 | 0.594 | |
| RUVphospho | 0.952 | 0.008 | 0.961 | |
| Signalomes | 0 | 0 | 0 | |
| createFrequencyMat | 0.134 | 0.003 | 0.137 | |
| frequencyScoring | 0.515 | 0.024 | 0.539 | |
| getSPS | 3.247 | 0.038 | 3.289 | |
| kinaseSubstrateHeatmap | 0.000 | 0.001 | 0.001 | |
| kinaseSubstratePred | 0.000 | 0.000 | 0.001 | |
| kinaseSubstrateProfile | 0 | 0 | 0 | |
| kinaseSubstrateScore | 0 | 0 | 0 | |
| mIntersect | 2.267 | 0.008 | 2.276 | |
| matANOVA | 0.000 | 0.000 | 0.001 | |
| meanAbundance | 0.385 | 0.007 | 0.392 | |
| medianScaling | 0.505 | 0.017 | 0.522 | |
| minmax | 0 | 0 | 0 | |
| pathwayOverrepresent | 0.001 | 0.000 | 0.001 | |
| pathwayRankBasedEnrichment | 0.000 | 0.000 | 0.001 | |
| phosCollapse | 1.465 | 0.018 | 1.483 | |
| plotQC | 7.279 | 0.165 | 7.450 | |
| ptImpute | 0.474 | 0.010 | 0.485 | |
| scImpute | 1.079 | 0.019 | 1.101 | |
| selectGrps | 0.149 | 0.004 | 0.153 | |
| selectLocalisedSites | 0.119 | 0.003 | 0.123 | |
| selectOverallPercent | 0.060 | 0.002 | 0.062 | |
| selectTimes | 0.012 | 0.003 | 0.015 | |
| siteAnnotate | 0 | 0 | 0 | |
| standardise | 0.000 | 0.001 | 0.000 | |
| tImpute | 0.258 | 0.008 | 0.267 | |