| Back to Multiple platform build/check report for BioC 3.13 |
|
This page was generated on 2021-10-15 15:06:46 -0400 (Fri, 15 Oct 2021).
|
To the developers/maintainers of the PhenStat package: - Please allow up to 24 hours (and sometimes 48 hours) for your latest push to git@git.bioconductor.org:packages/PhenStat.git to reflect on this report. See How and When does the builder pull? When will my changes propagate? here for more information. - Make sure to use the following settings in order to reproduce any error or warning you see on this page. |
| Package 1383/2041 | Hostname | OS / Arch | INSTALL | BUILD | CHECK | BUILD BIN | ||||||||
| PhenStat 2.28.0 (landing page) Hamed Haselimashhadi
| nebbiolo1 | Linux (Ubuntu 20.04.2 LTS) / x86_64 | OK | OK | OK | |||||||||
| tokay2 | Windows Server 2012 R2 Standard / x64 | OK | OK | OK | OK | |||||||||
| machv2 | macOS 10.14.6 Mojave / x86_64 | OK | OK | OK | OK | |||||||||
| Package: PhenStat |
| Version: 2.28.0 |
| Command: /Library/Frameworks/R.framework/Versions/Current/Resources/bin/R CMD check --install=check:PhenStat.install-out.txt --library=/Library/Frameworks/R.framework/Versions/Current/Resources/library --no-vignettes --timings PhenStat_2.28.0.tar.gz |
| StartedAt: 2021-10-14 22:17:44 -0400 (Thu, 14 Oct 2021) |
| EndedAt: 2021-10-14 22:20:49 -0400 (Thu, 14 Oct 2021) |
| EllapsedTime: 184.4 seconds |
| RetCode: 0 |
| Status: OK |
| CheckDir: PhenStat.Rcheck |
| Warnings: 0 |
############################################################################## ############################################################################## ### ### Running command: ### ### /Library/Frameworks/R.framework/Versions/Current/Resources/bin/R CMD check --install=check:PhenStat.install-out.txt --library=/Library/Frameworks/R.framework/Versions/Current/Resources/library --no-vignettes --timings PhenStat_2.28.0.tar.gz ### ############################################################################## ############################################################################## * using log directory ‘/Users/biocbuild/bbs-3.13-bioc/meat/PhenStat.Rcheck’ * using R version 4.1.1 (2021-08-10) * using platform: x86_64-apple-darwin17.0 (64-bit) * using session charset: UTF-8 * using option ‘--no-vignettes’ * checking for file ‘PhenStat/DESCRIPTION’ ... OK * checking extension type ... Package * this is package ‘PhenStat’ version ‘2.28.0’ * checking package namespace information ... OK * checking package dependencies ... OK * checking if this is a source package ... OK * checking if there is a namespace ... OK * checking for hidden files and directories ... NOTE Found the following hidden files and directories: .git_fetch_output.txt .git_merge_output.txt These were most likely included in error. See section ‘Package structure’ in the ‘Writing R Extensions’ manual. * checking for portable file names ... OK * checking for sufficient/correct file permissions ... OK * checking whether package ‘PhenStat’ can be installed ... OK * checking installed package size ... OK * checking package directory ... OK * checking ‘build’ directory ... OK * checking DESCRIPTION meta-information ... OK * checking top-level files ... OK * checking for left-over files ... OK * checking index information ... OK * checking package subdirectories ... OK * checking R files for non-ASCII characters ... OK * checking R files for syntax errors ... OK * checking whether the package can be loaded ... OK * checking whether the package can be loaded with stated dependencies ... OK * checking whether the package can be unloaded cleanly ... OK * checking whether the namespace can be loaded with stated dependencies ... OK * checking whether the namespace can be unloaded cleanly ... OK * checking dependencies in R code ... NOTE Namespace in Imports field not imported from: ‘SmoothWin’ All declared Imports should be used. * checking S3 generic/method consistency ... OK * checking replacement functions ... OK * checking foreign function calls ... OK * checking R code for possible problems ... OK * checking Rd files ... OK * checking Rd metadata ... OK * checking Rd cross-references ... OK * checking for missing documentation entries ... OK * checking for code/documentation mismatches ... OK * checking Rd \usage sections ... OK * checking Rd contents ... OK * checking for unstated dependencies in examples ... OK * checking sizes of PDF files under ‘inst/doc’ ... OK * checking installed files from ‘inst/doc’ ... OK * checking files in ‘vignettes’ ... OK * checking examples ... OK * checking for unstated dependencies in ‘tests’ ... OK * checking tests ... Running ‘runTests.R’ OK * checking for unstated dependencies in vignettes ... OK * checking package vignettes in ‘inst/doc’ ... OK * checking running R code from vignettes ... SKIPPED * checking re-building of vignette outputs ... SKIPPED * checking PDF version of manual ... OK * DONE Status: 2 NOTEs See ‘/Users/biocbuild/bbs-3.13-bioc/meat/PhenStat.Rcheck/00check.log’ for details.
PhenStat.Rcheck/00install.out
############################################################################## ############################################################################## ### ### Running command: ### ### /Library/Frameworks/R.framework/Versions/Current/Resources/bin/R CMD INSTALL PhenStat ### ############################################################################## ############################################################################## * installing to library ‘/Library/Frameworks/R.framework/Versions/4.1/Resources/library’ * installing *source* package ‘PhenStat’ ... ** using staged installation ** R ** inst ** byte-compile and prepare package for lazy loading ** help *** installing help indices ** building package indices ** installing vignettes ** testing if installed package can be loaded from temporary location ** testing if installed package can be loaded from final location ** testing if installed package keeps a record of temporary installation path * DONE (PhenStat)
PhenStat.Rcheck/tests/runTests.Rout
R version 4.1.1 (2021-08-10) -- "Kick Things"
Copyright (C) 2021 The R Foundation for Statistical Computing
Platform: x86_64-apple-darwin17.0 (64-bit)
R is free software and comes with ABSOLUTELY NO WARRANTY.
You are welcome to redistribute it under certain conditions.
Type 'license()' or 'licence()' for distribution details.
R is a collaborative project with many contributors.
Type 'contributors()' for more information and
'citation()' on how to cite R or R packages in publications.
Type 'demo()' for some demos, 'help()' for on-line help, or
'help.start()' for an HTML browser interface to help.
Type 'q()' to quit R.
> BiocGenerics:::testPackage("PhenStat")
>=========================================================================<
This version of PhenStat includes *FEWER* functions than the previous ones
You *still* can use the previous functions by using `:::`. For example :
PhenStat:::boxplotSexGenotype or PhenStat:::FisherExactTest
*** Want to know what is new in this version? run PhenStat:::WhatIsNew()
>=========================================================================<
RUNIT TEST PROTOCOL -- Thu Oct 14 22:20:34 2021
***********************************************
Number of test functions: 0
Number of errors: 0
Number of failures: 0
1 Test Suite :
PhenStat RUnit Tests - 0 test functions, 0 errors, 0 failures
Number of test functions: 0
Number of errors: 0
Number of failures: 0
>
> proc.time()
user system elapsed
4.537 0.313 4.834
PhenStat.Rcheck/PhenStat-Ex.timings
| name | user | system | elapsed | |
| FisherExactTest | 0.213 | 0.022 | 0.236 | |
| JSONOutput | 1.264 | 0.038 | 1.321 | |
| LRDataset | 0.072 | 0.008 | 0.078 | |
| PhenList-class | 0.266 | 0.019 | 0.286 | |
| PhenList | 0.258 | 0.007 | 0.266 | |
| PhenStatReport | 0.052 | 0.002 | 0.054 | |
| PhenTestResult-class | 1.171 | 0.025 | 1.202 | |
| PhenTestResult | 0.871 | 0.010 | 0.882 | |
| RRTest | 0.153 | 0.005 | 0.158 | |
| TFDataset | 0.453 | 0.009 | 0.464 | |
| analysedDataset | 1.026 | 0.014 | 1.041 | |
| analysisResults | 1.073 | 0.019 | 1.124 | |
| boxplotResidualBatch | 1.178 | 0.022 | 1.200 | |
| boxplotSexGenotype | 0.127 | 0.006 | 0.136 | |
| boxplotSexGenotypeBatch | 0.234 | 0.006 | 0.241 | |
| boxplotSexGenotypeBatchAdjusted | 0.111 | 0.002 | 0.113 | |
| boxplotSexGenotypeResult | 1.345 | 0.015 | 1.479 | |
| boxplotSexGenotypeWeightBatchAdjusted | 0.071 | 0.001 | 0.072 | |
| categoricalBarplot | 0.233 | 0.008 | 0.243 | |
| checkDataset | 0.055 | 0.002 | 0.057 | |
| classificationTag | 1.116 | 0.010 | 1.134 | |
| determiningLambda | 1.029 | 0.373 | 1.403 | |
| dim | 0.056 | 0.001 | 0.057 | |
| finalLRModel | 0.698 | 0.008 | 0.706 | |
| finalModel | 0.960 | 0.008 | 0.970 | |
| finalTFModel | 0.836 | 0.023 | 0.883 | |
| htestPhenStat-class | 0.210 | 0.009 | 0.220 | |
| modelFormula | 0.000 | 0.000 | 0.001 | |
| modelFormulaLR | 0.000 | 0.001 | 0.000 | |
| parserOutputSummary | 1.201 | 0.012 | 1.214 | |
| parserOutputSummaryLR | 0.593 | 0.006 | 0.599 | |
| parserOutputTFSummary | 0.154 | 0.002 | 0.156 | |
| performReverseTransformation | 0.000 | 0.001 | 0.001 | |
| performTransformation | 0.000 | 0.000 | 0.001 | |
| plot.PhenList | 3.038 | 0.071 | 3.136 | |
| plot.PhenTestResult | 3.158 | 0.079 | 3.260 | |
| plotResidualPredicted | 1.011 | 0.006 | 1.019 | |
| printLROutput | 0.655 | 0.014 | 0.670 | |
| printTabStyle | 0.001 | 0.001 | 0.002 | |
| qqplotGenotype | 1.090 | 0.005 | 1.098 | |
| qqplotRandomEffects | 1.028 | 0.021 | 1.050 | |
| qqplotRotatedResiduals | 4.568 | 0.074 | 4.688 | |
| recommendMethod | 0.404 | 0.007 | 0.411 | |
| scatterplotGenotypeWeight | 0.216 | 0.005 | 0.222 | |
| scatterplotGenotypeWeightResult | 1.203 | 0.014 | 1.219 | |
| scatterplotSexGenotypeBatch | 0.120 | 0.004 | 0.125 | |
| scatterplotSexGenotypeBatchResult | 1.331 | 0.010 | 1.342 | |
| startLRModel | 0.793 | 0.010 | 0.810 | |
| startModel | 0.851 | 0.003 | 0.858 | |
| startTFModel | 0.701 | 0.007 | 0.709 | |
| summaryOutput | 1.109 | 0.022 | 1.132 | |
| summaryPhenListResult | 1.192 | 0.013 | 1.206 | |
| testDataset | 3.053 | 0.055 | 3.118 | |
| testFinalLRModel | 0.524 | 0.007 | 0.531 | |
| testFinalModel | 1.181 | 0.006 | 1.189 | |
| vectorOutput | 1.189 | 0.029 | 1.220 | |
| vectorOutputMatrices | 0.197 | 0.019 | 0.217 | |