| Back to Multiple platform build/check report for BioC 3.13 |
|
This page was generated on 2021-10-15 15:06:17 -0400 (Fri, 15 Oct 2021).
|
To the developers/maintainers of the PWMEnrich package: - Please allow up to 24 hours (and sometimes 48 hours) for your latest push to git@git.bioconductor.org:packages/PWMEnrich.git to reflect on this report. See How and When does the builder pull? When will my changes propagate? here for more information. - Make sure to use the following settings in order to reproduce any error or warning you see on this page. |
| Package 1465/2041 | Hostname | OS / Arch | INSTALL | BUILD | CHECK | BUILD BIN | ||||||||
| PWMEnrich 4.28.1 (landing page) Diego Diez
| nebbiolo1 | Linux (Ubuntu 20.04.2 LTS) / x86_64 | OK | OK | OK | |||||||||
| tokay2 | Windows Server 2012 R2 Standard / x64 | OK | OK | OK | OK | |||||||||
| machv2 | macOS 10.14.6 Mojave / x86_64 | OK | OK | OK | OK | |||||||||
| Package: PWMEnrich |
| Version: 4.28.1 |
| Command: C:\cygwin\bin\curl.exe -O http://155.52.207.165/BBS/3.13/bioc/src/contrib/PWMEnrich_4.28.1.tar.gz && rm -rf PWMEnrich.buildbin-libdir && mkdir PWMEnrich.buildbin-libdir && C:\Users\biocbuild\bbs-3.13-bioc\R\bin\R.exe CMD INSTALL --merge-multiarch --build --library=PWMEnrich.buildbin-libdir PWMEnrich_4.28.1.tar.gz && C:\Users\biocbuild\bbs-3.13-bioc\R\bin\R.exe CMD INSTALL PWMEnrich_4.28.1.zip && rm PWMEnrich_4.28.1.tar.gz PWMEnrich_4.28.1.zip |
| StartedAt: 2021-10-14 07:48:19 -0400 (Thu, 14 Oct 2021) |
| EndedAt: 2021-10-14 07:49:14 -0400 (Thu, 14 Oct 2021) |
| EllapsedTime: 54.8 seconds |
| RetCode: 0 |
| Status: OK |
##############################################################################
##############################################################################
###
### Running command:
###
### C:\cygwin\bin\curl.exe -O http://155.52.207.165/BBS/3.13/bioc/src/contrib/PWMEnrich_4.28.1.tar.gz && rm -rf PWMEnrich.buildbin-libdir && mkdir PWMEnrich.buildbin-libdir && C:\Users\biocbuild\bbs-3.13-bioc\R\bin\R.exe CMD INSTALL --merge-multiarch --build --library=PWMEnrich.buildbin-libdir PWMEnrich_4.28.1.tar.gz && C:\Users\biocbuild\bbs-3.13-bioc\R\bin\R.exe CMD INSTALL PWMEnrich_4.28.1.zip && rm PWMEnrich_4.28.1.tar.gz PWMEnrich_4.28.1.zip
###
##############################################################################
##############################################################################
% Total % Received % Xferd Average Speed Time Time Time Current
Dload Upload Total Spent Left Speed
0 0 0 0 0 0 0 0 --:--:-- --:--:-- --:--:-- 0
100 205k 100 205k 0 0 900k 0 --:--:-- --:--:-- --:--:-- 905k
install for i386
* installing *source* package 'PWMEnrich' ...
** using staged installation
** R
** inst
** byte-compile and prepare package for lazy loading
** help
*** installing help indices
converting help for package 'PWMEnrich'
finding HTML links ... done
DNAStringSetToList html
MotifEnrichmentReport-class html
MotifEnrichmentResults-class html
PFMtoPWM html
PWM-class html
PWMCutoffBackground-class html
PWMEmpiricalBackground-class html
PWMEnrich-package html
PWMGEVBackground-class html
PWMLognBackground-class html
PWMUnscaled html
affinitySequenceSet html
as.data.frame-MotifEnrichmentReport-method
html
cloverPvalue1seq html
cloverScore html
colMedians html
colSds html
concatenateSequences html
cutoffZscore html
cutoffZscoreSequenceSet html
divideRows html
dot-inputPFMfromMatrixOrPWM html
dot-inputParamMotifs html
dot-inputParamSequences html
dot-normalize.bg.seq html
dot-normargPfm html
dot-normargPriorParams html
empiricalPvalue html
empiricalPvalueSequenceSet html
getBackgroundFrequencies html
getPromoters html
gevPerSequence html
groupReport-MotifEnrichmentResults-method
html
keepFinite html
logNormPval html
logNormPvalSequenceSet html
makeBackground html
makePWMCutoffBackground html
makePWMEmpiricalBackground html
makePWMGEVBackground html
makePWMLognBackground html
makePWMPvalCutoffBackground html
makePWMPvalCutoffBackgroundFromSeq html
makePriors html
makeStartEndPos html
matrixShuffleZscorePerSequence html
maxAligned html
motifDiffEnrichment html
motifEcdf html
motifEnrichment html
motifIC html
motifPrAUC html
motifRankingForGroup-MotifEnrichmentResults-method
html
motifRankingForSequence-MotifEnrichmentResults-method
html
motifRecoveryAUC html
motifScores html
motifScoresBigMemory html
motifSimilarity html
operators-MotifEnrichmentReport html
operators-MotifEnrichmentResults html
operators-PWM html
operators-PWMCutoffBackground html
operators-PWMEmpiricalBackground html
operators-PWMGEVBackground html
operators-PWMLognBackground html
plot-MotifEnrichmentReport-missing-method
html
plot-PWM-missing-method html
plotMotifScores html
plotMultipleMotifs html
plotPFM html
plotTopMotifsGroup-MotifEnrichmentResults-method
html
plotTopMotifsSequence-MotifEnrichmentResults-method
html
rankingProcessAndReturn html
readJASPAR html
readMotifs html
readTRANSFAC html
registerCoresPWMEnrich html
reverseComplement-PWM-method html
scanWithPWM html
seqLogoGrid html
sequenceReport-MotifEnrichmentResults-method
html
show-MotifEnrichmentReport-method html
show-MotifEnrichmentResults-method html
show-PWM-method html
show-PWMCutoffBackground-method html
show-PWMEmpiricalBackground-method html
show-PWMGEVBackground-method html
show-PWMLognBackground-method html
subsetting-PWMCutoffBackground html
subsetting-PWMEmpiricalBackground html
subsetting-PWMGEVBackground html
subsetting-PWMLognBackground html
toPWM html
tryAllMotifAlignments html
useBigMemoryPWMEnrich html
** building package indices
** installing vignettes
** testing if installed package can be loaded from temporary location
** testing if installed package can be loaded from final location
** testing if installed package keeps a record of temporary installation path
install for x64
* installing *source* package 'PWMEnrich' ...
** testing if installed package can be loaded
* MD5 sums
packaged installation of 'PWMEnrich' as PWMEnrich_4.28.1.zip
* DONE (PWMEnrich)
* installing to library 'C:/Users/biocbuild/bbs-3.13-bioc/R/library'
package 'PWMEnrich' successfully unpacked and MD5 sums checked