| Back to Multiple platform build/check report for BioC 3.13 | 
 | 
This page was generated on 2021-10-15 15:06:16 -0400 (Fri, 15 Oct 2021).
| To the developers/maintainers of the PROcess package: - Please allow up to 24 hours (and sometimes 48 hours) for your latest push to git@git.bioconductor.org:packages/PROcess.git to reflect on this report. See How and When does the builder pull? When will my changes propagate? here for more information. - Make sure to use the following settings in order to reproduce any error or warning you see on this page. | 
| Package 1435/2041 | Hostname | OS / Arch | INSTALL | BUILD | CHECK | BUILD BIN | ||||||||
| PROcess 1.68.0  (landing page) Xiaochun Li 
 | nebbiolo1 | Linux (Ubuntu 20.04.2 LTS) / x86_64 | OK | OK | OK |  | ||||||||
| tokay2 | Windows Server 2012 R2 Standard / x64 | OK | OK | OK | OK |  | ||||||||
| machv2 | macOS 10.14.6 Mojave / x86_64 | OK | OK | OK | OK |  | ||||||||
| Package: PROcess | 
| Version: 1.68.0 | 
| Command: rm -rf PROcess.buildbin-libdir && mkdir PROcess.buildbin-libdir && C:\Users\biocbuild\bbs-3.13-bioc\R\bin\R.exe CMD INSTALL --merge-multiarch --build --library=PROcess.buildbin-libdir PROcess_1.68.0.tar.gz | 
| StartedAt: 2021-10-15 11:04:31 -0400 (Fri, 15 Oct 2021) | 
| EndedAt: 2021-10-15 11:06:07 -0400 (Fri, 15 Oct 2021) | 
| EllapsedTime: 95.3 seconds | 
| RetCode: 0 | 
| Status: OK | 
| PackageFile: PROcess_1.68.0.zip | 
| PackageFileSize: 1.992 MiB | 
##############################################################################
##############################################################################
###
### Running command:
###
###   rm -rf PROcess.buildbin-libdir && mkdir PROcess.buildbin-libdir && C:\Users\biocbuild\bbs-3.13-bioc\R\bin\R.exe CMD INSTALL --merge-multiarch --build --library=PROcess.buildbin-libdir PROcess_1.68.0.tar.gz
###
##############################################################################
##############################################################################
install for i386
* installing *source* package 'PROcess' ...
** using staged installation
** R
** inst
** byte-compile and prepare package for lazy loading
** help
*** installing help indices
  converting help for package 'PROcess'
    finding HTML links ... done
    align                                   html  
    aveSpec                                 html  
    avesd                                   html  
    binning                                 html  
    bslnoff                                 html  
    gelmap                                  html  
    getMzs                                  html  
    getPeaks                                html  
    getPeaks2                               html  
    intg                                    html  
    is.multiple                             html  
    isPeak                                  html  
    lnn                                     html  
    peaks                                   html  
    pk2bmkr                                 html  
    quality                                 html  
    read.files                              html  
    renorm                                  html  
    rmBaseline                              html  
    specZoom                                html  
** building package indices
** installing vignettes
** testing if installed package can be loaded from temporary location
** testing if installed package can be loaded from final location
** testing if installed package keeps a record of temporary installation path
install for x64
* installing *source* package 'PROcess' ...
** testing if installed package can be loaded
* MD5 sums
packaged installation of 'PROcess' as PROcess_1.68.0.zip
* DONE (PROcess)