| Back to Multiple platform build/check report for BioC 3.13 |
|
This page was generated on 2021-10-15 15:06:16 -0400 (Fri, 15 Oct 2021).
|
To the developers/maintainers of the PPInfer package: - Please allow up to 24 hours (and sometimes 48 hours) for your latest push to git@git.bioconductor.org:packages/PPInfer.git to reflect on this report. See How and When does the builder pull? When will my changes propagate? here for more information. - Make sure to use the following settings in order to reproduce any error or warning you see on this page. |
| Package 1420/2041 | Hostname | OS / Arch | INSTALL | BUILD | CHECK | BUILD BIN | ||||||||
| PPInfer 1.18.0 (landing page) Dongmin Jung
| nebbiolo1 | Linux (Ubuntu 20.04.2 LTS) / x86_64 | OK | OK | OK | |||||||||
| tokay2 | Windows Server 2012 R2 Standard / x64 | OK | OK | OK | OK | |||||||||
| machv2 | macOS 10.14.6 Mojave / x86_64 | OK | OK | OK | OK | |||||||||
| Package: PPInfer |
| Version: 1.18.0 |
| Command: C:\cygwin\bin\curl.exe -O http://155.52.207.165/BBS/3.13/bioc/src/contrib/PPInfer_1.18.0.tar.gz && rm -rf PPInfer.buildbin-libdir && mkdir PPInfer.buildbin-libdir && C:\Users\biocbuild\bbs-3.13-bioc\R\bin\R.exe CMD INSTALL --merge-multiarch --build --library=PPInfer.buildbin-libdir PPInfer_1.18.0.tar.gz && C:\Users\biocbuild\bbs-3.13-bioc\R\bin\R.exe CMD INSTALL PPInfer_1.18.0.zip && rm PPInfer_1.18.0.tar.gz PPInfer_1.18.0.zip |
| StartedAt: 2021-10-14 11:09:23 -0400 (Thu, 14 Oct 2021) |
| EndedAt: 2021-10-14 11:10:22 -0400 (Thu, 14 Oct 2021) |
| EllapsedTime: 59.4 seconds |
| RetCode: 0 |
| Status: OK |
##############################################################################
##############################################################################
###
### Running command:
###
### C:\cygwin\bin\curl.exe -O http://155.52.207.165/BBS/3.13/bioc/src/contrib/PPInfer_1.18.0.tar.gz && rm -rf PPInfer.buildbin-libdir && mkdir PPInfer.buildbin-libdir && C:\Users\biocbuild\bbs-3.13-bioc\R\bin\R.exe CMD INSTALL --merge-multiarch --build --library=PPInfer.buildbin-libdir PPInfer_1.18.0.tar.gz && C:\Users\biocbuild\bbs-3.13-bioc\R\bin\R.exe CMD INSTALL PPInfer_1.18.0.zip && rm PPInfer_1.18.0.tar.gz PPInfer_1.18.0.zip
###
##############################################################################
##############################################################################
% Total % Received % Xferd Average Speed Time Time Time Current
Dload Upload Total Spent Left Speed
0 0 0 0 0 0 0 0 --:--:-- --:--:-- --:--:-- 0
1 273k 1 3839 0 0 46411 0 0:00:06 --:--:-- 0:00:06 46253
100 273k 100 273k 0 0 1028k 0 --:--:-- --:--:-- --:--:-- 1026k
install for i386
* installing *source* package 'PPInfer' ...
** using staged installation
** R
** inst
** byte-compile and prepare package for lazy loading
** help
*** installing help indices
converting help for package 'PPInfer'
finding HTML links ... done
GSEA.barplot html
ORA html
ORA.barplot html
PPInfer-package html
enrich.net html
net.infer html
net.infer.ST html
net.kernel html
ppi.infer.human html
ppi.infer.mouse html
self.train.kernel html
** building package indices
** installing vignettes
'PPInfer.Rnw'
** testing if installed package can be loaded from temporary location
** testing if installed package can be loaded from final location
** testing if installed package keeps a record of temporary installation path
install for x64
* installing *source* package 'PPInfer' ...
** testing if installed package can be loaded
* MD5 sums
packaged installation of 'PPInfer' as PPInfer_1.18.0.zip
* DONE (PPInfer)
* installing to library 'C:/Users/biocbuild/bbs-3.13-bioc/R/library'
package 'PPInfer' successfully unpacked and MD5 sums checked