Back to Multiple platform build/check report for BioC 3.13 |
|
This page was generated on 2021-10-15 15:06:16 -0400 (Fri, 15 Oct 2021).
To the developers/maintainers of the PICS package: - Please allow up to 24 hours (and sometimes 48 hours) for your latest push to git@git.bioconductor.org:packages/PICS.git to reflect on this report. See How and When does the builder pull? When will my changes propagate? here for more information. - Make sure to use the following settings in order to reproduce any error or warning you see on this page. |
Package 1393/2041 | Hostname | OS / Arch | INSTALL | BUILD | CHECK | BUILD BIN | ||||||||
PICS 2.36.0 (landing page) Renan Sauteraud
| nebbiolo1 | Linux (Ubuntu 20.04.2 LTS) / x86_64 | OK | OK | OK | ![]() | ||||||||
tokay2 | Windows Server 2012 R2 Standard / x64 | OK | OK | OK | OK | ![]() | ||||||||
machv2 | macOS 10.14.6 Mojave / x86_64 | OK | OK | OK | OK | ![]() | ||||||||
Package: PICS |
Version: 2.36.0 |
Command: C:\Users\biocbuild\bbs-3.13-bioc\R\bin\R.exe CMD check --force-multiarch --install=check:PICS.install-out.txt --library=C:\Users\biocbuild\bbs-3.13-bioc\R\library --no-vignettes --timings PICS_2.36.0.tar.gz |
StartedAt: 2021-10-15 03:26:56 -0400 (Fri, 15 Oct 2021) |
EndedAt: 2021-10-15 03:30:33 -0400 (Fri, 15 Oct 2021) |
EllapsedTime: 216.5 seconds |
RetCode: 0 |
Status: OK |
CheckDir: PICS.Rcheck |
Warnings: 0 |
############################################################################## ############################################################################## ### ### Running command: ### ### C:\Users\biocbuild\bbs-3.13-bioc\R\bin\R.exe CMD check --force-multiarch --install=check:PICS.install-out.txt --library=C:\Users\biocbuild\bbs-3.13-bioc\R\library --no-vignettes --timings PICS_2.36.0.tar.gz ### ############################################################################## ############################################################################## * using log directory 'C:/Users/biocbuild/bbs-3.13-bioc/meat/PICS.Rcheck' * using R version 4.1.1 (2021-08-10) * using platform: x86_64-w64-mingw32 (64-bit) * using session charset: ISO8859-1 * using option '--no-vignettes' * checking for file 'PICS/DESCRIPTION' ... OK * checking extension type ... Package * this is package 'PICS' version '2.36.0' * package encoding: UTF-8 * checking package namespace information ... OK * checking package dependencies ... OK * checking if this is a source package ... OK * checking if there is a namespace ... OK * checking for hidden files and directories ... OK * checking for portable file names ... OK * checking whether package 'PICS' can be installed ... OK * checking installed package size ... OK * checking package directory ... OK * checking 'build' directory ... OK * checking DESCRIPTION meta-information ... OK * checking top-level files ... OK * checking for left-over files ... OK * checking index information ... OK * checking package subdirectories ... OK * checking R files for non-ASCII characters ... OK * checking R files for syntax errors ... OK * loading checks for arch 'i386' ** checking whether the package can be loaded ... OK ** checking whether the package can be loaded with stated dependencies ... OK ** checking whether the package can be unloaded cleanly ... OK ** checking whether the namespace can be loaded with stated dependencies ... OK ** checking whether the namespace can be unloaded cleanly ... OK * loading checks for arch 'x64' ** checking whether the package can be loaded ... OK ** checking whether the package can be loaded with stated dependencies ... OK ** checking whether the package can be unloaded cleanly ... OK ** checking whether the namespace can be loaded with stated dependencies ... OK ** checking whether the namespace can be unloaded cleanly ... OK * checking dependencies in R code ... OK * checking S3 generic/method consistency ... OK * checking replacement functions ... OK * checking foreign function calls ... OK * checking R code for possible problems ... OK * checking Rd files ... OK * checking Rd metadata ... OK * checking Rd cross-references ... OK * checking for missing documentation entries ... OK * checking for code/documentation mismatches ... OK * checking Rd \usage sections ... OK * checking Rd contents ... OK * checking for unstated dependencies in examples ... OK * checking line endings in shell scripts ... OK * checking line endings in C/C++/Fortran sources/headers ... OK * checking line endings in Makefiles ... OK * checking compilation flags in Makevars ... NOTE Package has both 'src/Makevars.in' and 'src/Makevars'. Installation with --no-configure' is unlikely to work. If you intended 'src/Makevars' to be used on Windows, rename it to 'src/Makevars.win' otherwise remove it. If 'configure' created 'src/Makevars', you need a 'cleanup' script. * checking for GNU extensions in Makefiles ... OK * checking for portable use of $(BLAS_LIBS) and $(LAPACK_LIBS) ... OK * checking use of PKG_*FLAGS in Makefiles ... OK * checking compiled code ... NOTE Note: information on .o files for i386 is not available Note: information on .o files for x64 is not available File 'C:/Users/biocbuild/bbs-3.13-bioc/R/library/PICS/libs/i386/PICS.dll': Found 'abort', possibly from 'abort' (C), 'runtime' (Fortran) File 'C:/Users/biocbuild/bbs-3.13-bioc/R/library/PICS/libs/x64/PICS.dll': Found 'abort', possibly from 'abort' (C), 'runtime' (Fortran) Compiled code should not call entry points which might terminate R nor write to stdout/stderr instead of to the console, nor use Fortran I/O nor system RNGs. The detected symbols are linked into the code but might come from libraries and not actually be called. See 'Writing portable packages' in the 'Writing R Extensions' manual. * checking files in 'vignettes' ... OK * checking examples ... ** running examples for arch 'i386' ... OK ** running examples for arch 'x64' ... OK * checking for unstated dependencies in vignettes ... OK * checking package vignettes in 'inst/doc' ... OK * checking running R code from vignettes ... SKIPPED * checking re-building of vignette outputs ... SKIPPED * checking PDF version of manual ... OK * DONE Status: 2 NOTEs See 'C:/Users/biocbuild/bbs-3.13-bioc/meat/PICS.Rcheck/00check.log' for details.
PICS.Rcheck/00install.out
############################################################################## ############################################################################## ### ### Running command: ### ### C:\cygwin\bin\curl.exe -O http://155.52.207.165/BBS/3.13/bioc/src/contrib/PICS_2.36.0.tar.gz && rm -rf PICS.buildbin-libdir && mkdir PICS.buildbin-libdir && C:\Users\biocbuild\bbs-3.13-bioc\R\bin\R.exe CMD INSTALL --merge-multiarch --build --library=PICS.buildbin-libdir PICS_2.36.0.tar.gz && C:\Users\biocbuild\bbs-3.13-bioc\R\bin\R.exe CMD INSTALL PICS_2.36.0.zip && rm PICS_2.36.0.tar.gz PICS_2.36.0.zip ### ############################################################################## ############################################################################## % Total % Received % Xferd Average Speed Time Time Time Current Dload Upload Total Spent Left Speed 0 0 0 0 0 0 0 0 --:--:-- --:--:-- --:--:-- 0 24 659k 24 162k 0 0 581k 0 0:00:01 --:--:-- 0:00:01 581k 100 659k 100 659k 0 0 1312k 0 --:--:-- --:--:-- --:--:-- 1311k install for i386 * installing *source* package 'PICS' ... ** using staged installation ********************************************** WARNING: this package has a configure script It probably needs manual configuration ********************************************** ** libs "C:/rtools40/mingw32/bin/"gcc -I"C:/Users/BIOCBU~1/BBS-3~1.13-/R/include" -DNDEBUG -Ifusion_sdk -D_USE_MEM_MAPPING_ -I/i386/include -I"c:/extsoft/include" -O2 -Wall -std=gnu99 -mfpmath=sse -msse2 -mstackrealign -c pics.c -o pics.o pics.c: In function 'ECM2': pics.c:1009:9: warning: variable 'chiSum' set but not used [-Wunused-but-set-variable] double chiSum, etaF, etaR, dd, cc; ^~~~~~ pics.c: In function 'getInfMat': pics.c:1633:76: warning: unused variable 'PhiRw' [-Wunused-variable] double aNormF, aNormR, bNormF, bNormR, P0F=1, P0R=1, PhiF, PhiR, PhiFw, PhiRw, wPjF, wPjR; ^~~~~ pics.c:1633:69: warning: unused variable 'PhiFw' [-Wunused-variable] double aNormF, aNormR, bNormF, bNormR, P0F=1, P0R=1, PhiF, PhiR, PhiFw, PhiRw, wPjF, wPjR; ^~~~~ pics.c: In function 'mergePeak': pics.c:1889:11: warning: unused variable 'j' [-Wunused-variable] int i=0,j=0,k=0,l=0,kMerge=0,flag=0; ^ pics.c:1889:7: warning: unused variable 'i' [-Wunused-variable] int i=0,j=0,k=0,l=0,kMerge=0,flag=0; ^ pics.c: In function 'BIC': pics.c:1307:6: warning: 'penalty' may be used uninitialized in this function [-Wmaybe-uninitialized] bic = logDensityMix(yF, w, muF, sigmaSqF, K, NF) + logDensityMix(yR, w, muR, sigmaSqR, K,NR) - penalty; ~~~~^~~~~~~~~~~~~~~~~~~~~~~~~~~~~~~~~~~~~~~~~~~~~~~~~~~~~~~~~~~~~~~~~~~~~~~~~~~~~~~~~~~~~~~~~~~~~~~~~~ pics.c: In function 'fitModelK': pics.c:421:18: warning: 'firstFit' may be used uninitialized in this function [-Wmaybe-uninitialized] SEXP ans, temp, firstFit; ^~~~~~~~ "C:/rtools40/mingw32/bin/"gcc -I"C:/Users/BIOCBU~1/BBS-3~1.13-/R/include" -DNDEBUG -Ifusion_sdk -D_USE_MEM_MAPPING_ -I/i386/include -I"c:/extsoft/include" -O2 -Wall -std=gnu99 -mfpmath=sse -msse2 -mstackrealign -c segment.c -o segment.o segment.c: In function 'getDensity': segment.c:1494:19: warning: variable 'chr' set but not used [-Wunused-but-set-variable] SEXP ans, x, y, chr, names; ^~~ segment.c:1490:8: warning: unused variable 'filter1' [-Wunused-variable] SEXP filter1; ^~~~~~~ segment.c:1489:11: warning: unused variable 'muFilter' [-Wunused-variable] double *muFilter, *deltaFilter, *sFFilter, *sRFilter, *seFilter, *seFilterF, *seFilterR, *scoreFilter, *score; ^~~~~~~~ C:/rtools40/mingw32/bin/gcc -shared -s -static-libgcc -o PICS.dll tmp.def pics.o segment.o -lws2_32 -L/i386/lib -lgsl -lgslcblas -lm -Lc:/extsoft/lib/i386 -Lc:/extsoft/lib -LC:/Users/BIOCBU~1/BBS-3~1.13-/R/bin/i386 -lR installing to C:/Users/biocbuild/bbs-3.13-bioc/meat/PICS.buildbin-libdir/00LOCK-PICS/00new/PICS/libs/i386 ** R ** inst ** byte-compile and prepare package for lazy loading ** help *** installing help indices converting help for package 'PICS' finding HTML links ... done PICS html bam2gr html candidate.region html makeGRangesOutput html pics-class html pics-generics html picsError-class html picsFDR html picsList-class html plot-FDR html plot-pics html segChrRead html segReads-class html segReadsGeneric html segReadsListPE-class html segReadsPE-class html segmentPICS html setParaEM html setParaPrior html summarySeg html ** building package indices ** installing vignettes ** testing if installed package can be loaded from temporary location ** testing if installed package can be loaded from final location ** testing if installed package keeps a record of temporary installation path install for x64 * installing *source* package 'PICS' ... ********************************************** WARNING: this package has a configure script It probably needs manual configuration ********************************************** ** libs "C:/rtools40/mingw64/bin/"gcc -I"C:/Users/BIOCBU~1/BBS-3~1.13-/R/include" -DNDEBUG -Ifusion_sdk -D_USE_MEM_MAPPING_ -I/x64/include -I"C:/extsoft/include" -O2 -Wall -std=gnu99 -mfpmath=sse -msse2 -mstackrealign -c pics.c -o pics.o pics.c: In function 'ECM2': pics.c:1009:9: warning: variable 'chiSum' set but not used [-Wunused-but-set-variable] double chiSum, etaF, etaR, dd, cc; ^~~~~~ pics.c: In function 'getInfMat': pics.c:1633:76: warning: unused variable 'PhiRw' [-Wunused-variable] double aNormF, aNormR, bNormF, bNormR, P0F=1, P0R=1, PhiF, PhiR, PhiFw, PhiRw, wPjF, wPjR; ^~~~~ pics.c:1633:69: warning: unused variable 'PhiFw' [-Wunused-variable] double aNormF, aNormR, bNormF, bNormR, P0F=1, P0R=1, PhiF, PhiR, PhiFw, PhiRw, wPjF, wPjR; ^~~~~ pics.c: In function 'mergePeak': pics.c:1889:11: warning: unused variable 'j' [-Wunused-variable] int i=0,j=0,k=0,l=0,kMerge=0,flag=0; ^ pics.c:1889:7: warning: unused variable 'i' [-Wunused-variable] int i=0,j=0,k=0,l=0,kMerge=0,flag=0; ^ pics.c: In function 'BIC': pics.c:1307:6: warning: 'penalty' may be used uninitialized in this function [-Wmaybe-uninitialized] bic = logDensityMix(yF, w, muF, sigmaSqF, K, NF) + logDensityMix(yR, w, muR, sigmaSqR, K,NR) - penalty; ~~~~^~~~~~~~~~~~~~~~~~~~~~~~~~~~~~~~~~~~~~~~~~~~~~~~~~~~~~~~~~~~~~~~~~~~~~~~~~~~~~~~~~~~~~~~~~~~~~~~~~ pics.c: In function 'fitModelK': pics.c:421:18: warning: 'firstFit' may be used uninitialized in this function [-Wmaybe-uninitialized] SEXP ans, temp, firstFit; ^~~~~~~~ "C:/rtools40/mingw64/bin/"gcc -I"C:/Users/BIOCBU~1/BBS-3~1.13-/R/include" -DNDEBUG -Ifusion_sdk -D_USE_MEM_MAPPING_ -I/x64/include -I"C:/extsoft/include" -O2 -Wall -std=gnu99 -mfpmath=sse -msse2 -mstackrealign -c segment.c -o segment.o segment.c: In function 'getDensity': segment.c:1494:19: warning: variable 'chr' set but not used [-Wunused-but-set-variable] SEXP ans, x, y, chr, names; ^~~ segment.c:1490:8: warning: unused variable 'filter1' [-Wunused-variable] SEXP filter1; ^~~~~~~ segment.c:1489:11: warning: unused variable 'muFilter' [-Wunused-variable] double *muFilter, *deltaFilter, *sFFilter, *sRFilter, *seFilter, *seFilterF, *seFilterR, *scoreFilter, *score; ^~~~~~~~ C:/rtools40/mingw64/bin/gcc -shared -s -static-libgcc -o PICS.dll tmp.def pics.o segment.o -lws2_32 -L/x64/lib -lgsl -lgslcblas -lm -LC:/extsoft/lib/x64 -LC:/extsoft/lib -LC:/Users/BIOCBU~1/BBS-3~1.13-/R/bin/x64 -lR installing to C:/Users/biocbuild/bbs-3.13-bioc/meat/PICS.buildbin-libdir/PICS/libs/x64 ** testing if installed package can be loaded * MD5 sums packaged installation of 'PICS' as PICS_2.36.0.zip * DONE (PICS) * installing to library 'C:/Users/biocbuild/bbs-3.13-bioc/R/library' package 'PICS' successfully unpacked and MD5 sums checked
PICS.Rcheck/examples_i386/PICS-Ex.timings
|
PICS.Rcheck/examples_x64/PICS-Ex.timings
|