| Back to Multiple platform build/check report for BioC 3.13 |
|
This page was generated on 2021-10-15 15:06:15 -0400 (Fri, 15 Oct 2021).
|
To the developers/maintainers of the PFP package: - Please allow up to 24 hours (and sometimes 48 hours) for your latest push to git@git.bioconductor.org:packages/PFP.git to reflect on this report. See How and When does the builder pull? When will my changes propagate? here for more information. - Make sure to use the following settings in order to reproduce any error or warning you see on this page. |
| Package 1375/2041 | Hostname | OS / Arch | INSTALL | BUILD | CHECK | BUILD BIN | ||||||||
| PFP 1.0.0 (landing page) XC Zhang
| nebbiolo1 | Linux (Ubuntu 20.04.2 LTS) / x86_64 | OK | OK | OK | |||||||||
| tokay2 | Windows Server 2012 R2 Standard / x64 | OK | OK | OK | OK | |||||||||
| machv2 | macOS 10.14.6 Mojave / x86_64 | OK | OK | OK | OK | |||||||||
| Package: PFP |
| Version: 1.0.0 |
| Command: C:\cygwin\bin\curl.exe -O http://155.52.207.165/BBS/3.13/bioc/src/contrib/PFP_1.0.0.tar.gz && rm -rf PFP.buildbin-libdir && mkdir PFP.buildbin-libdir && C:\Users\biocbuild\bbs-3.13-bioc\R\bin\R.exe CMD INSTALL --merge-multiarch --build --library=PFP.buildbin-libdir PFP_1.0.0.tar.gz && C:\Users\biocbuild\bbs-3.13-bioc\R\bin\R.exe CMD INSTALL PFP_1.0.0.zip && rm PFP_1.0.0.tar.gz PFP_1.0.0.zip |
| StartedAt: 2021-10-14 10:47:36 -0400 (Thu, 14 Oct 2021) |
| EndedAt: 2021-10-14 10:49:45 -0400 (Thu, 14 Oct 2021) |
| EllapsedTime: 128.5 seconds |
| RetCode: 0 |
| Status: OK |
##############################################################################
##############################################################################
###
### Running command:
###
### C:\cygwin\bin\curl.exe -O http://155.52.207.165/BBS/3.13/bioc/src/contrib/PFP_1.0.0.tar.gz && rm -rf PFP.buildbin-libdir && mkdir PFP.buildbin-libdir && C:\Users\biocbuild\bbs-3.13-bioc\R\bin\R.exe CMD INSTALL --merge-multiarch --build --library=PFP.buildbin-libdir PFP_1.0.0.tar.gz && C:\Users\biocbuild\bbs-3.13-bioc\R\bin\R.exe CMD INSTALL PFP_1.0.0.zip && rm PFP_1.0.0.tar.gz PFP_1.0.0.zip
###
##############################################################################
##############################################################################
% Total % Received % Xferd Average Speed Time Time Time Current
Dload Upload Total Spent Left Speed
0 0 0 0 0 0 0 0 --:--:-- --:--:-- --:--:-- 0
0 1191k 0 9235 0 0 109k 0 0:00:10 --:--:-- 0:00:10 108k
70 1191k 70 841k 0 0 771k 0 0:00:01 0:00:01 --:--:-- 771k
100 1191k 100 1191k 0 0 922k 0 0:00:01 0:00:01 --:--:-- 922k
install for i386
* installing *source* package 'PFP' ...
** using staged installation
** R
** data
** byte-compile and prepare package for lazy loading
** help
*** installing help indices
converting help for package 'PFP'
finding HTML links ... done
PFP-class html
PFP html
PFPRefnet-class html
PFPRefnet_hsa html
PFPRefnet_mmu html
PFP_score-methods html
PFP_test1 html
PFP_test2 html
calc_PFP_score html
data_std html
gene_list_hsa html
genes_score-methods html
get_PFPRefnet html
get_asso_net html
get_bg_related_kegg html
get_exp_cor_edges html
get_pathway_info html
group-methods html
kegg_download html
net_info-methods html
net_names-methods html
network-methods html
pathway_info html
pathway_info_hsa html
pathways_score-methods html
plot_PFP-methods html
plot_PFPlist html
rank_PFP-methods html
refnet_info-methods html
refnet_names-methods html
result_PFP-methods html
show_PFP-methods html
show_net-methods html
stats_test-methods html
sub_PFP-methods html
subnet-methods html
trans_edges_id html
trans_graph2PFPRefnet html
finding level-2 HTML links ... done
trans_xml2graph html
** building package indices
** installing vignettes
** testing if installed package can be loaded from temporary location
** testing if installed package can be loaded from final location
** testing if installed package keeps a record of temporary installation path
install for x64
* installing *source* package 'PFP' ...
** testing if installed package can be loaded
* MD5 sums
packaged installation of 'PFP' as PFP_1.0.0.zip
* DONE (PFP)
* installing to library 'C:/Users/biocbuild/bbs-3.13-bioc/R/library'
package 'PFP' successfully unpacked and MD5 sums checked