| Back to Multiple platform build/check report for BioC 3.13 |
|
This page was generated on 2021-10-15 15:06:15 -0400 (Fri, 15 Oct 2021).
|
To the developers/maintainers of the PCpheno package: - Please allow up to 24 hours (and sometimes 48 hours) for your latest push to git@git.bioconductor.org:packages/PCpheno.git to reflect on this report. See How and When does the builder pull? When will my changes propagate? here for more information. - Make sure to use the following settings in order to reproduce any error or warning you see on this page. |
| Package 1361/2041 | Hostname | OS / Arch | INSTALL | BUILD | CHECK | BUILD BIN | ||||||||
Nolwenn Le Meur
| nebbiolo1 | Linux (Ubuntu 20.04.2 LTS) / x86_64 | ERROR | ERROR | skipped | |||||||||
| tokay2 | Windows Server 2012 R2 Standard / x64 | ERROR | ERROR | skipped | skipped | |||||||||
| machv2 | macOS 10.14.6 Mojave / x86_64 | ERROR | ERROR | skipped | skipped | |||||||||
| Package: PCpheno |
| Version: 1.54.0 |
| Command: C:\cygwin\bin\curl.exe -O http://155.52.207.165/BBS/3.13/bioc/src/contrib/PCpheno_1.54.0.tar.gz && rm -rf PCpheno.buildbin-libdir && mkdir PCpheno.buildbin-libdir && C:\Users\biocbuild\bbs-3.13-bioc\R\bin\R.exe CMD INSTALL --merge-multiarch --build --library=PCpheno.buildbin-libdir PCpheno_1.54.0.tar.gz && C:\Users\biocbuild\bbs-3.13-bioc\R\bin\R.exe CMD INSTALL PCpheno_1.54.0.zip && rm PCpheno_1.54.0.tar.gz PCpheno_1.54.0.zip |
| StartedAt: 2021-10-14 11:28:00 -0400 (Thu, 14 Oct 2021) |
| EndedAt: 2021-10-14 11:28:02 -0400 (Thu, 14 Oct 2021) |
| EllapsedTime: 1.8 seconds |
| RetCode: 1 |
| Status: ERROR |
##############################################################################
##############################################################################
###
### Running command:
###
### C:\cygwin\bin\curl.exe -O http://155.52.207.165/BBS/3.13/bioc/src/contrib/PCpheno_1.54.0.tar.gz && rm -rf PCpheno.buildbin-libdir && mkdir PCpheno.buildbin-libdir && C:\Users\biocbuild\bbs-3.13-bioc\R\bin\R.exe CMD INSTALL --merge-multiarch --build --library=PCpheno.buildbin-libdir PCpheno_1.54.0.tar.gz && C:\Users\biocbuild\bbs-3.13-bioc\R\bin\R.exe CMD INSTALL PCpheno_1.54.0.zip && rm PCpheno_1.54.0.tar.gz PCpheno_1.54.0.zip
###
##############################################################################
##############################################################################
% Total % Received % Xferd Average Speed Time Time Time Current
Dload Upload Total Spent Left Speed
0 0 0 0 0 0 0 0 --:--:-- --:--:-- --:--:-- 0
100 810k 100 810k 0 0 1719k 0 --:--:-- --:--:-- --:--:-- 1721k
install for i386
ERROR: dependency 'KEGG.db' is not available for package 'PCpheno'
* removing 'C:/Users/biocbuild/bbs-3.13-bioc/meat/PCpheno.buildbin-libdir/PCpheno'