| Back to Multiple platform build/check report for BioC 3.13 |
|
This page was generated on 2021-10-15 15:06:15 -0400 (Fri, 15 Oct 2021).
|
To the developers/maintainers of the PCAtools package: - Please allow up to 24 hours (and sometimes 48 hours) for your latest push to git@git.bioconductor.org:packages/PCAtools.git to reflect on this report. See How and When does the builder pull? When will my changes propagate? here for more information. - Make sure to use the following settings in order to reproduce any error or warning you see on this page. |
| Package 1359/2041 | Hostname | OS / Arch | INSTALL | BUILD | CHECK | BUILD BIN | ||||||||
| PCAtools 2.4.0 (landing page) Kevin Blighe
| nebbiolo1 | Linux (Ubuntu 20.04.2 LTS) / x86_64 | OK | ERROR | skipped | |||||||||
| tokay2 | Windows Server 2012 R2 Standard / x64 | OK | ERROR | skipped | skipped | |||||||||
| machv2 | macOS 10.14.6 Mojave / x86_64 | OK | ERROR | skipped | skipped | |||||||||
| Package: PCAtools |
| Version: 2.4.0 |
| Command: C:\cygwin\bin\curl.exe -O http://155.52.207.165/BBS/3.13/bioc/src/contrib/PCAtools_2.4.0.tar.gz && rm -rf PCAtools.buildbin-libdir && mkdir PCAtools.buildbin-libdir && C:\Users\biocbuild\bbs-3.13-bioc\R\bin\R.exe CMD INSTALL --merge-multiarch --build --library=PCAtools.buildbin-libdir PCAtools_2.4.0.tar.gz && C:\Users\biocbuild\bbs-3.13-bioc\R\bin\R.exe CMD INSTALL PCAtools_2.4.0.zip && rm PCAtools_2.4.0.tar.gz PCAtools_2.4.0.zip |
| StartedAt: 2021-10-14 08:54:34 -0400 (Thu, 14 Oct 2021) |
| EndedAt: 2021-10-14 08:55:49 -0400 (Thu, 14 Oct 2021) |
| EllapsedTime: 75.1 seconds |
| RetCode: 0 |
| Status: OK |
##############################################################################
##############################################################################
###
### Running command:
###
### C:\cygwin\bin\curl.exe -O http://155.52.207.165/BBS/3.13/bioc/src/contrib/PCAtools_2.4.0.tar.gz && rm -rf PCAtools.buildbin-libdir && mkdir PCAtools.buildbin-libdir && C:\Users\biocbuild\bbs-3.13-bioc\R\bin\R.exe CMD INSTALL --merge-multiarch --build --library=PCAtools.buildbin-libdir PCAtools_2.4.0.tar.gz && C:\Users\biocbuild\bbs-3.13-bioc\R\bin\R.exe CMD INSTALL PCAtools_2.4.0.zip && rm PCAtools_2.4.0.tar.gz PCAtools_2.4.0.zip
###
##############################################################################
##############################################################################
% Total % Received % Xferd Average Speed Time Time Time Current
Dload Upload Total Spent Left Speed
0 0 0 0 0 0 0 0 --:--:-- --:--:-- --:--:-- 0
17 5525k 17 947k 0 0 1817k 0 0:00:03 --:--:-- 0:00:03 1815k
77 5525k 77 4291k 0 0 2831k 0 0:00:01 0:00:01 --:--:-- 2830k
100 5525k 100 5525k 0 0 3042k 0 0:00:01 0:00:01 --:--:-- 3042k
install for i386
* installing *source* package 'PCAtools' ...
** using staged installation
** libs
"C:/rtools40/mingw32/bin/"g++ -std=gnu++11 -I"C:/Users/BIOCBU~1/BBS-3~1.13-/R/include" -DNDEBUG -I'C:/Users/biocbuild/bbs-3.13-bioc/R/library/Rcpp/include' -I'C:/Users/biocbuild/bbs-3.13-bioc/R/library/beachmat/include' -I'C:/Users/biocbuild/bbs-3.13-bioc/R/library/BH/include' -I'C:/Users/biocbuild/bbs-3.13-bioc/R/library/dqrng/include' -I"c:/extsoft/include" -O2 -Wall -mfpmath=sse -msse2 -mstackrealign -c RcppExports.cpp -o RcppExports.o
"C:/rtools40/mingw32/bin/"g++ -std=gnu++11 -I"C:/Users/BIOCBU~1/BBS-3~1.13-/R/include" -DNDEBUG -I'C:/Users/biocbuild/bbs-3.13-bioc/R/library/Rcpp/include' -I'C:/Users/biocbuild/bbs-3.13-bioc/R/library/beachmat/include' -I'C:/Users/biocbuild/bbs-3.13-bioc/R/library/BH/include' -I'C:/Users/biocbuild/bbs-3.13-bioc/R/library/dqrng/include' -I"c:/extsoft/include" -O2 -Wall -mfpmath=sse -msse2 -mstackrealign -c shuffle_matrix.cpp -o shuffle_matrix.o
In file included from C:/Users/biocbuild/bbs-3.13-bioc/R/library/BH/include/boost/mpl/aux_/na_assert.hpp:23,
from C:/Users/biocbuild/bbs-3.13-bioc/R/library/BH/include/boost/mpl/arg.hpp:25,
from C:/Users/biocbuild/bbs-3.13-bioc/R/library/BH/include/boost/mpl/placeholders.hpp:24,
from C:/Users/biocbuild/bbs-3.13-bioc/R/library/BH/include/boost/mpl/apply.hpp:24,
from C:/Users/biocbuild/bbs-3.13-bioc/R/library/BH/include/boost/mpl/aux_/iter_apply.hpp:17,
from C:/Users/biocbuild/bbs-3.13-bioc/R/library/BH/include/boost/mpl/aux_/find_if_pred.hpp:14,
from C:/Users/biocbuild/bbs-3.13-bioc/R/library/BH/include/boost/mpl/find_if.hpp:17,
from C:/Users/biocbuild/bbs-3.13-bioc/R/library/BH/include/boost/mpl/find.hpp:17,
from C:/Users/biocbuild/bbs-3.13-bioc/R/library/BH/include/boost/mpl/aux_/contains_impl.hpp:20,
from C:/Users/biocbuild/bbs-3.13-bioc/R/library/BH/include/boost/mpl/contains.hpp:20,
from C:/Users/biocbuild/bbs-3.13-bioc/R/library/BH/include/boost/math/policies/policy.hpp:10,
from C:/Users/biocbuild/bbs-3.13-bioc/R/library/BH/include/boost/math/special_functions/math_fwd.hpp:29,
from C:/Users/biocbuild/bbs-3.13-bioc/R/library/BH/include/boost/math/special_functions/fpclassify.hpp:19,
from C:/Users/biocbuild/bbs-3.13-bioc/R/library/BH/include/boost/random/hyperexponential_distribution.hpp:22,
from C:/Users/biocbuild/bbs-3.13-bioc/R/library/BH/include/boost/random.hpp:69,
from shuffle_matrix.cpp:4:
C:/Users/biocbuild/bbs-3.13-bioc/R/library/BH/include/boost/mpl/assert.hpp:194:21: warning: unnecessary parentheses in declaration of 'assert_arg' [-Wparentheses]
failed ************ (Pred::************
^
C:/Users/biocbuild/bbs-3.13-bioc/R/library/BH/include/boost/mpl/assert.hpp:199:21: warning: unnecessary parentheses in declaration of 'assert_not_arg' [-Wparentheses]
failed ************ (boost::mpl::not_<Pred>::************
^
C:/rtools40/mingw32/bin/g++ -shared -s -static-libgcc -o PCAtools.dll tmp.def RcppExports.o shuffle_matrix.o -Lc:/extsoft/lib/i386 -Lc:/extsoft/lib -LC:/Users/BIOCBU~1/BBS-3~1.13-/R/bin/i386 -lR
installing to C:/Users/biocbuild/bbs-3.13-bioc/meat/PCAtools.buildbin-libdir/00LOCK-PCAtools/00new/PCAtools/libs/i386
** R
** inst
** byte-compile and prepare package for lazy loading
** help
*** installing help indices
converting help for package 'PCAtools'
finding HTML links ... done
biplot html
finding level-2 HTML links ... done
chooseGavishDonoho html
chooseMarchenkoPastur html
eigencorplot html
findElbowPoint html
getComponents html
getLoadings html
getVars html
pairsplot html
parallelPCA html
pca html
plotloadings html
screeplot html
** building package indices
** installing vignettes
** testing if installed package can be loaded from temporary location
** testing if installed package can be loaded from final location
** testing if installed package keeps a record of temporary installation path
install for x64
* installing *source* package 'PCAtools' ...
** libs
"C:/rtools40/mingw64/bin/"g++ -std=gnu++11 -I"C:/Users/BIOCBU~1/BBS-3~1.13-/R/include" -DNDEBUG -I'C:/Users/biocbuild/bbs-3.13-bioc/R/library/Rcpp/include' -I'C:/Users/biocbuild/bbs-3.13-bioc/R/library/beachmat/include' -I'C:/Users/biocbuild/bbs-3.13-bioc/R/library/BH/include' -I'C:/Users/biocbuild/bbs-3.13-bioc/R/library/dqrng/include' -I"C:/extsoft/include" -O2 -Wall -mfpmath=sse -msse2 -mstackrealign -c RcppExports.cpp -o RcppExports.o
"C:/rtools40/mingw64/bin/"g++ -std=gnu++11 -I"C:/Users/BIOCBU~1/BBS-3~1.13-/R/include" -DNDEBUG -I'C:/Users/biocbuild/bbs-3.13-bioc/R/library/Rcpp/include' -I'C:/Users/biocbuild/bbs-3.13-bioc/R/library/beachmat/include' -I'C:/Users/biocbuild/bbs-3.13-bioc/R/library/BH/include' -I'C:/Users/biocbuild/bbs-3.13-bioc/R/library/dqrng/include' -I"C:/extsoft/include" -O2 -Wall -mfpmath=sse -msse2 -mstackrealign -c shuffle_matrix.cpp -o shuffle_matrix.o
In file included from C:/Users/biocbuild/bbs-3.13-bioc/R/library/BH/include/boost/mpl/aux_/na_assert.hpp:23,
from C:/Users/biocbuild/bbs-3.13-bioc/R/library/BH/include/boost/mpl/arg.hpp:25,
from C:/Users/biocbuild/bbs-3.13-bioc/R/library/BH/include/boost/mpl/placeholders.hpp:24,
from C:/Users/biocbuild/bbs-3.13-bioc/R/library/BH/include/boost/mpl/apply.hpp:24,
from C:/Users/biocbuild/bbs-3.13-bioc/R/library/BH/include/boost/mpl/aux_/iter_apply.hpp:17,
from C:/Users/biocbuild/bbs-3.13-bioc/R/library/BH/include/boost/mpl/aux_/find_if_pred.hpp:14,
from C:/Users/biocbuild/bbs-3.13-bioc/R/library/BH/include/boost/mpl/find_if.hpp:17,
from C:/Users/biocbuild/bbs-3.13-bioc/R/library/BH/include/boost/mpl/find.hpp:17,
from C:/Users/biocbuild/bbs-3.13-bioc/R/library/BH/include/boost/mpl/aux_/contains_impl.hpp:20,
from C:/Users/biocbuild/bbs-3.13-bioc/R/library/BH/include/boost/mpl/contains.hpp:20,
from C:/Users/biocbuild/bbs-3.13-bioc/R/library/BH/include/boost/math/policies/policy.hpp:10,
from C:/Users/biocbuild/bbs-3.13-bioc/R/library/BH/include/boost/math/special_functions/math_fwd.hpp:29,
from C:/Users/biocbuild/bbs-3.13-bioc/R/library/BH/include/boost/math/special_functions/fpclassify.hpp:19,
from C:/Users/biocbuild/bbs-3.13-bioc/R/library/BH/include/boost/random/hyperexponential_distribution.hpp:22,
from C:/Users/biocbuild/bbs-3.13-bioc/R/library/BH/include/boost/random.hpp:69,
from shuffle_matrix.cpp:4:
C:/Users/biocbuild/bbs-3.13-bioc/R/library/BH/include/boost/mpl/assert.hpp:194:21: warning: unnecessary parentheses in declaration of 'assert_arg' [-Wparentheses]
failed ************ (Pred::************
^
C:/Users/biocbuild/bbs-3.13-bioc/R/library/BH/include/boost/mpl/assert.hpp:199:21: warning: unnecessary parentheses in declaration of 'assert_not_arg' [-Wparentheses]
failed ************ (boost::mpl::not_<Pred>::************
^
C:/rtools40/mingw64/bin/g++ -shared -s -static-libgcc -o PCAtools.dll tmp.def RcppExports.o shuffle_matrix.o -LC:/extsoft/lib/x64 -LC:/extsoft/lib -LC:/Users/BIOCBU~1/BBS-3~1.13-/R/bin/x64 -lR
installing to C:/Users/biocbuild/bbs-3.13-bioc/meat/PCAtools.buildbin-libdir/PCAtools/libs/x64
** testing if installed package can be loaded
* MD5 sums
packaged installation of 'PCAtools' as PCAtools_2.4.0.zip
* DONE (PCAtools)
* installing to library 'C:/Users/biocbuild/bbs-3.13-bioc/R/library'
package 'PCAtools' successfully unpacked and MD5 sums checked