| Back to Multiple platform build/check report for BioC 3.13 | 
 | 
This page was generated on 2021-10-15 15:06:15 -0400 (Fri, 15 Oct 2021).
| To the developers/maintainers of the Oscope package: - Please allow up to 24 hours (and sometimes 48 hours) for your latest push to git@git.bioconductor.org:packages/Oscope.git to reflect on this report. See How and When does the builder pull? When will my changes propagate? here for more information. - Make sure to use the following settings in order to reproduce any error or warning you see on this page. | 
| Package 1327/2041 | Hostname | OS / Arch | INSTALL | BUILD | CHECK | BUILD BIN | ||||||||
| Oscope 1.22.0  (landing page) Ning Leng 
 | nebbiolo1 | Linux (Ubuntu 20.04.2 LTS) / x86_64 | OK | OK | OK |  | ||||||||
| tokay2 | Windows Server 2012 R2 Standard / x64 | OK | OK | OK | OK |  | ||||||||
| machv2 | macOS 10.14.6 Mojave / x86_64 | OK | OK | OK | OK |  | ||||||||
| Package: Oscope | 
| Version: 1.22.0 | 
| Command: C:\cygwin\bin\curl.exe -O http://155.52.207.165/BBS/3.13/bioc/src/contrib/Oscope_1.22.0.tar.gz && rm -rf Oscope.buildbin-libdir && mkdir Oscope.buildbin-libdir && C:\Users\biocbuild\bbs-3.13-bioc\R\bin\R.exe CMD INSTALL --merge-multiarch --build --library=Oscope.buildbin-libdir Oscope_1.22.0.tar.gz && C:\Users\biocbuild\bbs-3.13-bioc\R\bin\R.exe CMD INSTALL Oscope_1.22.0.zip && rm Oscope_1.22.0.tar.gz Oscope_1.22.0.zip | 
| StartedAt: 2021-10-14 08:39:32 -0400 (Thu, 14 Oct 2021) | 
| EndedAt: 2021-10-14 08:40:16 -0400 (Thu, 14 Oct 2021) | 
| EllapsedTime: 43.6 seconds | 
| RetCode: 0 | 
| Status: OK | 
##############################################################################
##############################################################################
###
### Running command:
###
###   C:\cygwin\bin\curl.exe -O http://155.52.207.165/BBS/3.13/bioc/src/contrib/Oscope_1.22.0.tar.gz && rm -rf Oscope.buildbin-libdir && mkdir Oscope.buildbin-libdir && C:\Users\biocbuild\bbs-3.13-bioc\R\bin\R.exe CMD INSTALL --merge-multiarch --build --library=Oscope.buildbin-libdir Oscope_1.22.0.tar.gz && C:\Users\biocbuild\bbs-3.13-bioc\R\bin\R.exe CMD INSTALL Oscope_1.22.0.zip && rm Oscope_1.22.0.tar.gz Oscope_1.22.0.zip
###
##############################################################################
##############################################################################
  % Total    % Received % Xferd  Average Speed   Time    Time     Time  Current
                                 Dload  Upload   Total   Spent    Left  Speed
  0     0    0     0    0     0      0      0 --:--:-- --:--:-- --:--:--     0
 44  535k   44  238k    0     0   818k      0 --:--:-- --:--:-- --:--:--  819k
100  535k  100  535k    0     0  1286k      0 --:--:-- --:--:-- --:--:-- 1286k
install for i386
* installing *source* package 'Oscope' ...
** using staged installation
** R
** data
** demo
** byte-compile and prepare package for lazy loading
** help
*** installing help indices
  converting help for package 'Oscope'
    finding HTML links ... done
    AbsCor                                  html  
    CalcMV                                  html  
    FlagCluster                             html  
    FormatSineOut                           html  
    ImpShift                                html  
    NISFun                                  html  
    NormForSine                             html  
    Opt2Shift                               html  
    Oscope-package                          html  
    OscopeENI                               html  
    OscopeExampleData                       html  
    OscopeKM                                html  
    OscopeSine                              html  
    PermuCut                                html  
    PipeR                                   html  
    PipeShiftCDF                            html  
    SineFun                                 html  
    SineOptim                               html  
    scanK                                   html  
** building package indices
** installing vignettes
** testing if installed package can be loaded from temporary location
** testing if installed package can be loaded from final location
** testing if installed package keeps a record of temporary installation path
install for x64
* installing *source* package 'Oscope' ...
** testing if installed package can be loaded
* MD5 sums
packaged installation of 'Oscope' as Oscope_1.22.0.zip
* DONE (Oscope)
* installing to library 'C:/Users/biocbuild/bbs-3.13-bioc/R/library'
package 'Oscope' successfully unpacked and MD5 sums checked