| Back to Multiple platform build/check report for BioC 3.13 |
|
This page was generated on 2021-10-15 15:06:14 -0400 (Fri, 15 Oct 2021).
|
To the developers/maintainers of the OMICsPCA package: - Please allow up to 24 hours (and sometimes 48 hours) for your latest push to git@git.bioconductor.org:packages/OMICsPCA.git to reflect on this report. See How and When does the builder pull? When will my changes propagate? here for more information. - Make sure to use the following settings in order to reproduce any error or warning you see on this page. |
| Package 1301/2041 | Hostname | OS / Arch | INSTALL | BUILD | CHECK | BUILD BIN | ||||||||
| OMICsPCA 1.10.0 (landing page) Subhadeep Das
| nebbiolo1 | Linux (Ubuntu 20.04.2 LTS) / x86_64 | OK | OK | OK | |||||||||
| tokay2 | Windows Server 2012 R2 Standard / x64 | OK | OK | OK | OK | |||||||||
| machv2 | macOS 10.14.6 Mojave / x86_64 | OK | OK | OK | OK | |||||||||
| Package: OMICsPCA |
| Version: 1.10.0 |
| Command: rm -rf OMICsPCA.buildbin-libdir && mkdir OMICsPCA.buildbin-libdir && C:\Users\biocbuild\bbs-3.13-bioc\R\bin\R.exe CMD INSTALL --merge-multiarch --build --library=OMICsPCA.buildbin-libdir OMICsPCA_1.10.0.tar.gz |
| StartedAt: 2021-10-15 10:46:35 -0400 (Fri, 15 Oct 2021) |
| EndedAt: 2021-10-15 10:48:04 -0400 (Fri, 15 Oct 2021) |
| EllapsedTime: 88.5 seconds |
| RetCode: 0 |
| Status: OK |
| PackageFile: OMICsPCA_1.10.0.zip |
| PackageFileSize: 1.677 MiB |
##############################################################################
##############################################################################
###
### Running command:
###
### rm -rf OMICsPCA.buildbin-libdir && mkdir OMICsPCA.buildbin-libdir && C:\Users\biocbuild\bbs-3.13-bioc\R\bin\R.exe CMD INSTALL --merge-multiarch --build --library=OMICsPCA.buildbin-libdir OMICsPCA_1.10.0.tar.gz
###
##############################################################################
##############################################################################
install for i386
* installing *source* package 'OMICsPCA' ...
** using staged installation
** R
** inst
** byte-compile and prepare package for lazy loading
** help
*** installing help indices
converting help for package 'OMICsPCA'
finding HTML links ... done
analyse_individuals html
analyse_integrated_individuals html
analyse_integrated_variables html
analyse_variables html
chart_correlation html
cluster html
cluster_boxplot html
cluster_parameters html
create_group html
descriptor html
extract html
extract_assay html
integrate_pca html
integrate_variables html
intersect html
merge_cells html
plot_density html
plot_density_3D html
plot_integrated_density html
plot_integrated_density_3D html
prepare_dataset html
** building package indices
** installing vignettes
** testing if installed package can be loaded from temporary location
** testing if installed package can be loaded from final location
** testing if installed package keeps a record of temporary installation path
install for x64
* installing *source* package 'OMICsPCA' ...
** testing if installed package can be loaded
* MD5 sums
packaged installation of 'OMICsPCA' as OMICsPCA_1.10.0.zip
* DONE (OMICsPCA)