| Back to Multiple platform build/check report for BioC 3.13 | 
 | 
This page was generated on 2021-10-15 15:06:14 -0400 (Fri, 15 Oct 2021).
| To the developers/maintainers of the OCplus package: - Please allow up to 24 hours (and sometimes 48 hours) for your latest push to git@git.bioconductor.org:packages/OCplus.git to reflect on this report. See How and When does the builder pull? When will my changes propagate? here for more information. - Make sure to use the following settings in order to reproduce any error or warning you see on this page. | 
| Package 1289/2041 | Hostname | OS / Arch | INSTALL | BUILD | CHECK | BUILD BIN | ||||||||
| OCplus 1.66.0  (landing page) Alexander Ploner 
 | nebbiolo1 | Linux (Ubuntu 20.04.2 LTS) / x86_64 | OK | OK | OK | |||||||||
| tokay2 | Windows Server 2012 R2 Standard / x64 | OK | OK | OK | OK | |||||||||
| machv2 | macOS 10.14.6 Mojave / x86_64 | OK | OK | OK | OK | |||||||||
| Package: OCplus | 
| Version: 1.66.0 | 
| Command: rm -rf OCplus.buildbin-libdir && mkdir OCplus.buildbin-libdir && C:\Users\biocbuild\bbs-3.13-bioc\R\bin\R.exe CMD INSTALL --merge-multiarch --build --library=OCplus.buildbin-libdir OCplus_1.66.0.tar.gz | 
| StartedAt: 2021-10-15 10:45:04 -0400 (Fri, 15 Oct 2021) | 
| EndedAt: 2021-10-15 10:46:18 -0400 (Fri, 15 Oct 2021) | 
| EllapsedTime: 74.2 seconds | 
| RetCode: 0 | 
| Status: OK | 
| PackageFile: OCplus_1.66.0.zip | 
| PackageFileSize: 9.762 MiB | 
##############################################################################
##############################################################################
###
### Running command:
###
###   rm -rf OCplus.buildbin-libdir && mkdir OCplus.buildbin-libdir && C:\Users\biocbuild\bbs-3.13-bioc\R\bin\R.exe CMD INSTALL --merge-multiarch --build --library=OCplus.buildbin-libdir OCplus_1.66.0.tar.gz
###
##############################################################################
##############################################################################
install for i386
* installing *source* package 'OCplus' ...
** using staged installation
** R
** inst
** byte-compile and prepare package for lazy loading
** help
*** installing help indices
  converting help for package 'OCplus'
    finding HTML links ... done
    DrawContourlines                        html  
    EOC                                     html  
    FDR                                     html  
    MAsim.smyth                             html  
    OCshow                                  html  
    TOC                                     html  
    Undocumented                            html  
    average.fdr                             html  
    fdr1d                                   html  
    fdr2d                                   html  
    plot.FDR.result                         html  
    plot.fdr1d.result                       html  
    plot.fdr2d.result                       html  
    samplesize                              html  
    smooth1d                                html  
    summary.fdr.result                      html  
    tMixture                                html  
    tstatistics                             html  
** building package indices
** installing vignettes
** testing if installed package can be loaded from temporary location
** testing if installed package can be loaded from final location
** testing if installed package keeps a record of temporary installation path
install for x64
* installing *source* package 'OCplus' ...
** testing if installed package can be loaded
* MD5 sums
packaged installation of 'OCplus' as OCplus_1.66.0.zip
* DONE (OCplus)